{"text_format":"1","workbook":"xlsx","n_sheets":16,"sheets":["東北総体","男子エントリー","女子エントリー","リレー申込(男女)","リレーオーダー用紙","男女エントリー(OP)","種目別一覧表","団体総括申込","個人申込一覧表","relay","kyougi","所属一覧","リスト","団体名","登録名簿","エントリー種目確認"],"not_rendered":{"charts":0,"images":2,"macros":1,"external_links":0,"defined_names":12,"comments":0,"pivot_tables":0},"unopened":[],"bounds":{"document_bytes":16777216,"sheet_cells":100000,"rows_first":2000,"rows_last":500,"rows_between":2000,"halvings":0,"cell_chars":16384,"cell_head_chars":4096},"cells_cut":0,"cells_raw":0,"read":"whole","date_system":"1900"}

{"sheet":"東北総体","index":0,"n_rows":44,"n_cols":19,"rows_kept":44,"cut":false,"hidden":false,"merged":[[32,2,33,9],[30,2,31,5],[30,0,31,1],[32,0,33,1],[18,0,19,1],[24,0,25,1],[18,2,19,5],[12,0,13,1],[12,2,13,5],[28,0,29,1],[28,2,29,9],[27,3,27,5],[21,0,22,1],[24,2,25,5],[12,6,13,6],[12,7,13,10],[21,2,22,5],[0,0,2,10],[4,3,5,7],[10,0,11,1],[10,2,11,10],[8,10,9,10],[8,8,9,9],[8,0,9,1],[8,2,9,2]]}
["第69回東北地区大学体育大会陸上競技"]
[]
[null,null,null,null,null,null,null,null,null,null,null,null,null,null,"会津大学短期大学部",101,"会津大短大部","ｱｲﾂﾞﾀﾞｲﾀﾝﾀﾞｲﾌﾞ","会津大学短期大学部"]
[null,null,null,null,null,null,null,null,null,null,null,null,null,null,"青森県立保健大学",102,"青森保大","ｱｵﾓﾘｹﾝﾘﾂﾎｹﾝ","青森県立保健大学"]
[null,null,null,"エントリー申込",null,null,null,null,null,null,null,null,null,null,"青森公立大学",103,"青森公大","ｱｵﾓﾘｺｳﾘﾂ","青森公立大学"]
[null,null,null,null,null,null,null,null,null,null,null,null,null,null,"青森大学",104,"青森大","ｱｵﾓﾘ","青森大学"]
[null,null,null,null,null,null,null,null,null,null,null,null,null,null,"秋田県立大学",105,"秋田県大","ｱｷﾀｹﾝﾘﾂ","秋田県立大学"]
[null,null,null,null,null,null,null,null,null,null,null,null,null,null,"秋田大学",106,"秋田大","ｱｷﾀ","秋田大学"]
[null,null,null,null,null,null,null,null,"学校ＮＯ.",null,{"$f":"IF(C11=\"\",\"\",VLOOKUP(C11,O3:S44,2,FALSE))","v":""},null,null,null,"石巻専修大学",107,"石専大","ｲｼﾉﾏｷｾﾝｼｭｳ","石巻専修大学"]
[null,null,null,null,null,null,null,null,null,null,null,null,null,null,"いわき明星大学",108,"いわき明大","ｲﾜｷﾒｲｾｲ","いわき明星大学"]
["※ 学校名",null,null,null,null,null,null,null,null,null,null,null,null,null,"岩手県立大学",109,"岩手県大","ｲﾜﾃｹﾝﾘﾂ","岩手県立大学"]
[null,null,null,null,null,null,null,null,null,null,null,null,null,null,"岩手大学",110,"岩手大","ｲﾜﾃ","岩手大学"]
["略称名",null,{"$f":"IF(C11=\"\",\"\",VLOOKUP(C11,O3:S44,3,FALSE))","v":""},null,null,null,"ｶﾅ",{"$f":"IF(C11=\"\",\"\",VLOOKUP(C11,O3:S44,4,FALSE))","v":""},null,null,null,null,null,null,"奥羽大学",111,"奥羽大","ｵｳｳ","奥羽大学"]
[null,null,null,null,null,null,null,null,null,null,null,null,null,null,"北里大学",112,"北里大","ｷﾀｻﾄﾀﾞｲ","北里大学"]
[null,null,null,null,null,null,null,null,null,null,null,null,null,null,"国際教養大学",113,"国際教養大","ｺｸｻｲｷｮｳﾖｳ","国際教養大学"]
[null,null,null,null,null,null,null,null,null,null,null,null,null,null,"仙台大学",114,"仙台大","ｾﾝﾀﾞｲ","仙台大学"]
[null,null,null,null,null,null,null,null,null,null,null,null,null,null,"仙台高等専門学校",115,"仙台高専","ｾﾝﾀﾞｲｺｳｾﾝ","仙台高等専門学校"]
[null,null,null,null,null,null,null,null,null,null,null,null,null,null,"東北学院大学",116,"東北学大","ﾄｳﾎｸｶﾞｸｲﾝ","東北学院大学"]
["監督名",null,null,null,null,null,null,null,null,null,null,null,null,null,"東北公益文科大学",117,"東北公大","ﾄｳﾎｸｺｳｴｷﾌﾞﾝｶ","東北公益文科大学"]
[null,null,null,null,null,null,null,null,null,null,null,null,null,null,"東北工業大学",118,"東北工大","ﾄｳﾎｸｺｳｷﾞｮｳ","東北工業大学"]
[null,null,null,null,null,null,null,null,null,null,null,null,null,null,"東北女子大学",119,"東北女大","ﾄｳﾎｸｼﾞｮｼ","東北女子大学"]
["主将",null,null,null,null,null,null,null,null,null,null,null,null,null,"東北大学",120,"東北大","ﾄｳﾎｸ","東北大学"]
[null,null,null,null,null,null,null,null,null,null,null,null,null,null,"東北福祉大学",121,"東北福大","ﾄｳﾎｸﾌｸｼ","東北福祉大学"]
[null,null,null,null,null,null,null,null,null,null,null,null,null,null,"東北文化学園大学",122,"東北文化大","ﾄｳﾎｸﾌﾞﾝｶｶﾞｸｴﾝ","東北文化学園大学"]
["※ 申込責任者",null,null,null,null,null,null,null,null,null,null,null,null,null,"東北文教大学",123,"東北文教大","ﾄｳﾎｸﾌﾞﾝｷｮｳ","東北文教大学"]
[null,null,null,null,null,null,null,null,null,null,null,null,null,null,"日本大学工学部",124,"日大工学部","ﾆﾎﾝﾀﾞｲｶﾞｸｺｳｶﾞｸﾌﾞ","日本大学工学部"]
[null,null,null,null,null,null,null,null,null,null,null,null,null,null,"ノースアジア大学",125,"ノース大","ﾉｰｽｱｼﾞｱ","ノースアジア大学"]
[null,null,"〒",null,null,null,null,null,null,null,null,null,null,null,"〒",null,null,null,"八戸学院大学"]
["住所",null,null,null,null,null,null,null,null,null,null,null,null,null,"弘前医療福祉大学",127,"弘前医福大","ﾋﾛｻｷｲﾘｮｳﾌｸｼ","弘前医療福祉大学"]
[null,null,null,null,null,null,null,null,null,null,null,null,null,null,"弘前医療福祉大学短期大学部",128,"弘前医福大短大部","ﾋﾛｻｷｲﾘｮｳﾌｸｼﾀﾝﾀﾞｲﾌﾞ","弘前医療福祉大学短期大学部"]
["※　TEL",null,null,null,null,null,null,null,null,null,null,null,null,null,"弘前大学",129,"弘前大","ﾋﾛｻｷ","弘前大学"]
[null,null,null,null,null,null,null,null,null,null,null,null,null,null,"福島県立医科大学",130,"福島医大","ﾌｸｼﾏｹﾝﾘﾂｲｶ","福島県立医科大学"]
["E ‐ mail",null,null,null,null,null,null,null,null,null,null,null,null,null,"福島工業高等専門学校",131,"福島高専","ﾌｸｼﾏｺｳｾﾝ","福島工業高等専門学校"]
[null,null,null,null,null,null,null,null,null,null,null,null,null,null,"福島大学",132,"福島大","ﾌｸｼﾏ","福島大学"]
[null,null,null,null,null,null,null,null,null,null,null,null,null,null,"富士大学",133,"富士大","ﾌｼﾞ","富士大学"]
[null,null,null,null,null,null,null,null,null,null,null,null,null,null,"宮城学院女子大学",134,"宮学女大","ﾐﾔｷﾞｶﾞｸｲﾝｼﾞｮｼ","宮城学院女子大学"]
[null,null,null,null,null,null,null,null,null,null,null,null,null,null,"宮城教育大学",135,"宮教大","ﾐﾔｷﾞｷｮｳｲｸ","宮城教育大学"]
[null,null,null,null,null,null,null,null,null,null,null,null,null,null,"宮城大学",136,"宮城大","ﾐﾔｷﾞ","宮城大学"]
[null,null,null,null,null,null,null,null,null,null,null,null,null,null,"盛岡大学",137,"盛岡大","ﾓﾘｵｶﾀﾞｲ","盛岡大学"]
[null,null,null,null,null,null,null,null,null,null,null,null,null,null,"山形県立米沢栄養大学",138,"米沢栄養大","ﾖﾈｻﾞﾜｴｲﾖｳ","山形県立米沢栄養大学"]
[null,null,null,null,null,null,null,null,null,null,null,null,null,null,"山形県立米沢女子短期大学",139,"米沢女短大","ﾖﾈｻﾞﾜｼﾞｮｼﾀﾝｷ","山形県立米沢女子短期大学"]
[null,null,null,null,null,null,null,null,null,null,null,null,null,null,"山形大学",140,"山形大","ﾔﾏｶﾞﾀﾀﾞｲ","山形大学"]
[]
[null,null,null,null,null,null,null,null,null,null,null,null,null,null,"上記に無い又は名称が間違っている場合は当連盟までご連絡下さい。",0,0,0,"上記に無い又は名称が間違っている場合は当連盟までご連絡下さい。"]

{"sheet":"男子エントリー","index":1,"n_rows":1362,"n_cols":22,"rows_kept":1362,"cut":false,"hidden":false,"merged":[[137,11,138,11],[137,12,138,12],[143,0,145,0],[143,1,145,1],[143,2,145,2],[143,5,145,5],[144,3,145,3],[144,4,145,4],[144,11,145,11],[144,12,145,12],[136,0,138,0],[136,1,138,1],[136,2,138,2],[136,5,138,5],[137,3,138,3],[137,4,138,4],[123,11,124,11],[123,12,124,12],[129,0,131,0],[129,1,131,1],[129,2,131,2],[129,5,131,5],[130,3,131,3],[130,4,131,4],[130,11,131,11],[130,12,131,12],[122,0,124,0],[122,1,124,1],[122,2,124,2],[122,5,124,5],[123,3,124,3],[123,4,124,4],[109,11,110,11],[109,12,110,12],[115,0,117,0],[115,1,117,1],[115,2,117,2],[115,5,117,5],[116,3,117,3],[116,4,117,4],[116,11,117,11],[116,12,117,12],[108,0,110,0],[108,1,110,1],[108,2,110,2],[108,5,110,5],[109,3,110,3],[109,4,110,4],[95,11,96,11],[95,12,96,12],[101,0,103,0],[101,1,103,1],[101,2,103,2],[101,5,103,5],[102,3,103,3],[102,4,103,4],[102,11,103,11],[102,12,103,12],[94,0,96,0],[94,1,96,1],[94,2,96,2],[94,5,96,5],[95,3,96,3],[95,4,96,4],[81,11,82,11],[81,12,82,12],[87,0,89,0],[87,1,89,1],[87,2,89,2],[87,5,89,5],[88,3,89,3],[88,4,89,4],[88,11,89,11],[88,12,89,12],[80,0,82,0],[80,1,82,1],[80,2,82,2],[80,5,82,5],[81,3,82,3],[81,4,82,4],[17,0,19,0],[17,1,19,1],[17,2,19,2],[38,2,40,2],[31,0,33,0],[31,1,33,1],[31,2,33,2],[67,12,68,12],[52,0,54,0],[52,1,54,1],[52,2,54,2],[66,0,68,0],[66,1,68,1],[66,2,68,2],[66,5,68,5],[74,12,75,12],[74,11,75,11],[52,5,54,5],[53,3,54,3],[25,11,26,11],[32,11,33,11],[39,3,40,3],[39,4,40,4],[39,11,40,11],[53,11,54,11],[31,5,33,5],[32,3,33,3],[32,4,33,4],[53,12,54,12],[60,12,61,12],[39,12,40,12],[25,12,26,12],[67,3,68,3],[67,4,68,4],[60,4,61,4],[60,3,61,3],[67,11,68,11],[60,11,61,11],[59,5,61,5],[0,0,1,4],[0,6,1,10],[0,11,1,12],[2,8,2,10],[10,0,12,0],[3,0,5,0],[73,2,75,2],[45,1,47,1],[45,2,47,2],[74,3,75,3],[74,4,75,4],[24,5,26,5],[25,3,26,3],[25,4,26,4],[38,5,40,5],[38,1,40,1],[73,0,75,0],[45,0,47,0],[59,0,61,0],[38,0,40,0],[24,0,26,0],[73,1,75,1],[18,12,19,12],[4,11,5,11],[4,12,5,12],[11,11,12,11],[11,12,12,12],[3,5,5,5],[10,5,12,5],[45,5,47,5],[46,3,47,3],[17,5,19,5],[18,3,19,3],[46,12,47,12],[18,4,19,4],[46,4,47,4],[32,12,33,12],[46,11,47,11],[10,1,12,1],[4,3,5,3],[4,4,5,4],[11,3,12,3],[11,4,12,4],[73,5,75,5],[10,2,12,2],[3,1,5,2],[18,11,19,11],[24,1,26,1],[24,2,26,2],[59,1,61,1],[53,4,54,4],[8,2,9,2],[59,2,61,2]]}
[{"$f":"東北総体!C11","v":0},null,null,null,null,null,"団体申込一覧（男子）",null,null,null,null,"(様式Ⅰ)"]
[null,null,null,null,null,null,null,null,null,null,null,null,null,null,null,null,null,null,null,"マイル"]
["下記のエントリーに申し違いはありません",null,null,null,null,null,"申込責任者",null,{"$f":"東北総体!C25","v":0},null,null,null,"㊞"]
["№","登録番号",null,"ﾌﾘｶﾞﾅ","学年",null,"出場種目１","記録","記録を樹立した競技会名","樹立ラウンド","樹立年月日","4×100mR","4×400mR"]
[null,null,null,"氏名","登録陸協",null,"出場種目２","記録","記録を樹立した競技会名","樹立ラウンド","樹立年月日","○","○",null,"○",1,"男子100m"]
[null,null,null,null,null,null,"出場種目３","記録","記録を樹立した競技会名","樹立ラウンド","樹立年月日",null,null,null,null,2,"男子200m"]
[null,null,null,null,null,null,"出場種目４","記録","記録を樹立した競技会名","樹立ラウンド","樹立年月日",null,null,null,null,3,"男子400m",null,null,null,null,"予選"]
[null,null,null,null,null,null,"出場種目５","記録","記録を樹立した競技会名","樹立ラウンド","樹立年月日",null,null,null,null,4,"男子800m",null,null,null,null,"準決勝"]
[null,null,null,null,null,null,"出場種目６","記録","記録を樹立した競技会名","樹立ラウンド","樹立年月日",null,null,null,null,5,"男子1500m",null,null,null,null,"決勝"]
[null,null,null,null,null,null,null,null,null,null,null,null,null,null,null,6,"男子5000m",null,null,null,null,"1次予選"]
[1,"２　－",null,{"$f":"IF(C11=\"\",\"\",VLOOKUP(C11,登録名簿!$A$2:$D$800,3))","v":""},{"$f":"IF(C11=\"\",\"\",VLOOKUP(C11,登録名簿!$A$2:$D$800,4))","v":""},null,null,null,null,null,null,"4×100m","4×400m",null,null,7,"男子10000m",null,{"$f":"COUNTIF(C$11:C$1000,C11)","v":0},null,null,"2次予選"]
[null,null,null,{"$f":"IF(C11=\"\",\"\",VLOOKUP(C11,登録名簿!$A$2:$D$800,2))","v":""},{"$f":"IF(C11=\"\",\"\",VLOOKUP(C11,登録名簿!$A$2:$E$800,5))","v":""},null,null,null,null,null,null,null,null,null,null,8,"男子110mH",null,null,null,null,"競技会"]
[null,null,null,null,{"$f":"IF(D13=\"\",\"\",VLOOKUP(D13,男子エントリー!$B$4:$F$149,2))","v":""},null,null,null,null,null,null,null,null,null,null,9,"男子400mH"]
[null,null,null,null,null,null,null,null,null,null,null,null,null,null,null,10,"男子3000mSC"]
[null,null,null,null,null,null,null,null,null,null,null,null,null,null,null,11,"男子走高跳"]
[null,null,null,null,null,null,null,null,null,null,null,null,null,null,null,12,"男子棒高跳"]
[null,null,null,null,null,null,null,null,null,null,null,null,null,null,null,13,"男子走幅跳"]
[2,"２　－",null,{"$f":"IF(C18=\"\",\"\",VLOOKUP(C18,登録名簿!$A$2:$D$800,3))","v":""},{"$f":"IF(C18=\"\",\"\",VLOOKUP(C18,登録名簿!$A$2:$D$800,4))","v":""},null,null,null,null,null,null,"4×100m","4×400m",null,null,14,"男子三段跳",null,{"$f":"COUNTIF(C$11:C$1000,C18)","v":0}]
[null,null,null,{"$f":"IF(C18=\"\",\"\",VLOOKUP(C18,登録名簿!$A$2:$D$800,2))","v":""},{"$f":"IF(C18=\"\",\"\",VLOOKUP(C18,登録名簿!$A$2:$E$800,5))","v":""},null,null,null,null,null,null,null,null,null,null,15,"男子砲丸投(7.260kg)"]
[null,null,null,null,{"$f":"IF(D20=\"\",\"\",VLOOKUP(D20,男子エントリー!$B$4:$F$149,2))","v":""},null,null,null,null,null,null,null,null,null,null,16,"男子円盤投(2.000kg)"]
[null,null,null,null,null,null,null,null,null,null,null,null,null,null,null,17,"男子ハンマー投(7.260kg)"]
[null,null,null,null,null,null,null,null,null,null,null,null,null,null,null,18,"男子やり投(800g)"]
[null,null,null,null,null,null,null,null,null,null,null,null,null,null,null,19]
[null,null,null,null,null,null,null,null,null,null,null,null,null,null,null,20]
[3,"２　－",null,{"$f":"IF(C25=\"\",\"\",VLOOKUP(C25,登録名簿!$A$2:$D$800,3))","v":""},{"$f":"IF(C25=\"\",\"\",VLOOKUP(C25,登録名簿!$A$2:$D$800,4))","v":""},null,null,null,null,null,null,"4×100m","4×400m",null,null,21,null,null,{"$f":"COUNTIF(C$11:C$1000,C25)","v":0}]
[null,null,null,{"$f":"IF(C25=\"\",\"\",VLOOKUP(C25,登録名簿!$A$2:$D$800,2))","v":""},{"$f":"IF(C25=\"\",\"\",VLOOKUP(C25,登録名簿!$A$2:$E$800,5))","v":""},null,null,null,null,null,null,null,null,null,null,22]
[null,null,null,null,{"$f":"IF(D27=\"\",\"\",VLOOKUP(D27,男子エントリー!$B$4:$F$149,2))","v":""},null,null,null,null,null,null,null,null,null,null,23]
[null,null,null,null,null,null,null,null,null,null,null,null,null,null,null,24]
[null,null,null,null,null,null,null,null,null,null,null,null,null,null,null,25]
[]
[]
[4,"２　－",null,{"$f":"IF(C32=\"\",\"\",VLOOKUP(C32,登録名簿!$A$2:$D$800,3))","v":""},{"$f":"IF(C32=\"\",\"\",VLOOKUP(C32,登録名簿!$A$2:$D$800,4))","v":""},null,null,null,null," ",null,"4×100m","4×400m",null,null,null,null,null,{"$f":"COUNTIF(C$11:C$1000,C32)","v":0}]
[null,null,null,{"$f":"IF(C32=\"\",\"\",VLOOKUP(C32,登録名簿!$A$2:$D$800,2))","v":""},{"$f":"IF(C32=\"\",\"\",VLOOKUP(C32,登録名簿!$A$2:$E$800,5))","v":""}]
[null,null,null,null,{"$f":"IF(D34=\"\",\"\",VLOOKUP(D34,男子エントリー!$B$4:$F$149,2))","v":""}]
[]
[]
[]
[]
[5,"２　－",null,{"$f":"IF(C39=\"\",\"\",VLOOKUP(C39,登録名簿!$A$2:$D$800,3))","v":""},{"$f":"IF(C39=\"\",\"\",VLOOKUP(C39,登録名簿!$A$2:$D$800,4))","v":""},null,null,null,null," ",null,"4×100m","4×400m",null,null,null,null,null,{"$f":"COUNTIF(C$11:C$1000,C39)","v":0}]
[null,null,null,{"$f":"IF(C39=\"\",\"\",VLOOKUP(C39,登録名簿!$A$2:$D$800,2))","v":""},{"$f":"IF(C39=\"\",\"\",VLOOKUP(C39,登録名簿!$A$2:$E$800,5))","v":""}]
[null,null,null,null,{"$f":"IF(D41=\"\",\"\",VLOOKUP(D41,男子エントリー!$B$4:$F$149,2))","v":""}]
[]
[]
[]
[]
[6,"２　－",null,{"$f":"IF(C46=\"\",\"\",VLOOKUP(C46,登録名簿!$A$2:$D$800,3))","v":""},{"$f":"IF(C46=\"\",\"\",VLOOKUP(C46,登録名簿!$A$2:$D$800,4))","v":""},null,null,null,null," ",null,"4×100m","4×400m",null,null,null,null,null,{"$f":"COUNTIF(C$11:C$1000,C46)","v":0}]
[null,null,null,{"$f":"IF(C46=\"\",\"\",VLOOKUP(C46,登録名簿!$A$2:$D$800,2))","v":""},{"$f":"IF(C46=\"\",\"\",VLOOKUP(C46,登録名簿!$A$2:$E$800,5))","v":""}]
[null,null,null,null,{"$f":"IF(D48=\"\",\"\",VLOOKUP(D48,男子エントリー!$B$4:$F$149,2))","v":""}]
[]
[]
[]
[]
[7,"２　－",null,{"$f":"IF(C53=\"\",\"\",VLOOKUP(C53,登録名簿!$A$2:$D$800,3))","v":""},{"$f":"IF(C53=\"\",\"\",VLOOKUP(C53,登録名簿!$A$2:$D$800,4))","v":""},null,null,null,null," ",null,"4×100m","4×400m",null,null,null,null,null,{"$f":"COUNTIF(C$11:C$1000,C53)","v":0}]
[null,null,null,{"$f":"IF(C53=\"\",\"\",VLOOKUP(C53,登録名簿!$A$2:$D$800,2))","v":""},{"$f":"IF(C53=\"\",\"\",VLOOKUP(C53,登録名簿!$A$2:$E$800,5))","v":""}]
[null,null,null,null,{"$f":"IF(D55=\"\",\"\",VLOOKUP(D55,男子エントリー!$B$4:$F$149,2))","v":""}]
[]
[]
[]
[]
[8,"２　－",null,{"$f":"IF(C60=\"\",\"\",VLOOKUP(C60,登録名簿!$A$2:$D$800,3))","v":""},{"$f":"IF(C60=\"\",\"\",VLOOKUP(C60,登録名簿!$A$2:$D$800,4))","v":""},null,null,null,null," ",null,"4×100m","4×400m",null,null,null,null,null,{"$f":"COUNTIF(C$11:C$1000,C60)","v":0}]
[null,null,null,{"$f":"IF(C60=\"\",\"\",VLOOKUP(C60,登録名簿!$A$2:$D$800,2))","v":""},{"$f":"IF(C60=\"\",\"\",VLOOKUP(C60,登録名簿!$A$2:$E$800,5))","v":""}]
[null,null,null,null,{"$f":"IF(D62=\"\",\"\",VLOOKUP(D62,男子エントリー!$B$4:$F$149,2))","v":""}]
[]
[]
[]
[]
[9,"２　－",null,{"$f":"IF(C67=\"\",\"\",VLOOKUP(C67,登録名簿!$A$2:$D$800,3))","v":""},{"$f":"IF(C67=\"\",\"\",VLOOKUP(C67,登録名簿!$A$2:$D$800,4))","v":""},null,null,null,null," ",null,"4×100m","4×400m",null,null,null,null,null,{"$f":"COUNTIF(C$11:C$1000,C67)","v":0}]
[null,null,null,{"$f":"IF(C67=\"\",\"\",VLOOKUP(C67,登録名簿!$A$2:$D$800,2))","v":""},{"$f":"IF(C67=\"\",\"\",VLOOKUP(C67,登録名簿!$A$2:$E$800,5))","v":""}]
[null,null,null,null,{"$f":"IF(D69=\"\",\"\",VLOOKUP(D69,男子エントリー!$B$4:$F$149,2))","v":""}]
[]
[]
[]
[]
[10,"２　－",null,{"$f":"IF(C74=\"\",\"\",VLOOKUP(C74,登録名簿!$A$2:$D$800,3))","v":""},{"$f":"IF(C74=\"\",\"\",VLOOKUP(C74,登録名簿!$A$2:$D$800,4))","v":""},null,null,null,null," ",null,"4×100m","4×400m",null,null,null,null,null,{"$f":"COUNTIF(C$11:C$1000,C74)","v":0}]
[null,null,null,{"$f":"IF(C74=\"\",\"\",VLOOKUP(C74,登録名簿!$A$2:$D$800,2))","v":""},{"$f":"IF(C74=\"\",\"\",VLOOKUP(C74,登録名簿!$A$2:$E$800,5))","v":""}]
[null,null,null,null,{"$f":"IF(D76=\"\",\"\",VLOOKUP(D76,男子エントリー!$B$4:$F$149,2))","v":""}]
[]
[]
[]
[]
[11,"２　－",null,{"$f":"IF(C81=\"\",\"\",VLOOKUP(C81,登録名簿!$A$2:$D$800,3))","v":""},{"$f":"IF(C81=\"\",\"\",VLOOKUP(C81,登録名簿!$A$2:$D$800,4))","v":""},null,null,null,null," ",null,"4×100m","4×400m",null,null,null,null,null,{"$f":"COUNTIF(C$11:C$1000,C81)","v":0}]
[null,null,null,{"$f":"IF(C81=\"\",\"\",VLOOKUP(C81,登録名簿!$A$2:$D$800,2))","v":""},{"$f":"IF(C81=\"\",\"\",VLOOKUP(C81,登録名簿!$A$2:$E$800,5))","v":""}]
[null,null,null,null,{"$f":"IF(D83=\"\",\"\",VLOOKUP(D83,男子エントリー!$B$4:$F$149,2))","v":""}]
[]
[]
[]
[]
[12,"２　－",null,{"$f":"IF(C88=\"\",\"\",VLOOKUP(C88,登録名簿!$A$2:$D$800,3))","v":""},{"$f":"IF(C88=\"\",\"\",VLOOKUP(C88,登録名簿!$A$2:$D$800,4))","v":""},null,null,null,null," ",null,"4×100m","4×400m",null,null,null,null,null,{"$f":"COUNTIF(C$11:C$1000,C88)","v":0}]
[null,null,null,{"$f":"IF(C88=\"\",\"\",VLOOKUP(C88,登録名簿!$A$2:$D$800,2))","v":""},{"$f":"IF(C88=\"\",\"\",VLOOKUP(C88,登録名簿!$A$2:$E$800,5))","v":""}]
[null,null,null,null,{"$f":"IF(D90=\"\",\"\",VLOOKUP(D90,男子エントリー!$B$4:$F$149,2))","v":""}]
[]
[]
[]
[]
[13,"２　－",null,{"$f":"IF(C95=\"\",\"\",VLOOKUP(C95,登録名簿!$A$2:$D$800,3))","v":""},{"$f":"IF(C95=\"\",\"\",VLOOKUP(C95,登録名簿!$A$2:$D$800,4))","v":""},null,null,null,null," ",null,"4×100m","4×400m",null,null,null,null,null,{"$f":"COUNTIF(C$11:C$1000,C95)","v":0}]
[null,null,null,{"$f":"IF(C95=\"\",\"\",VLOOKUP(C95,登録名簿!$A$2:$D$800,2))","v":""},{"$f":"IF(C95=\"\",\"\",VLOOKUP(C95,登録名簿!$A$2:$E$800,5))","v":""}]
[null,null,null,null,{"$f":"IF(D97=\"\",\"\",VLOOKUP(D97,男子エントリー!$B$4:$F$149,2))","v":""}]
[]
[]
[]
[]
[14,"２　－",null,{"$f":"IF(C102=\"\",\"\",VLOOKUP(C102,登録名簿!$A$2:$D$800,3))","v":""},{"$f":"IF(C102=\"\",\"\",VLOOKUP(C102,登録名簿!$A$2:$D$800,4))","v":""},null,null,null,null," ",null,"4×100m","4×400m",null,null,null,null,null,{"$f":"COUNTIF(C$11:C$1000,C102)","v":0}]
[null,null,null,{"$f":"IF(C102=\"\",\"\",VLOOKUP(C102,登録名簿!$A$2:$D$800,2))","v":""},{"$f":"IF(C102=\"\",\"\",VLOOKUP(C102,登録名簿!$A$2:$E$800,5))","v":""}]
[null,null,null,null,{"$f":"IF(D104=\"\",\"\",VLOOKUP(D104,男子エントリー!$B$4:$F$149,2))","v":""}]
[]
[]
[]
[]
[15,"２　－",null,{"$f":"IF(C109=\"\",\"\",VLOOKUP(C109,登録名簿!$A$2:$D$800,3))","v":""},{"$f":"IF(C109=\"\",\"\",VLOOKUP(C109,登録名簿!$A$2:$D$800,4))","v":""},null,null,null,null," ",null,"4×100m","4×400m",null,null,null,null,null,{"$f":"COUNTIF(C$11:C$1000,C109)","v":0}]
[null,null,null,{"$f":"IF(C109=\"\",\"\",VLOOKUP(C109,登録名簿!$A$2:$D$800,2))","v":""},{"$f":"IF(C109=\"\",\"\",VLOOKUP(C109,登録名簿!$A$2:$E$800,5))","v":""}]
[null,null,null,null,{"$f":"IF(D111=\"\",\"\",VLOOKUP(D111,男子エントリー!$B$4:$F$149,2))","v":""}]
[]
[]
[]
[]
[16,"２　－",null,{"$f":"IF(C116=\"\",\"\",VLOOKUP(C116,登録名簿!$A$2:$D$800,3))","v":""},{"$f":"IF(C116=\"\",\"\",VLOOKUP(C116,登録名簿!$A$2:$D$800,4))","v":""},null,null,null,null," ",null,"4×100m","4×400m",null,null,null,null,null,{"$f":"COUNTIF(C$11:C$1000,C116)","v":0}]
[null,null,null,{"$f":"IF(C116=\"\",\"\",VLOOKUP(C116,登録名簿!$A$2:$D$800,2))","v":""},{"$f":"IF(C116=\"\",\"\",VLOOKUP(C116,登録名簿!$A$2:$E$800,5))","v":""}]
[null,null,null,null,{"$f":"IF(D118=\"\",\"\",VLOOKUP(D118,男子エントリー!$B$4:$F$149,2))","v":""}]
[]
[]
[]
[]
[17,"２　－",null,{"$f":"IF(C123=\"\",\"\",VLOOKUP(C123,登録名簿!$A$2:$D$800,3))","v":""},{"$f":"IF(C123=\"\",\"\",VLOOKUP(C123,登録名簿!$A$2:$D$800,4))","v":""},null,null,null,null," ",null,"4×100m","4×400m",null,null,null,null,null,{"$f":"COUNTIF(C$11:C$1000,C123)","v":0}]
[null,null,null,{"$f":"IF(C123=\"\",\"\",VLOOKUP(C123,登録名簿!$A$2:$D$800,2))","v":""},{"$f":"IF(C123=\"\",\"\",VLOOKUP(C123,登録名簿!$A$2:$E$800,5))","v":""}]
[null,null,null,null,{"$f":"IF(D125=\"\",\"\",VLOOKUP(D125,男子エントリー!$B$4:$F$149,2))","v":""}]
[]
[]
[]
[]
[18,"２　－",null,{"$f":"IF(C130=\"\",\"\",VLOOKUP(C130,登録名簿!$A$2:$D$800,3))","v":""},{"$f":"IF(C130=\"\",\"\",VLOOKUP(C130,登録名簿!$A$2:$D$800,4))","v":""},null,null,null,null," ",null,"4×100m","4×400m",null,null,null,null,null,{"$f":"COUNTIF(C$11:C$1000,C130)","v":0}]
[null,null,null,{"$f":"IF(C130=\"\",\"\",VLOOKUP(C130,登録名簿!$A$2:$D$800,2))","v":""},{"$f":"IF(C130=\"\",\"\",VLOOKUP(C130,登録名簿!$A$2:$E$800,5))","v":""}]
[null,null,null,null,{"$f":"IF(D132=\"\",\"\",VLOOKUP(D132,男子エントリー!$B$4:$F$149,2))","v":""}]
[]
[]
[]
[]
[19,"２　－",null,{"$f":"IF(C137=\"\",\"\",VLOOKUP(C137,登録名簿!$A$2:$D$800,3))","v":""},{"$f":"IF(C137=\"\",\"\",VLOOKUP(C137,登録名簿!$A$2:$D$800,4))","v":""},null,null,null,null," ",null,"4×100m","4×400m",null,null,null,null,null,{"$f":"COUNTIF(C$11:C$1000,C137)","v":0}]
[null,null,null,{"$f":"IF(C137=\"\",\"\",VLOOKUP(C137,登録名簿!$A$2:$D$800,2))","v":""},{"$f":"IF(C137=\"\",\"\",VLOOKUP(C137,登録名簿!$A$2:$E$800,5))","v":""}]
[null,null,null,null,{"$f":"IF(D139=\"\",\"\",VLOOKUP(D139,男子エントリー!$B$4:$F$149,2))","v":""}]
[]
[]
[]
[]
[20,"２　－",null,{"$f":"IF(C144=\"\",\"\",VLOOKUP(C144,登録名簿!$A$2:$D$800,3))","v":""},{"$f":"IF(C144=\"\",\"\",VLOOKUP(C144,登録名簿!$A$2:$D$800,4))","v":""},null,null,null,null," ",null,"4×100m","4×400m",null,null,null,null,null,{"$f":"COUNTIF(C$11:C$1000,C144)","v":0}]
[null,null,null,{"$f":"IF(C144=\"\",\"\",VLOOKUP(C144,登録名簿!$A$2:$D$800,2))","v":""},{"$f":"IF(C144=\"\",\"\",VLOOKUP(C144,登録名簿!$A$2:$E$800,5))","v":""}]
[null,null,null,null,{"$f":"IF(D146=\"\",\"\",VLOOKUP(D146,男子エントリー!$B$4:$F$149,2))","v":""}]
[]
[]
[]
[]
[null,null,null,null,null,null,null,null,null,null,null,null,null,null,null,null,null,null,{"$f":"COUNTIF(C$11:C$1000,C151)","v":0}]
[]
[]
[]
[]
[]
[]
[null,null,null,null,null,null,null,null,null,null,null,null,null,null,null,null,null,null,{"$f":"COUNTIF(C$11:C$1000,C158)","v":0}]
[]
[]
[]
[]
[]
[]
[null,null,null,null,null,null,null,null,null,null,null,null,null,null,null,null,null,null,{"$f":"COUNTIF(C$11:C$1000,C165)","v":0}]
[]
[]
[]
[]
[]
[]
[null,null,null,null,null,null,null,null,null,null,null,null,null,null,null,null,null,null,{"$f":"COUNTIF(C$11:C$1000,C172)","v":0}]
[]
[]
[]
[]
[]
[]
[null,null,null,null,null,null,null,null,null,null,null,null,null,null,null,null,null,null,{"$f":"COUNTIF(C$11:C$1000,C179)","v":0}]
[]
[]
[]
[]
[]
[]
[null,null,null,null,null,null,null,null,null,null,null,null,null,null,null,null,null,null,{"$f":"COUNTIF(C$11:C$1000,C186)","v":0}]
[]
[]
[]
[]
[]
[]
[null,null,null,null,null,null,null,null,null,null,null,null,null,null,null,null,null,null,{"$f":"COUNTIF(C$11:C$1000,C193)","v":0}]
[]
[]
[]
[]
[]
[]
[null,null,null,null,null,null,null,null,null,null,null,null,null,null,null,null,null,null,{"$f":"COUNTIF(C$11:C$1000,C200)","v":0}]
[]
[]
[]
[]
[]
[]
[null,null,null,null,null,null,null,null,null,null,null,null,null,null,null,null,null,null,{"$f":"COUNTIF(C$11:C$1000,C207)","v":0}]
[]
[]
[]
[]
[]
[]
[null,null,null,null,null,null,null,null,null,null,null,null,null,null,null,null,null,null,{"$f":"COUNTIF(C$11:C$1000,C214)","v":0}]
[]
[]
[]
[]
[]
[]
[null,null,null,null,null,null,null,null,null,null,null,null,null,null,null,null,null,null,{"$f":"COUNTIF(C$11:C$1000,C221)","v":0}]
[]
[]
[]
[]
[]
[]
[null,null,null,null,null,null,null,null,null,null,null,null,null,null,null,null,null,null,{"$f":"COUNTIF(C$11:C$1000,C228)","v":0}]
[]
[]
[]
[]
[]
[]
[null,null,null,null,null,null,null,null,null,null,null,null,null,null,null,null,null,null,{"$f":"COUNTIF(C$11:C$1000,C235)","v":0}]
[]
[]
[]
[]
[]
[]
[null,null,null,null,null,null,null,null,null,null,null,null,null,null,null,null,null,null,{"$f":"COUNTIF(C$11:C$1000,C242)","v":0}]
[]
[]
[]
[]
[]
[]
[null,null,null,null,null,null,null,null,null,null,null,null,null,null,null,null,null,null,{"$f":"COUNTIF(C$11:C$1000,C249)","v":0}]
[]
[]
[]
[]
[]
[]
[null,null,null,null,null,null,null,null,null,null,null,null,null,null,null,null,null,null,{"$f":"COUNTIF(C$11:C$1000,C256)","v":0}]
[]
[]
[]
[]
[]
[]
[null,null,null,null,null,null,null,null,null,null,null,null,null,null,null,null,null,null,{"$f":"COUNTIF(C$11:C$1000,C263)","v":0}]
[]
[]
[]
[]
[]
[]
[null,null,null,null,null,null,null,null,null,null,null,null,null,null,null,null,null,null,{"$f":"COUNTIF(C$11:C$1000,C270)","v":0}]
[]
[]
[]
[]
[]
[]
[null,null,null,null,null,null,null,null,null,null,null,null,null,null,null,null,null,null,{"$f":"COUNTIF(C$11:C$1000,C277)","v":0}]
[]
[]
[]
[]
[]
[]
[null,null,null,null,null,null,null,null,null,null,null,null,null,null,null,null,null,null,{"$f":"COUNTIF(C$11:C$1000,C284)","v":0}]
[]
[]
[]
[]
[]
[]
[null,null,null,null,null,null,null,null,null,null,null,null,null,null,null,null,null,null,{"$f":"COUNTIF(C$11:C$1000,C291)","v":0}]
[]
[]
[]
[]
[]
[]
[null,null,null,null,null,null,null,null,null,null,null,null,null,null,null,null,null,null,{"$f":"COUNTIF(C$11:C$1000,C298)","v":0}]
[]
[]
[]
[]
[]
[]
[null,null,null,null,null,null,null,null,null,null,null,null,null,null,null,null,null,null,{"$f":"COUNTIF(C$11:C$1000,C305)","v":0}]
[]
[]
[]
[]
[]
[]
[null,null,null,null,null,null,null,null,null,null,null,null,null,null,null,null,null,null,{"$f":"COUNTIF(C$11:C$1000,C312)","v":0}]
[]
[]
[]
[]
[]
[]
[null,null,null,null,null,null,null,null,null,null,null,null,null,null,null,null,null,null,{"$f":"COUNTIF(C$11:C$1000,C319)","v":0}]
[]
[]
[]
[]
[]
[]
[null,null,null,null,null,null,null,null,null,null,null,null,null,null,null,null,null,null,{"$f":"COUNTIF(C$11:C$1000,C326)","v":0}]
[]
[]
[]
[]
[]
[]
[null,null,null,null,null,null,null,null,null,null,null,null,null,null,null,null,null,null,{"$f":"COUNTIF(C$11:C$1000,C333)","v":0}]
[]
[]
[]
[]
[]
[]
[null,null,null,null,null,null,null,null,null,null,null,null,null,null,null,null,null,null,{"$f":"COUNTIF(C$11:C$1000,C340)","v":0}]
[]
[]
[]
[]
[]
[]
[null,null,null,null,null,null,null,null,null,null,null,null,null,null,null,null,null,null,{"$f":"COUNTIF(C$11:C$1000,C347)","v":0}]
[]
[]
[]
[]
[]
[]
[null,null,null,null,null,null,null,null,null,null,null,null,null,null,null,null,null,null,{"$f":"COUNTIF(C$11:C$1000,C354)","v":0}]
[]
[]
[]
[]
[]
[]
[null,null,null,null,null,null,null,null,null,null,null,null,null,null,null,null,null,null,{"$f":"COUNTIF(C$11:C$1000,C361)","v":0}]
[]
[]
[]
[]
[]
[]
[null,null,null,null,null,null,null,null,null,null,null,null,null,null,null,null,null,null,{"$f":"COUNTIF(C$11:C$1000,C368)","v":0}]
[]
[]
[]
[]
[]
[]
[null,null,null,null,null,null,null,null,null,null,null,null,null,null,null,null,null,null,{"$f":"COUNTIF(C$11:C$1000,C375)","v":0}]
[]
[]
[]
[]
[]
[]
[null,null,null,null,null,null,null,null,null,null,null,null,null,null,null,null,null,null,{"$f":"COUNTIF(C$11:C$1000,C382)","v":0}]
[]
[]
[]
[]
[]
[]
[null,null,null,null,null,null,null,null,null,null,null,null,null,null,null,null,null,null,{"$f":"COUNTIF(C$11:C$1000,C389)","v":0}]
[]
[]
[]
[]
[]
[]
[null,null,null,null,null,null,null,null,null,null,null,null,null,null,null,null,null,null,{"$f":"COUNTIF(C$11:C$1000,C396)","v":0}]
[]
[]
[]
[]
[]
[]
[null,null,null,null,null,null,null,null,null,null,null,null,null,null,null,null,null,null,{"$f":"COUNTIF(C$11:C$1000,C403)","v":0}]
[]
[]
[]
[]
[]
[]
[null,null,null,null,null,null,null,null,null,null,null,null,null,null,null,null,null,null,{"$f":"COUNTIF(C$11:C$1000,C410)","v":0}]
[]
[]
[]
[]
[]
[]
[null,null,null,null,null,null,null,null,null,null,null,null,null,null,null,null,null,null,{"$f":"COUNTIF(C$11:C$1000,C417)","v":0}]
[]
[]
[]
[]
[]
[]
[null,null,null,null,null,null,null,null,null,null,null,null,null,null,null,null,null,null,{"$f":"COUNTIF(C$11:C$1000,C424)","v":0}]
[]
[]
[]
[]
[]
[]
[null,null,null,null,null,null,null,null,null,null,null,null,null,null,null,null,null,null,{"$f":"COUNTIF(C$11:C$1000,C431)","v":0}]
[]
[]
[]
[]
[]
[]
[null,null,null,null,null,null,null,null,null,null,null,null,null,null,null,null,null,null,{"$f":"COUNTIF(C$11:C$1000,C438)","v":0}]
[]
[]
[]
[]
[]
[]
[null,null,null,null,null,null,null,null,null,null,null,null,null,null,null,null,null,null,{"$f":"COUNTIF(C$11:C$1000,C445)","v":0}]
[]
[]
[]
[]
[]
[]
[null,null,null,null,null,null,null,null,null,null,null,null,null,null,null,null,null,null,{"$f":"COUNTIF(C$11:C$1000,C452)","v":0}]
[]
[]
[]
[]
[]
[]
[null,null,null,null,null,null,null,null,null,null,null,null,null,null,null,null,null,null,{"$f":"COUNTIF(C$11:C$1000,C459)","v":0}]
[]
[]
[]
[]
[]
[]
[null,null,null,null,null,null,null,null,null,null,null,null,null,null,null,null,null,null,{"$f":"COUNTIF(C$11:C$1000,C466)","v":0}]
[]
[]
[]
[]
[]
[]
[null,null,null,null,null,null,null,null,null,null,null,null,null,null,null,null,null,null,{"$f":"COUNTIF(C$11:C$1000,C473)","v":0}]
[]
[]
[]
[]
[]
[]
[null,null,null,null,null,null,null,null,null,null,null,null,null,null,null,null,null,null,{"$f":"COUNTIF(C$11:C$1000,C480)","v":0}]
[]
[]
[]
[]
[]
[]
[null,null,null,null,null,null,null,null,null,null,null,null,null,null,null,null,null,null,{"$f":"COUNTIF(C$11:C$1000,C487)","v":0}]
[]
[]
[]
[]
[]
[]
[null,null,null,null,null,null,null,null,null,null,null,null,null,null,null,null,null,null,{"$f":"COUNTIF(C$11:C$1000,C494)","v":0}]
[]
[]
[]
[]
[]
[]
[null,null,null,null,null,null,null,null,null,null,null,null,null,null,null,null,null,null,{"$f":"COUNTIF(C$11:C$1000,C501)","v":0}]
[]
[]
[]
[]
[]
[]
[null,null,null,null,null,null,null,null,null,null,null,null,null,null,null,null,null,null,{"$f":"COUNTIF(C$11:C$1000,C508)","v":0}]
[]
[]
[]
[]
[]
[]
[null,null,null,null,null,null,null,null,null,null,null,null,null,null,null,null,null,null,{"$f":"COUNTIF(C$11:C$1000,C515)","v":0}]
[]
[]
[]
[]
[]
[]
[null,null,null,null,null,null,null,null,null,null,null,null,null,null,null,null,null,null,{"$f":"COUNTIF(C$11:C$1000,C522)","v":0}]
[]
[]
[]
[]
[]
[]
[null,null,null,null,null,null,null,null,null,null,null,null,null,null,null,null,null,null,{"$f":"COUNTIF(C$11:C$1000,C529)","v":0}]
[]
[]
[]
[]
[]
[]
[null,null,null,null,null,null,null,null,null,null,null,null,null,null,null,null,null,null,{"$f":"COUNTIF(C$11:C$1000,C536)","v":0}]
[]
[]
[]
[]
[]
[]
[null,null,null,null,null,null,null,null,null,null,null,null,null,null,null,null,null,null,{"$f":"COUNTIF(C$11:C$1000,C543)","v":0}]
[]
[]
[]
[]
[]
[]
[null,null,null,null,null,null,null,null,null,null,null,null,null,null,null,null,null,null,{"$f":"COUNTIF(C$11:C$1000,C550)","v":0}]
[]
[]
[]
[]
[]
[]
[null,null,null,null,null,null,null,null,null,null,null,null,null,null,null,null,null,null,{"$f":"COUNTIF(C$11:C$1000,C557)","v":0}]
[]
[]
[]
[]
[]
[]
[null,null,null,null,null,null,null,null,null,null,null,null,null,null,null,null,null,null,{"$f":"COUNTIF(C$11:C$1000,C564)","v":0}]
[]
[]
[]
[]
[]
[]
[null,null,null,null,null,null,null,null,null,null,null,null,null,null,null,null,null,null,{"$f":"COUNTIF(C$11:C$1000,C571)","v":0}]
[]
[]
[]
[]
[]
[]
[null,null,null,null,null,null,null,null,null,null,null,null,null,null,null,null,null,null,{"$f":"COUNTIF(C$11:C$1000,C578)","v":0}]
[]
[]
[]
[]
[]
[]
[null,null,null,null,null,null,null,null,null,null,null,null,null,null,null,null,null,null,{"$f":"COUNTIF(C$11:C$1000,C585)","v":0}]
[]
[]
[]
[]
[]
[]
[null,null,null,null,null,null,null,null,null,null,null,null,null,null,null,null,null,null,{"$f":"COUNTIF(C$11:C$1000,C592)","v":0}]
[]
[]
[]
[]
[]
[]
[null,null,null,null,null,null,null,null,null,null,null,null,null,null,null,null,null,null,{"$f":"COUNTIF(C$11:C$1000,C599)","v":0}]
[]
[]
[]
[]
[]
[]
[null,null,null,null,null,null,null,null,null,null,null,null,null,null,null,null,null,null,{"$f":"COUNTIF(C$11:C$1000,C606)","v":0}]
[]
[]
[]
[]
[]
[]
[null,null,null,null,null,null,null,null,null,null,null,null,null,null,null,null,null,null,{"$f":"COUNTIF(C$11:C$1000,C613)","v":0}]
[]
[]
[]
[]
[]
[]
[null,null,null,null,null,null,null,null,null,null,null,null,null,null,null,null,null,null,{"$f":"COUNTIF(C$11:C$1000,C620)","v":0}]
[]
[]
[]
[]
[]
[]
[null,null,null,null,null,null,null,null,null,null,null,null,null,null,null,null,null,null,{"$f":"COUNTIF(C$11:C$1000,C627)","v":0}]
[]
[]
[]
[]
[]
[]
[null,null,null,null,null,null,null,null,null,null,null,null,null,null,null,null,null,null,{"$f":"COUNTIF(C$11:C$1000,C634)","v":0}]
[]
[]
[]
[]
[]
[]
[null,null,null,null,null,null,null,null,null,null,null,null,null,null,null,null,null,null,{"$f":"COUNTIF(C$11:C$1000,C641)","v":0}]
[]
[]
[]
[]
[]
[]
[null,null,null,null,null,null,null,null,null,null,null,null,null,null,null,null,null,null,{"$f":"COUNTIF(C$11:C$1000,C648)","v":0}]
[]
[]
[]
[]
[]
[]
[null,null,null,null,null,null,null,null,null,null,null,null,null,null,null,null,null,null,{"$f":"COUNTIF(C$11:C$1000,C655)","v":0}]
[]
[]
[]
[]
[]
[]
[null,null,null,null,null,null,null,null,null,null,null,null,null,null,null,null,null,null,{"$f":"COUNTIF(C$11:C$1000,C662)","v":0}]
[]
[]
[]
[]
[]
[]
[null,null,null,null,null,null,null,null,null,null,null,null,null,null,null,null,null,null,{"$f":"COUNTIF(C$11:C$1000,C669)","v":0}]
[]
[]
[]
[]
[]
[]
[null,null,null,null,null,null,null,null,null,null,null,null,null,null,null,null,null,null,{"$f":"COUNTIF(C$11:C$1000,C676)","v":0}]
[]
[]
[]
[]
[]
[]
[null,null,null,null,null,null,null,null,null,null,null,null,null,null,null,null,null,null,{"$f":"COUNTIF(C$11:C$1000,C683)","v":0}]
[]
[]
[]
[]
[]
[]
[null,null,null,null,null,null,null,null,null,null,null,null,null,null,null,null,null,null,{"$f":"COUNTIF(C$11:C$1000,C690)","v":0}]
[]
[]
[]
[]
[]
[]
[null,null,null,null,null,null,null,null,null,null,null,null,null,null,null,null,null,null,{"$f":"COUNTIF(C$11:C$1000,C697)","v":0}]
[]
[]
[]
[]
[]
[]
[null,null,null,null,null,null,null,null,null,null,null,null,null,null,null,null,null,null,{"$f":"COUNTIF(C$11:C$1000,C704)","v":0}]
[]
[]
[]
[]
[]
[]
[null,null,null,null,null,null,null,null,null,null,null,null,null,null,null,null,null,null,{"$f":"COUNTIF(C$11:C$1000,C711)","v":0}]
[]
[]
[]
[]
[]
[]
[null,null,null,null,null,null,null,null,null,null,null,null,null,null,null,null,null,null,{"$f":"COUNTIF(C$11:C$1000,C718)","v":0}]
[]
[]
[]
[]
[]
[]
[null,null,null,null,null,null,null,null,null,null,null,null,null,null,null,null,null,null,{"$f":"COUNTIF(C$11:C$1000,C725)","v":0}]
[]
[]
[]
[]
[]
[]
[null,null,null,null,null,null,null,null,null,null,null,null,null,null,null,null,null,null,{"$f":"COUNTIF(C$11:C$1000,C732)","v":0}]
[]
[]
[]
[]
[]
[]
[null,null,null,null,null,null,null,null,null,null,null,null,null,null,null,null,null,null,{"$f":"COUNTIF(C$11:C$1000,C739)","v":0}]
[]
[]
[]
[]
[]
[]
[null,null,null,null,null,null,null,null,null,null,null,null,null,null,null,null,null,null,{"$f":"COUNTIF(C$11:C$1000,C746)","v":0}]
[]
[]
[]
[]
[]
[]
[null,null,null,null,null,null,null,null,null,null,null,null,null,null,null,null,null,null,{"$f":"COUNTIF(C$11:C$1000,C753)","v":0}]
[]
[]
[]
[]
[]
[]
[null,null,null,null,null,null,null,null,null,null,null,null,null,null,null,null,null,null,{"$f":"COUNTIF(C$11:C$1000,C760)","v":0}]
[]
[]
[]
[]
[]
[]
[null,null,null,null,null,null,null,null,null,null,null,null,null,null,null,null,null,null,{"$f":"COUNTIF(C$11:C$1000,C767)","v":0}]
[]
[]
[]
[]
[]
[]
[null,null,null,null,null,null,null,null,null,null,null,null,null,null,null,null,null,null,{"$f":"COUNTIF(C$11:C$1000,C774)","v":0}]
[]
[]
[]
[]
[]
[]
[null,null,null,null,null,null,null,null,null,null,null,null,null,null,null,null,null,null,{"$f":"COUNTIF(C$11:C$1000,C781)","v":0}]
[]
[]
[]
[]
[]
[]
[null,null,null,null,null,null,null,null,null,null,null,null,null,null,null,null,null,null,{"$f":"COUNTIF(C$11:C$1000,C788)","v":0}]
[]
[]
[]
[]
[]
[]
[null,null,null,null,null,null,null,null,null,null,null,null,null,null,null,null,null,null,{"$f":"COUNTIF(C$11:C$1000,C795)","v":0}]
[]
[]
[]
[]
[]
[]
[null,null,null,null,null,null,null,null,null,null,null,null,null,null,null,null,null,null,{"$f":"COUNTIF(C$11:C$1000,C802)","v":0}]
[]
[]
[]
[]
[]
[]
[null,null,null,null,null,null,null,null,null,null,null,null,null,null,null,null,null,null,{"$f":"COUNTIF(C$11:C$1000,C809)","v":0}]
[]
[]
[]
[]
[]
[]
[null,null,null,null,null,null,null,null,null,null,null,null,null,null,null,null,null,null,{"$f":"COUNTIF(C$11:C$1000,C816)","v":0}]
[]
[]
[]
[]
[]
[]
[null,null,null,null,null,null,null,null,null,null,null,null,null,null,null,null,null,null,{"$f":"COUNTIF(C$11:C$1000,C823)","v":0}]
[]
[]
[]
[]
[]
[]
[null,null,null,null,null,null,null,null,null,null,null,null,null,null,null,null,null,null,{"$f":"COUNTIF(C$11:C$1000,C830)","v":0}]
[]
[]
[]
[]
[]
[]
[null,null,null,null,null,null,null,null,null,null,null,null,null,null,null,null,null,null,{"$f":"COUNTIF(C$11:C$1000,C837)","v":0}]
[]
[]
[]
[]
[]
[]
[null,null,null,null,null,null,null,null,null,null,null,null,null,null,null,null,null,null,{"$f":"COUNTIF(C$11:C$1000,C844)","v":0}]
[]
[]
[]
[]
[]
[]
[null,null,null,null,null,null,null,null,null,null,null,null,null,null,null,null,null,null,{"$f":"COUNTIF(C$11:C$1000,C851)","v":0}]
[]
[]
[]
[]
[]
[]
[null,null,null,null,null,null,null,null,null,null,null,null,null,null,null,null,null,null,{"$f":"COUNTIF(C$11:C$1000,C858)","v":0}]
[]
[]
[]
[]
[]
[]
[null,null,null,null,null,null,null,null,null,null,null,null,null,null,null,null,null,null,{"$f":"COUNTIF(C$11:C$1000,C865)","v":0}]
[]
[]
[]
[]
[]
[]
[null,null,null,null,null,null,null,null,null,null,null,null,null,null,null,null,null,null,{"$f":"COUNTIF(C$11:C$1000,C872)","v":0}]
[]
[]
[]
[]
[]
[]
[null,null,null,null,null,null,null,null,null,null,null,null,null,null,null,null,null,null,{"$f":"COUNTIF(C$11:C$1000,C879)","v":0}]
[]
[]
[]
[]
[]
[]
[null,null,null,null,null,null,null,null,null,null,null,null,null,null,null,null,null,null,{"$f":"COUNTIF(C$11:C$1000,C886)","v":0}]
[]
[]
[]
[]
[]
[]
[null,null,null,null,null,null,null,null,null,null,null,null,null,null,null,null,null,null,{"$f":"COUNTIF(C$11:C$1000,C893)","v":0}]
[]
[]
[]
[]
[]
[]
[null,null,null,null,null,null,null,null,null,null,null,null,null,null,null,null,null,null,{"$f":"COUNTIF(C$11:C$1000,C900)","v":0}]
[]
[]
[]
[]
[]
[]
[null,null,null,null,null,null,null,null,null,null,null,null,null,null,null,null,null,null,{"$f":"COUNTIF(C$11:C$1000,C907)","v":0}]
[]
[]
[]
[]
[]
[]
[null,null,null,null,null,null,null,null,null,null,null,null,null,null,null,null,null,null,{"$f":"COUNTIF(C$11:C$1000,C914)","v":0}]
[]
[]
[]
[]
[]
[]
[null,null,null,null,null,null,null,null,null,null,null,null,null,null,null,null,null,null,{"$f":"COUNTIF(C$11:C$1000,C921)","v":0}]
[]
[]
[]
[]
[]
[]
[null,null,null,null,null,null,null,null,null,null,null,null,null,null,null,null,null,null,{"$f":"COUNTIF(C$11:C$1000,C928)","v":0}]
[]
[]
[]
[]
[]
[]
[null,null,null,null,null,null,null,null,null,null,null,null,null,null,null,null,null,null,{"$f":"COUNTIF(C$11:C$1000,C935)","v":0}]
[]
[]
[]
[]
[]
[]
[null,null,null,null,null,null,null,null,null,null,null,null,null,null,null,null,null,null,{"$f":"COUNTIF(C$11:C$1000,C942)","v":0}]
[]
[]
[]
[]
[]
[]
[null,null,null,null,null,null,null,null,null,null,null,null,null,null,null,null,null,null,{"$f":"COUNTIF(C$11:C$1000,C949)","v":0}]
[]
[]
[]
[]
[]
[]
[null,null,null,null,null,null,null,null,null,null,null,null,null,null,null,null,null,null,{"$f":"COUNTIF(C$11:C$1000,C956)","v":0}]
[]
[]
[]
[]
[]
[]
[null,null,null,null,null,null,null,null,null,null,null,null,null,null,null,null,null,null,{"$f":"COUNTIF(C$11:C$1000,C963)","v":0}]
[]
[]
[]
[]
[]
[]
[null,null,null,null,null,null,null,null,null,null,null,null,null,null,null,null,null,null,{"$f":"COUNTIF(C$11:C$1000,C970)","v":0}]
[]
[]
[]
[]
[]
[]
[null,null,null,null,null,null,null,null,null,null,null,null,null,null,null,null,null,null,{"$f":"COUNTIF(C$11:C$1000,C977)","v":0}]
[]
[]
[]
[]
[]
[]
[null,null,null,null,null,null,null,null,null,null,null,null,null,null,null,null,null,null,{"$f":"COUNTIF(C$11:C$1000,C984)","v":0}]
[]
[]
[]
[]
[]
[]
[null,null,null,null,null,null,null,null,null,null,null,null,null,null,null,null,null,null,{"$f":"COUNTIF(C$11:C$1000,C991)","v":0}]
[]
[]
[]
[]
[]
[]
[null,null,null,null,null,null,null,null,null,null,null,null,null,null,null,null,null,null,{"$f":"COUNTIF(C$11:C$1000,C998)","v":0}]
[]
[]
[]
[]
[]
[]
[null,null,null,null,null,null,null,null,null,null,null,null,null,null,null,null,null,null,{"$f":"COUNTIF(C$11:C$1000,C1005)","v":0}]
[]
[]
[]
[]
[]
[]
[null,null,null,null,null,null,null,null,null,null,null,null,null,null,null,null,null,null,{"$f":"COUNTIF(C$11:C$1000,C1012)","v":0}]
[]
[]
[]
[]
[]
[]
[null,null,null,null,null,null,null,null,null,null,null,null,null,null,null,null,null,null,{"$f":"COUNTIF(C$11:C$1000,C1019)","v":0}]
[]
[]
[]
[]
[]
[]
[null,null,null,null,null,null,null,null,null,null,null,null,null,null,null,null,null,null,{"$f":"COUNTIF(C$11:C$1000,C1026)","v":0}]
[]
[]
[]
[]
[]
[]
[null,null,null,null,null,null,null,null,null,null,null,null,null,null,null,null,null,null,{"$f":"COUNTIF(C$11:C$1000,C1033)","v":0}]
[]
[]
[]
[]
[]
[]
[null,null,null,null,null,null,null,null,null,null,null,null,null,null,null,null,null,null,{"$f":"COUNTIF(C$11:C$1000,C1040)","v":0}]
[]
[]
[]
[]
[]
[]
[null,null,null,null,null,null,null,null,null,null,null,null,null,null,null,null,null,null,{"$f":"COUNTIF(C$11:C$1000,C1047)","v":0}]
[]
[]
[]
[]
[]
[]
[null,null,null,null,null,null,null,null,null,null,null,null,null,null,null,null,null,null,{"$f":"COUNTIF(C$11:C$1000,C1054)","v":0}]
[]
[]
[]
[]
[]
[]
[null,null,null,null,null,null,null,null,null,null,null,null,null,null,null,null,null,null,{"$f":"COUNTIF(C$11:C$1000,C1061)","v":0}]
[]
[]
[]
[]
[]
[]
[null,null,null,null,null,null,null,null,null,null,null,null,null,null,null,null,null,null,{"$f":"COUNTIF(C$11:C$1000,C1068)","v":0}]
[]
[]
[]
[]
[]
[]
[null,null,null,null,null,null,null,null,null,null,null,null,null,null,null,null,null,null,{"$f":"COUNTIF(C$11:C$1000,C1075)","v":0}]
[]
[]
[]
[]
[]
[]
[null,null,null,null,null,null,null,null,null,null,null,null,null,null,null,null,null,null,{"$f":"COUNTIF(C$11:C$1000,C1082)","v":0}]
[]
[]
[]
[]
[]
[]
[null,null,null,null,null,null,null,null,null,null,null,null,null,null,null,null,null,null,{"$f":"COUNTIF(C$11:C$1000,C1089)","v":0}]
[]
[]
[]
[]
[]
[]
[null,null,null,null,null,null,null,null,null,null,null,null,null,null,null,null,null,null,{"$f":"COUNTIF(C$11:C$1000,C1096)","v":0}]
[]
[]
[]
[]
[]
[]
[null,null,null,null,null,null,null,null,null,null,null,null,null,null,null,null,null,null,{"$f":"COUNTIF(C$11:C$1000,C1103)","v":0}]
[]
[]
[]
[]
[]
[]
[null,null,null,null,null,null,null,null,null,null,null,null,null,null,null,null,null,null,{"$f":"COUNTIF(C$11:C$1000,C1110)","v":0}]
[]
[]
[]
[]
[]
[]
[null,null,null,null,null,null,null,null,null,null,null,null,null,null,null,null,null,null,{"$f":"COUNTIF(C$11:C$1000,C1117)","v":0}]
[]
[]
[]
[]
[]
[]
[null,null,null,null,null,null,null,null,null,null,null,null,null,null,null,null,null,null,{"$f":"COUNTIF(C$11:C$1000,C1124)","v":0}]
[]
[]
[]
[]
[]
[]
[null,null,null,null,null,null,null,null,null,null,null,null,null,null,null,null,null,null,{"$f":"COUNTIF(C$11:C$1000,C1131)","v":0}]
[]
[]
[]
[]
[]
[]
[null,null,null,null,null,null,null,null,null,null,null,null,null,null,null,null,null,null,{"$f":"COUNTIF(C$11:C$1000,C1138)","v":0}]
[]
[]
[]
[]
[]
[]
[null,null,null,null,null,null,null,null,null,null,null,null,null,null,null,null,null,null,{"$f":"COUNTIF(C$11:C$1000,C1145)","v":0}]
[]
[]
[]
[]
[]
[]
[null,null,null,null,null,null,null,null,null,null,null,null,null,null,null,null,null,null,{"$f":"COUNTIF(C$11:C$1000,C1152)","v":0}]
[]
[]
[]
[]
[]
[]
[null,null,null,null,null,null,null,null,null,null,null,null,null,null,null,null,null,null,{"$f":"COUNTIF(C$11:C$1000,C1159)","v":0}]
[]
[]
[]
[]
[]
[]
[null,null,null,null,null,null,null,null,null,null,null,null,null,null,null,null,null,null,{"$f":"COUNTIF(C$11:C$1000,C1166)","v":0}]
[]
[]
[]
[]
[]
[]
[null,null,null,null,null,null,null,null,null,null,null,null,null,null,null,null,null,null,{"$f":"COUNTIF(C$11:C$1000,C1173)","v":0}]
[]
[]
[]
[]
[]
[]
[null,null,null,null,null,null,null,null,null,null,null,null,null,null,null,null,null,null,{"$f":"COUNTIF(C$11:C$1000,C1180)","v":0}]
[]
[]
[]
[]
[]
[]
[null,null,null,null,null,null,null,null,null,null,null,null,null,null,null,null,null,null,{"$f":"COUNTIF(C$11:C$1000,C1187)","v":0}]
[]
[]
[]
[]
[]
[]
[null,null,null,null,null,null,null,null,null,null,null,null,null,null,null,null,null,null,{"$f":"COUNTIF(C$11:C$1000,C1194)","v":0}]
[]
[]
[]
[]
[]
[]
[null,null,null,null,null,null,null,null,null,null,null,null,null,null,null,null,null,null,{"$f":"COUNTIF(C$11:C$1000,C1201)","v":0}]
[]
[]
[]
[]
[]
[]
[null,null,null,null,null,null,null,null,null,null,null,null,null,null,null,null,null,null,{"$f":"COUNTIF(C$11:C$1000,C1208)","v":0}]
[]
[]
[]
[]
[]
[]
[null,null,null,null,null,null,null,null,null,null,null,null,null,null,null,null,null,null,{"$f":"COUNTIF(C$11:C$1000,C1215)","v":0}]
[]
[]
[]
[]
[]
[]
[null,null,null,null,null,null,null,null,null,null,null,null,null,null,null,null,null,null,{"$f":"COUNTIF(C$11:C$1000,C1222)","v":0}]
[]
[]
[]
[]
[]
[]
[null,null,null,null,null,null,null,null,null,null,null,null,null,null,null,null,null,null,{"$f":"COUNTIF(C$11:C$1000,C1229)","v":0}]
[]
[]
[]
[]
[]
[]
[null,null,null,null,null,null,null,null,null,null,null,null,null,null,null,null,null,null,{"$f":"COUNTIF(C$11:C$1000,C1236)","v":0}]
[]
[]
[]
[]
[]
[]
[null,null,null,null,null,null,null,null,null,null,null,null,null,null,null,null,null,null,{"$f":"COUNTIF(C$11:C$1000,C1243)","v":0}]
[]
[]
[]
[]
[]
[]
[null,null,null,null,null,null,null,null,null,null,null,null,null,null,null,null,null,null,{"$f":"COUNTIF(C$11:C$1000,C1250)","v":0}]
[]
[]
[]
[]
[]
[]
[null,null,null,null,null,null,null,null,null,null,null,null,null,null,null,null,null,null,{"$f":"COUNTIF(C$11:C$1000,C1257)","v":0}]
[]
[]
[]
[]
[]
[]
[null,null,null,null,null,null,null,null,null,null,null,null,null,null,null,null,null,null,{"$f":"COUNTIF(C$11:C$1000,C1264)","v":0}]
[]
[]
[]
[]
[]
[]
[null,null,null,null,null,null,null,null,null,null,null,null,null,null,null,null,null,null,{"$f":"COUNTIF(C$11:C$1000,C1271)","v":0}]
[]
[]
[]
[]
[]
[]
[null,null,null,null,null,null,null,null,null,null,null,null,null,null,null,null,null,null,{"$f":"COUNTIF(C$11:C$1000,C1278)","v":0}]
[]
[]
[]
[]
[]
[]
[null,null,null,null,null,null,null,null,null,null,null,null,null,null,null,null,null,null,{"$f":"COUNTIF(C$11:C$1000,C1285)","v":0}]
[]
[]
[]
[]
[]
[]
[null,null,null,null,null,null,null,null,null,null,null,null,null,null,null,null,null,null,{"$f":"COUNTIF(C$11:C$1000,C1292)","v":0}]
[]
[]
[]
[]
[]
[]
[null,null,null,null,null,null,null,null,null,null,null,null,null,null,null,null,null,null,{"$f":"COUNTIF(C$11:C$1000,C1299)","v":0}]
[]
[]
[]
[]
[]
[]
[null,null,null,null,null,null,null,null,null,null,null,null,null,null,null,null,null,null,{"$f":"COUNTIF(C$11:C$1000,C1306)","v":0}]
[]
[]
[]
[]
[]
[]
[null,null,null,null,null,null,null,null,null,null,null,null,null,null,null,null,null,null,{"$f":"COUNTIF(C$11:C$1000,C1313)","v":0}]
[]
[]
[]
[]
[]
[]
[null,null,null,null,null,null,null,null,null,null,null,null,null,null,null,null,null,null,{"$f":"COUNTIF(C$11:C$1000,C1320)","v":0}]
[]
[]
[]
[]
[]
[]
[null,null,null,null,null,null,null,null,null,null,null,null,null,null,null,null,null,null,{"$f":"COUNTIF(C$11:C$1000,C1327)","v":0}]
[]
[]
[]
[]
[]
[]
[null,null,null,null,null,null,null,null,null,null,null,null,null,null,null,null,null,null,{"$f":"COUNTIF(C$11:C$1000,C1334)","v":0}]
[]
[]
[]
[]
[]
[]
[null,null,null,null,null,null,null,null,null,null,null,null,null,null,null,null,null,null,{"$f":"COUNTIF(C$11:C$1000,C1341)","v":0}]
[]
[]
[]
[]
[]
[]
[null,null,null,null,null,null,null,null,null,null,null,null,null,null,null,null,null,null,{"$f":"COUNTIF(C$11:C$1000,C1348)","v":0}]
[]
[]
[]
[]
[]
[]
[null,null,null,null,null,null,null,null,null,null,null,null,null,null,null,null,null,null,{"$f":"COUNTIF(C$11:C$1000,C1355)","v":0}]
[]
[]
[]
[]
[]
[]
[null,null,null,null,null,null,null,null,null,null,null,null,null,null,null,null,null,null,{"$f":"COUNTIF(C$11:C$1000,C1362)","v":0}]

{"sheet":"女子エントリー","index":2,"n_rows":1236,"n_cols":22,"rows_kept":1236,"cut":false,"hidden":false,"merged":[[144,11,145,11],[144,4,145,4],[144,3,145,3],[143,5,145,5],[143,2,145,2],[143,1,145,1],[143,0,145,0],[137,11,138,11],[137,4,138,4],[137,3,138,3],[136,5,138,5],[136,2,138,2],[136,1,138,1],[136,0,138,0],[130,11,131,11],[130,4,131,4],[130,3,131,3],[129,5,131,5],[129,2,131,2],[129,1,131,1],[129,0,131,0],[123,11,124,11],[123,4,124,4],[123,3,124,3],[122,5,124,5],[122,2,124,2],[122,1,124,1],[122,0,124,0],[116,11,117,11],[116,4,117,4],[116,3,117,3],[115,5,117,5],[115,2,117,2],[115,1,117,1],[115,0,117,0],[109,11,110,11],[109,4,110,4],[109,3,110,3],[108,5,110,5],[108,2,110,2],[108,1,110,1],[108,0,110,0],[102,11,103,11],[102,4,103,4],[102,3,103,3],[101,5,103,5],[101,2,103,2],[101,1,103,1],[101,0,103,0],[95,11,96,11],[95,4,96,4],[95,3,96,3],[94,5,96,5],[94,2,96,2],[94,1,96,1],[94,0,96,0],[88,4,89,4],[88,3,89,3],[87,5,89,5],[87,2,89,2],[87,1,89,1],[87,0,89,0],[81,11,82,11],[81,4,82,4],[81,3,82,3],[80,5,82,5],[80,2,82,2],[80,1,82,1],[80,0,82,0],[88,11,89,11],[74,11,75,11],[46,11,47,11],[53,11,54,11],[32,11,33,11],[18,11,19,11],[67,11,68,11],[38,0,40,0],[38,1,40,1],[38,2,40,2],[38,5,40,5],[39,3,40,3],[39,4,40,4],[31,0,33,0],[31,1,33,1],[31,2,33,2],[31,5,33,5],[32,3,33,3],[32,4,33,4],[73,0,75,0],[73,1,75,1],[73,2,75,2],[73,5,75,5],[74,3,75,3],[74,4,75,4],[0,0,1,4],[4,3,5,3],[3,0,5,0],[3,1,5,2],[3,5,5,5],[4,4,5,4],[60,11,61,11],[0,6,1,10],[2,8,2,10],[10,0,12,0],[10,1,12,1],[10,2,12,2],[10,5,12,5],[11,3,12,3],[11,4,12,4],[4,11,5,11],[11,11,12,11],[39,11,40,11],[25,11,26,11],[0,11,1,11],[17,0,19,0],[17,1,19,1],[17,2,19,2],[17,5,19,5],[18,3,19,3],[18,4,19,4],[24,0,26,0],[24,1,26,1],[24,2,26,2],[24,5,26,5],[25,3,26,3],[25,4,26,4],[45,0,47,0],[45,1,47,1],[45,2,47,2],[45,5,47,5],[46,3,47,3],[46,4,47,4],[66,0,68,0],[66,1,68,1],[66,2,68,2],[66,5,68,5],[67,3,68,3],[67,4,68,4],[52,0,54,0],[52,1,54,1],[52,2,54,2],[52,5,54,5],[53,3,54,3],[53,4,54,4],[59,0,61,0],[59,1,61,1],[59,2,61,2],[59,5,61,5],[60,3,61,3],[60,4,61,4]]}
[{"$f":"東北総体!C11","v":0},null,null,null,null,null,"団体申込一覧（女子）",null,null,null,null,"(様式Ⅰ)"]
[null,null,null,null,null,null,null,null,null,null,null,null,null,null,null,null,null,null,null,"マイル"]
["下記のエントリーに申し違いはありません",null,null,null,null,null,"申込責任者",null,{"$f":"東北総体!C25","v":0}]
["№","登録番号",null,"ﾌﾘｶﾞﾅ","学年",null,"出場種目１","記録","記録を樹立した競技会名","樹立ラウンド","樹立年月日","4×100mR"]
[null,null,null,"氏名","登録陸協",null,"出場種目２","記録","記録を樹立した競技会名","樹立ラウンド","樹立年月日","○",null,null,"○",1,"女子100m"]
[null,null,null,null,null,null,"出場種目３","記録","記録を樹立した競技会名","樹立ラウンド","樹立年月日",null,null,null,null,2,"女子200m"]
[null,null,null,null,null,null,"出場種目４","記録","記録を樹立した競技会名","樹立ラウンド","樹立年月日",null,null,null,null,3,"女子400m"]
[null,null,null,null,null,null,"出場種目５","記録","記録を樹立した競技会名","樹立ラウンド","樹立年月日",null,null,null,null,4,"女子800m"]
[null,null,null,null,null,null,"出場種目６","記録","記録を樹立した競技会名","樹立ラウンド","樹立年月日",null,null,null,null,5,"女子1500m"]
[null,null,null,null,null,null,null,null,null,null,null,null,null,null,null,6,"女子5000m"]
[1,"２　－",null,{"$f":"IF(C11=\"\",\"\",VLOOKUP(C11,登録名簿!$A$500:$E$2000,3))","v":""},{"$f":"IF(C11=\"\",\"\",VLOOKUP(C11,登録名簿!$A$500:$E$2000,4))","v":""},null,null,null,null,null,null,"4×100m",null,null,null,7,"女子100mH",null,{"$f":"COUNTIF(C$11:C$1000,C11)","v":0}]
[null,null,null,{"$f":"IF(C11=\"\",\"\",VLOOKUP(C11,登録名簿!$A$500:$E$2000,2))","v":""},{"$f":"IF(C11=\"\",\"\",VLOOKUP(C11,登録名簿!$A$500:$E$2000,5))","v":""},null,null,null,null,null,null,null,null,null,null,8,"女子400mH",null,null,null,null,"予選"]
[null,null,null,null,{"$f":"IF(D13=\"\",\"\",VLOOKUP(D13,男子エントリー!$B$4:$F$149,2))","v":""},null,null,null,null,null,null,null,null,null,null,9,"女子走高跳",null,null,null,null,"準決勝"]
[null,null,null,null,null,null,null,null,null,null,null,null,null,null,null,10,"女子走幅跳",null,null,null,null,"決勝"]
[null,null,null,null,null,null,null,null,null,null,null,null,null,null,null,11,"女子三段跳",null,null,null,null,"1次予選"]
[null,null,null,null,null,null,null,null,null,null,null,null,null,null,null,12,"女子砲丸投(4.000kg)",null,null,null,null,"2次予選"]
[null,null,null,null,null,null,null,null,null,null,null,null,null,null,null,13,"女子円盤投(1.000kg)",null,null,null,null,"競技会"]
[2,"２　－",null,{"$f":"IF(C18=\"\",\"\",VLOOKUP(C18,登録名簿!$A$500:$E$2000,3))","v":""},{"$f":"IF(C18=\"\",\"\",VLOOKUP(C18,登録名簿!$A$500:$E$2000,4))","v":""},null,null,null,null,null,null,"4×100m",null,null,null,14,"女子やり投(600g)",null,{"$f":"COUNTIF(C$11:C$1000,C18)","v":0}]
[null,null,null,{"$f":"IF(C18=\"\",\"\",VLOOKUP(C18,登録名簿!$A$500:$E$2000,2))","v":""},{"$f":"IF(C18=\"\",\"\",VLOOKUP(C18,登録名簿!$A$500:$E$2000,5))","v":""},null,null,null,null,null,null,null,null,null,null,15]
[null,null,null,null,{"$f":"IF(D20=\"\",\"\",VLOOKUP(D20,男子エントリー!$B$4:$F$149,2))","v":""},null,null,null,null,null,null,null,null,null,null,16]
[null,null,null,null,null,null,null,null,null,null,null,null,null,null,null,17]
[null,null,null,null,null,null,null,null,null,null,null,null,null,null,null,18]
[null,null,null,null,null,null,null,null,null,null,null,null,null,null,null,19]
[null,null,null,null,null,null,null,null,null,null,null,null,null,null,null,20]
[3,"２　－",null,{"$f":"IF(C25=\"\",\"\",VLOOKUP(C25,登録名簿!$A$500:$E$2000,3))","v":""},{"$f":"IF(C25=\"\",\"\",VLOOKUP(C25,登録名簿!$A$500:$E$2000,4))","v":""},null,null,null,null,null,null,"4×100m",null,null,null,21,null,null,{"$f":"COUNTIF(C$11:C$1000,C25)","v":0}]
[null,null,null,{"$f":"IF(C25=\"\",\"\",VLOOKUP(C25,登録名簿!$A$500:$E$2000,2))","v":""},{"$f":"IF(C25=\"\",\"\",VLOOKUP(C25,登録名簿!$A$500:$E$2000,5))","v":""},null,null,null,null,null,null,null,null,null,null,22]
[null,null,null,null,{"$f":"IF(D27=\"\",\"\",VLOOKUP(D27,男子エントリー!$B$4:$F$149,2))","v":""},null,null,null,null,null,null,null,null,null,null,23]
[null,null,null,null,null,null,null,null,null,null,null,null,null,null,null,24]
[null,null,null,null,null,null,null,null,null,null,null,null,null,null,null,25]
[]
[]
[4,"２　－",null,{"$f":"IF(C32=\"\",\"\",VLOOKUP(C32,登録名簿!$A$500:$E$2000,3))","v":""},{"$f":"IF(C32=\"\",\"\",VLOOKUP(C32,登録名簿!$A$500:$E$2000,4))","v":""},null,null,null,null," ",null,"4×100m",null,null,null,null,null,null,{"$f":"COUNTIF(C$11:C$1000,C32)","v":0}]
[null,null,null,{"$f":"IF(C32=\"\",\"\",VLOOKUP(C32,登録名簿!$A$500:$E$2000,2))","v":""},{"$f":"IF(C32=\"\",\"\",VLOOKUP(C32,登録名簿!$A$500:$E$2000,5))","v":""}]
[null,null,null,null,{"$f":"IF(D34=\"\",\"\",VLOOKUP(D34,男子エントリー!$B$4:$F$149,2))","v":""}]
[]
[]
[]
[]
[5,"２　－",null,{"$f":"IF(C39=\"\",\"\",VLOOKUP(C39,登録名簿!$A$500:$E$2000,3))","v":""},{"$f":"IF(C39=\"\",\"\",VLOOKUP(C39,登録名簿!$A$500:$E$2000,4))","v":""},null,null,null,null," ",null,"4×100m",null,null,null,null,null,null,{"$f":"COUNTIF(C$11:C$1000,C39)","v":0}]
[null,null,null,{"$f":"IF(C39=\"\",\"\",VLOOKUP(C39,登録名簿!$A$500:$E$2000,2))","v":""},{"$f":"IF(C39=\"\",\"\",VLOOKUP(C39,登録名簿!$A$500:$E$2000,5))","v":""}]
[null,null,null,null,{"$f":"IF(D41=\"\",\"\",VLOOKUP(D41,男子エントリー!$B$4:$F$149,2))","v":""}]
[]
[]
[]
[]
[6,"２　－",null,{"$f":"IF(C46=\"\",\"\",VLOOKUP(C46,登録名簿!$A$500:$E$2000,3))","v":""},{"$f":"IF(C46=\"\",\"\",VLOOKUP(C46,登録名簿!$A$500:$E$2000,4))","v":""},null,null,null,null," ",null,"4×100m",null,null,null,null,null,null,{"$f":"COUNTIF(C$11:C$1000,C46)","v":0}]
[null,null,null,{"$f":"IF(C46=\"\",\"\",VLOOKUP(C46,登録名簿!$A$500:$E$2000,2))","v":""},{"$f":"IF(C46=\"\",\"\",VLOOKUP(C46,登録名簿!$A$500:$E$2000,5))","v":""}]
[null,null,null,null,{"$f":"IF(D48=\"\",\"\",VLOOKUP(D48,男子エントリー!$B$4:$F$149,2))","v":""}]
[]
[]
[]
[]
[7,"２　－",null,{"$f":"IF(C53=\"\",\"\",VLOOKUP(C53,登録名簿!$A$500:$E$2000,3))","v":""},{"$f":"IF(C53=\"\",\"\",VLOOKUP(C53,登録名簿!$A$500:$E$2000,4))","v":""},null,null,null,null," ",null,"4×100m",null,null,null,null,null,null,{"$f":"COUNTIF(C$11:C$1000,C53)","v":0}]
[null,null,null,{"$f":"IF(C53=\"\",\"\",VLOOKUP(C53,登録名簿!$A$500:$E$2000,2))","v":""},{"$f":"IF(C53=\"\",\"\",VLOOKUP(C53,登録名簿!$A$500:$E$2000,5))","v":""}]
[null,null,null,null,{"$f":"IF(D55=\"\",\"\",VLOOKUP(D55,男子エントリー!$B$4:$F$149,2))","v":""}]
[]
[]
[]
[]
[8,"２　－",null,{"$f":"IF(C60=\"\",\"\",VLOOKUP(C60,登録名簿!$A$500:$E$2000,3))","v":""},{"$f":"IF(C60=\"\",\"\",VLOOKUP(C60,登録名簿!$A$500:$E$2000,4))","v":""},null,null,null,null," ",null,"4×100m",null,null,null,null,null,null,{"$f":"COUNTIF(C$11:C$1000,C60)","v":0}]
[null,null,null,{"$f":"IF(C60=\"\",\"\",VLOOKUP(C60,登録名簿!$A$500:$E$2000,2))","v":""},{"$f":"IF(C60=\"\",\"\",VLOOKUP(C60,登録名簿!$A$500:$E$2000,5))","v":""}]
[null,null,null,null,{"$f":"IF(D62=\"\",\"\",VLOOKUP(D62,男子エントリー!$B$4:$F$149,2))","v":""}]
[]
[]
[]
[]
[9,"２　－",null,{"$f":"IF(C67=\"\",\"\",VLOOKUP(C67,登録名簿!$A$500:$E$2000,3))","v":""},{"$f":"IF(C67=\"\",\"\",VLOOKUP(C67,登録名簿!$A$500:$E$2000,4))","v":""},null,null,null,null," ",null,"4×100m",null,null,null,null,null,null,{"$f":"COUNTIF(C$11:C$1000,C67)","v":0}]
[null,null,null,{"$f":"IF(C67=\"\",\"\",VLOOKUP(C67,登録名簿!$A$500:$E$2000,2))","v":""},{"$f":"IF(C67=\"\",\"\",VLOOKUP(C67,登録名簿!$A$500:$E$2000,5))","v":""}]
[null,null,null,null,{"$f":"IF(D69=\"\",\"\",VLOOKUP(D69,男子エントリー!$B$4:$F$149,2))","v":""}]
[]
[]
[]
[]
[10,"２　－",null,{"$f":"IF(C74=\"\",\"\",VLOOKUP(C74,登録名簿!$A$500:$E$2000,3))","v":""},{"$f":"IF(C74=\"\",\"\",VLOOKUP(C74,登録名簿!$A$500:$E$2000,4))","v":""},null,null,null,null," ",null,"4×100m",null,null,null,null,null,null,{"$f":"COUNTIF(C$11:C$1000,C74)","v":0}]
[null,null,null,{"$f":"IF(C74=\"\",\"\",VLOOKUP(C74,登録名簿!$A$500:$E$2000,2))","v":""},{"$f":"IF(C74=\"\",\"\",VLOOKUP(C74,登録名簿!$A$500:$E$2000,5))","v":""}]
[null,null,null,null,{"$f":"IF(D76=\"\",\"\",VLOOKUP(D76,男子エントリー!$B$4:$F$149,2))","v":""}]
[]
[]
[]
[]
[11,"２　－",null,{"$f":"IF(C81=\"\",\"\",VLOOKUP(C81,登録名簿!$A$500:$E$2000,3))","v":""},{"$f":"IF(C81=\"\",\"\",VLOOKUP(C81,登録名簿!$A$500:$E$2000,4))","v":""},null,null,null,null," ",null,"4×100m",null,null,null,null,null,null,{"$f":"COUNTIF(C$11:C$1000,C81)","v":0}]
[null,null,null,{"$f":"IF(C81=\"\",\"\",VLOOKUP(C81,登録名簿!$A$500:$E$2000,2))","v":""},{"$f":"IF(C81=\"\",\"\",VLOOKUP(C81,登録名簿!$A$500:$E$2000,5))","v":""}]
[null,null,null,null,{"$f":"IF(D83=\"\",\"\",VLOOKUP(D83,男子エントリー!$B$4:$F$149,2))","v":""}]
[]
[]
[]
[]
[12,"２　－",null,{"$f":"IF(C88=\"\",\"\",VLOOKUP(C88,登録名簿!$A$500:$E$2000,3))","v":""},{"$f":"IF(C88=\"\",\"\",VLOOKUP(C88,登録名簿!$A$500:$E$2000,4))","v":""},null,null,null,null," ",null,"4×100m",null,null,null,null,null,null,{"$f":"COUNTIF(C$11:C$1000,C88)","v":0}]
[null,null,null,{"$f":"IF(C88=\"\",\"\",VLOOKUP(C88,登録名簿!$A$500:$E$2000,2))","v":""},{"$f":"IF(C88=\"\",\"\",VLOOKUP(C88,登録名簿!$A$500:$E$2000,5))","v":""}]
[null,null,null,null,{"$f":"IF(D90=\"\",\"\",VLOOKUP(D90,男子エントリー!$B$4:$F$149,2))","v":""}]
[]
[]
[]
[]
[13,"２　－",null,{"$f":"IF(C95=\"\",\"\",VLOOKUP(C95,登録名簿!$A$500:$E$2000,3))","v":""},{"$f":"IF(C95=\"\",\"\",VLOOKUP(C95,登録名簿!$A$500:$E$2000,4))","v":""},null,null,null,null," ",null,"4×100m",null,null,null,null,null,null,{"$f":"COUNTIF(C$11:C$1000,C95)","v":0}]
[null,null,null,{"$f":"IF(C95=\"\",\"\",VLOOKUP(C95,登録名簿!$A$500:$E$2000,2))","v":""},{"$f":"IF(C95=\"\",\"\",VLOOKUP(C95,登録名簿!$A$500:$E$2000,5))","v":""}]
[null,null,null,null,{"$f":"IF(D97=\"\",\"\",VLOOKUP(D97,男子エントリー!$B$4:$F$149,2))","v":""}]
[]
[]
[]
[]
[14,"２　－",null,{"$f":"IF(C102=\"\",\"\",VLOOKUP(C102,登録名簿!$A$500:$E$2000,3))","v":""},{"$f":"IF(C102=\"\",\"\",VLOOKUP(C102,登録名簿!$A$500:$E$2000,4))","v":""},null,null,null,null," ",null,"4×100m",null,null,null,null,null,null,{"$f":"COUNTIF(C$11:C$1000,C102)","v":0}]
[null,null,null,{"$f":"IF(C102=\"\",\"\",VLOOKUP(C102,登録名簿!$A$500:$E$2000,2))","v":""},{"$f":"IF(C102=\"\",\"\",VLOOKUP(C102,登録名簿!$A$500:$E$2000,5))","v":""}]
[null,null,null,null,{"$f":"IF(D104=\"\",\"\",VLOOKUP(D104,男子エントリー!$B$4:$F$149,2))","v":""}]
[]
[]
[]
[]
[15,"２　－",null,{"$f":"IF(C109=\"\",\"\",VLOOKUP(C109,登録名簿!$A$500:$E$2000,3))","v":""},{"$f":"IF(C109=\"\",\"\",VLOOKUP(C109,登録名簿!$A$500:$E$2000,4))","v":""},null,null,null,null," ",null,"4×100m",null,null,null,null,null,null,{"$f":"COUNTIF(C$11:C$1000,C109)","v":0}]
[null,null,null,{"$f":"IF(C109=\"\",\"\",VLOOKUP(C109,登録名簿!$A$500:$E$2000,2))","v":""},{"$f":"IF(C109=\"\",\"\",VLOOKUP(C109,登録名簿!$A$500:$E$2000,5))","v":""}]
[null,null,null,null,{"$f":"IF(D111=\"\",\"\",VLOOKUP(D111,男子エントリー!$B$4:$F$149,2))","v":""}]
[]
[]
[]
[]
[16,"２　－",null,{"$f":"IF(C116=\"\",\"\",VLOOKUP(C116,登録名簿!$A$500:$E$2000,3))","v":""},{"$f":"IF(C116=\"\",\"\",VLOOKUP(C116,登録名簿!$A$500:$E$2000,4))","v":""},null,null,null,null," ",null,"4×100m",null,null,null,null,null,null,{"$f":"COUNTIF(C$11:C$1000,C116)","v":0}]
[null,null,null,{"$f":"IF(C116=\"\",\"\",VLOOKUP(C116,登録名簿!$A$500:$E$2000,2))","v":""},{"$f":"IF(C116=\"\",\"\",VLOOKUP(C116,登録名簿!$A$500:$E$2000,5))","v":""}]
[null,null,null,null,{"$f":"IF(D118=\"\",\"\",VLOOKUP(D118,男子エントリー!$B$4:$F$149,2))","v":""}]
[]
[]
[]
[]
[17,"２　－",null,{"$f":"IF(C123=\"\",\"\",VLOOKUP(C123,登録名簿!$A$500:$E$2000,3))","v":""},{"$f":"IF(C123=\"\",\"\",VLOOKUP(C123,登録名簿!$A$500:$E$2000,4))","v":""},null,null,null,null," ",null,"4×100m",null,null,null,null,null,null,{"$f":"COUNTIF(C$11:C$1000,C123)","v":0}]
[null,null,null,{"$f":"IF(C123=\"\",\"\",VLOOKUP(C123,登録名簿!$A$500:$E$2000,2))","v":""},{"$f":"IF(C123=\"\",\"\",VLOOKUP(C123,登録名簿!$A$500:$E$2000,5))","v":""}]
[null,null,null,null,{"$f":"IF(D125=\"\",\"\",VLOOKUP(D125,男子エントリー!$B$4:$F$149,2))","v":""}]
[]
[]
[]
[]
[18,"２　－",null,{"$f":"IF(C130=\"\",\"\",VLOOKUP(C130,登録名簿!$A$500:$E$2000,3))","v":""},{"$f":"IF(C130=\"\",\"\",VLOOKUP(C130,登録名簿!$A$500:$E$2000,4))","v":""},null,null,null,null," ",null,"4×100m",null,null,null,null,null,null,{"$f":"COUNTIF(C$11:C$1000,C130)","v":0}]
[null,null,null,{"$f":"IF(C130=\"\",\"\",VLOOKUP(C130,登録名簿!$A$500:$E$2000,2))","v":""},{"$f":"IF(C130=\"\",\"\",VLOOKUP(C130,登録名簿!$A$500:$E$2000,5))","v":""}]
[null,null,null,null,{"$f":"IF(D132=\"\",\"\",VLOOKUP(D132,男子エントリー!$B$4:$F$149,2))","v":""}]
[]
[]
[]
[]
[19,"２　－",null,{"$f":"IF(C137=\"\",\"\",VLOOKUP(C137,登録名簿!$A$500:$E$2000,3))","v":""},{"$f":"IF(C137=\"\",\"\",VLOOKUP(C137,登録名簿!$A$500:$E$2000,4))","v":""},null,null,null,null," ",null,"4×100m",null,null,null,null,null,null,{"$f":"COUNTIF(C$11:C$1000,C137)","v":0}]
[null,null,null,{"$f":"IF(C137=\"\",\"\",VLOOKUP(C137,登録名簿!$A$500:$E$2000,2))","v":""},{"$f":"IF(C137=\"\",\"\",VLOOKUP(C137,登録名簿!$A$500:$E$2000,5))","v":""}]
[null,null,null,null,{"$f":"IF(D139=\"\",\"\",VLOOKUP(D139,男子エントリー!$B$4:$F$149,2))","v":""}]
[]
[]
[]
[]
[20,"２　－",null,{"$f":"IF(C144=\"\",\"\",VLOOKUP(C144,登録名簿!$A$500:$E$2000,3))","v":""},{"$f":"IF(C144=\"\",\"\",VLOOKUP(C144,登録名簿!$A$500:$E$2000,4))","v":""},null,null,null,null," ",null,"4×100m",null,null,null,null,null,null,{"$f":"COUNTIF(C$11:C$1000,C144)","v":0}]
[null,null,null,{"$f":"IF(C144=\"\",\"\",VLOOKUP(C144,登録名簿!$A$500:$E$2000,2))","v":""},{"$f":"IF(C144=\"\",\"\",VLOOKUP(C144,登録名簿!$A$500:$E$2000,5))","v":""}]
[null,null,null,null,{"$f":"IF(D146=\"\",\"\",VLOOKUP(D146,男子エントリー!$B$4:$F$149,2))","v":""}]
[]
[]
[]
[]
[null,null,null,null,null,null,null,null,null,null,null,null,null,null,null,null,null,null,{"$f":"COUNTIF(C$11:C$1000,C151)","v":0}]
[]
[]
[]
[]
[]
[]
[null,null,null,null,null,null,null,null,null,null,null,null,null,null,null,null,null,null,{"$f":"COUNTIF(C$11:C$1000,C158)","v":0}]
[]
[]
[]
[]
[]
[]
[null,null,null,null,null,null,null,null,null,null,null,null,null,null,null,null,null,null,{"$f":"COUNTIF(C$11:C$1000,C165)","v":0}]
[]
[]
[]
[]
[]
[]
[null,null,null,null,null,null,null,null,null,null,null,null,null,null,null,null,null,null,{"$f":"COUNTIF(C$11:C$1000,C172)","v":0}]
[]
[]
[]
[]
[]
[]
[null,null,null,null,null,null,null,null,null,null,null,null,null,null,null,null,null,null,{"$f":"COUNTIF(C$11:C$1000,C179)","v":0}]
[]
[]
[]
[]
[]
[]
[null,null,null,null,null,null,null,null,null,null,null,null,null,null,null,null,null,null,{"$f":"COUNTIF(C$11:C$1000,C186)","v":0}]
[]
[]
[]
[]
[]
[]
[null,null,null,null,null,null,null,null,null,null,null,null,null,null,null,null,null,null,{"$f":"COUNTIF(C$11:C$1000,C193)","v":0}]
[]
[]
[]
[]
[]
[]
[null,null,null,null,null,null,null,null,null,null,null,null,null,null,null,null,null,null,{"$f":"COUNTIF(C$11:C$1000,C200)","v":0}]
[]
[]
[]
[]
[]
[]
[null,null,null,null,null,null,null,null,null,null,null,null,null,null,null,null,null,null,{"$f":"COUNTIF(C$11:C$1000,C207)","v":0}]
[]
[]
[]
[]
[]
[]
[null,null,null,null,null,null,null,null,null,null,null,null,null,null,null,null,null,null,{"$f":"COUNTIF(C$11:C$1000,C214)","v":0}]
[]
[]
[]
[]
[]
[]
[null,null,null,null,null,null,null,null,null,null,null,null,null,null,null,null,null,null,{"$f":"COUNTIF(C$11:C$1000,C221)","v":0}]
[]
[]
[]
[]
[]
[]
[null,null,null,null,null,null,null,null,null,null,null,null,null,null,null,null,null,null,{"$f":"COUNTIF(C$11:C$1000,C228)","v":0}]
[]
[]
[]
[]
[]
[]
[null,null,null,null,null,null,null,null,null,null,null,null,null,null,null,null,null,null,{"$f":"COUNTIF(C$11:C$1000,C235)","v":0}]
[]
[]
[]
[]
[]
[]
[null,null,null,null,null,null,null,null,null,null,null,null,null,null,null,null,null,null,{"$f":"COUNTIF(C$11:C$1000,C242)","v":0}]
[]
[]
[]
[]
[]
[]
[null,null,null,null,null,null,null,null,null,null,null,null,null,null,null,null,null,null,{"$f":"COUNTIF(C$11:C$1000,C249)","v":0}]
[]
[]
[]
[]
[]
[]
[null,null,null,null,null,null,null,null,null,null,null,null,null,null,null,null,null,null,{"$f":"COUNTIF(C$11:C$1000,C256)","v":0}]
[]
[]
[]
[]
[]
[]
[null,null,null,null,null,null,null,null,null,null,null,null,null,null,null,null,null,null,{"$f":"COUNTIF(C$11:C$1000,C263)","v":0}]
[]
[]
[]
[]
[]
[]
[null,null,null,null,null,null,null,null,null,null,null,null,null,null,null,null,null,null,{"$f":"COUNTIF(C$11:C$1000,C270)","v":0}]
[]
[]
[]
[]
[]
[]
[null,null,null,null,null,null,null,null,null,null,null,null,null,null,null,null,null,null,{"$f":"COUNTIF(C$11:C$1000,C277)","v":0}]
[]
[]
[]
[]
[]
[]
[null,null,null,null,null,null,null,null,null,null,null,null,null,null,null,null,null,null,{"$f":"COUNTIF(C$11:C$1000,C284)","v":0}]
[]
[]
[]
[]
[]
[]
[null,null,null,null,null,null,null,null,null,null,null,null,null,null,null,null,null,null,{"$f":"COUNTIF(C$11:C$1000,C291)","v":0}]
[]
[]
[]
[]
[]
[]
[null,null,null,null,null,null,null,null,null,null,null,null,null,null,null,null,null,null,{"$f":"COUNTIF(C$11:C$1000,C298)","v":0}]
[]
[]
[]
[]
[]
[]
[null,null,null,null,null,null,null,null,null,null,null,null,null,null,null,null,null,null,{"$f":"COUNTIF(C$11:C$1000,C305)","v":0}]
[]
[]
[]
[]
[]
[]
[null,null,null,null,null,null,null,null,null,null,null,null,null,null,null,null,null,null,{"$f":"COUNTIF(C$11:C$1000,C312)","v":0}]
[]
[]
[]
[]
[]
[]
[null,null,null,null,null,null,null,null,null,null,null,null,null,null,null,null,null,null,{"$f":"COUNTIF(C$11:C$1000,C319)","v":0}]
[]
[]
[]
[]
[]
[]
[null,null,null,null,null,null,null,null,null,null,null,null,null,null,null,null,null,null,{"$f":"COUNTIF(C$11:C$1000,C326)","v":0}]
[]
[]
[]
[]
[]
[]
[null,null,null,null,null,null,null,null,null,null,null,null,null,null,null,null,null,null,{"$f":"COUNTIF(C$11:C$1000,C333)","v":0}]
[]
[]
[]
[]
[]
[]
[null,null,null,null,null,null,null,null,null,null,null,null,null,null,null,null,null,null,{"$f":"COUNTIF(C$11:C$1000,C340)","v":0}]
[]
[]
[]
[]
[]
[]
[null,null,null,null,null,null,null,null,null,null,null,null,null,null,null,null,null,null,{"$f":"COUNTIF(C$11:C$1000,C347)","v":0}]
[]
[]
[]
[]
[]
[]
[null,null,null,null,null,null,null,null,null,null,null,null,null,null,null,null,null,null,{"$f":"COUNTIF(C$11:C$1000,C354)","v":0}]
[]
[]
[]
[]
[]
[]
[null,null,null,null,null,null,null,null,null,null,null,null,null,null,null,null,null,null,{"$f":"COUNTIF(C$11:C$1000,C361)","v":0}]
[]
[]
[]
[]
[]
[]
[null,null,null,null,null,null,null,null,null,null,null,null,null,null,null,null,null,null,{"$f":"COUNTIF(C$11:C$1000,C368)","v":0}]
[]
[]
[]
[]
[]
[]
[null,null,null,null,null,null,null,null,null,null,null,null,null,null,null,null,null,null,{"$f":"COUNTIF(C$11:C$1000,C375)","v":0}]
[]
[]
[]
[]
[]
[]
[null,null,null,null,null,null,null,null,null,null,null,null,null,null,null,null,null,null,{"$f":"COUNTIF(C$11:C$1000,C382)","v":0}]
[]
[]
[]
[]
[]
[]
[null,null,null,null,null,null,null,null,null,null,null,null,null,null,null,null,null,null,{"$f":"COUNTIF(C$11:C$1000,C389)","v":0}]
[]
[]
[]
[]
[]
[]
[null,null,null,null,null,null,null,null,null,null,null,null,null,null,null,null,null,null,{"$f":"COUNTIF(C$11:C$1000,C396)","v":0}]
[]
[]
[]
[]
[]
[]
[null,null,null,null,null,null,null,null,null,null,null,null,null,null,null,null,null,null,{"$f":"COUNTIF(C$11:C$1000,C403)","v":0}]
[]
[]
[]
[]
[]
[]
[null,null,null,null,null,null,null,null,null,null,null,null,null,null,null,null,null,null,{"$f":"COUNTIF(C$11:C$1000,C410)","v":0}]
[]
[]
[]
[]
[]
[]
[null,null,null,null,null,null,null,null,null,null,null,null,null,null,null,null,null,null,{"$f":"COUNTIF(C$11:C$1000,C417)","v":0}]
[]
[]
[]
[]
[]
[]
[null,null,null,null,null,null,null,null,null,null,null,null,null,null,null,null,null,null,{"$f":"COUNTIF(C$11:C$1000,C424)","v":0}]
[]
[]
[]
[]
[]
[]
[null,null,null,null,null,null,null,null,null,null,null,null,null,null,null,null,null,null,{"$f":"COUNTIF(C$11:C$1000,C431)","v":0}]
[]
[]
[]
[]
[]
[]
[null,null,null,null,null,null,null,null,null,null,null,null,null,null,null,null,null,null,{"$f":"COUNTIF(C$11:C$1000,C438)","v":0}]
[]
[]
[]
[]
[]
[]
[null,null,null,null,null,null,null,null,null,null,null,null,null,null,null,null,null,null,{"$f":"COUNTIF(C$11:C$1000,C445)","v":0}]
[]
[]
[]
[]
[]
[]
[null,null,null,null,null,null,null,null,null,null,null,null,null,null,null,null,null,null,{"$f":"COUNTIF(C$11:C$1000,C452)","v":0}]
[]
[]
[]
[]
[]
[]
[null,null,null,null,null,null,null,null,null,null,null,null,null,null,null,null,null,null,{"$f":"COUNTIF(C$11:C$1000,C459)","v":0}]
[]
[]
[]
[]
[]
[]
[null,null,null,null,null,null,null,null,null,null,null,null,null,null,null,null,null,null,{"$f":"COUNTIF(C$11:C$1000,C466)","v":0}]
[]
[]
[]
[]
[]
[]
[null,null,null,null,null,null,null,null,null,null,null,null,null,null,null,null,null,null,{"$f":"COUNTIF(C$11:C$1000,C473)","v":0}]
[]
[]
[]
[]
[]
[]
[null,null,null,null,null,null,null,null,null,null,null,null,null,null,null,null,null,null,{"$f":"COUNTIF(C$11:C$1000,C480)","v":0}]
[]
[]
[]
[]
[]
[]
[null,null,null,null,null,null,null,null,null,null,null,null,null,null,null,null,null,null,{"$f":"COUNTIF(C$11:C$1000,C487)","v":0}]
[]
[]
[]
[]
[]
[]
[null,null,null,null,null,null,null,null,null,null,null,null,null,null,null,null,null,null,{"$f":"COUNTIF(C$11:C$1000,C494)","v":0}]
[]
[]
[]
[]
[]
[]
[null,null,null,null,null,null,null,null,null,null,null,null,null,null,null,null,null,null,{"$f":"COUNTIF(C$11:C$1000,C501)","v":0}]
[]
[]
[]
[]
[]
[]
[null,null,null,null,null,null,null,null,null,null,null,null,null,null,null,null,null,null,{"$f":"COUNTIF(C$11:C$1000,C508)","v":0}]
[]
[]
[]
[]
[]
[]
[null,null,null,null,null,null,null,null,null,null,null,null,null,null,null,null,null,null,{"$f":"COUNTIF(C$11:C$1000,C515)","v":0}]
[]
[]
[]
[]
[]
[]
[null,null,null,null,null,null,null,null,null,null,null,null,null,null,null,null,null,null,{"$f":"COUNTIF(C$11:C$1000,C522)","v":0}]
[]
[]
[]
[]
[]
[]
[null,null,null,null,null,null,null,null,null,null,null,null,null,null,null,null,null,null,{"$f":"COUNTIF(C$11:C$1000,C529)","v":0}]
[]
[]
[]
[]
[]
[]
[null,null,null,null,null,null,null,null,null,null,null,null,null,null,null,null,null,null,{"$f":"COUNTIF(C$11:C$1000,C536)","v":0}]
[]
[]
[]
[]
[]
[]
[null,null,null,null,null,null,null,null,null,null,null,null,null,null,null,null,null,null,{"$f":"COUNTIF(C$11:C$1000,C543)","v":0}]
[]
[]
[]
[]
[]
[]
[null,null,null,null,null,null,null,null,null,null,null,null,null,null,null,null,null,null,{"$f":"COUNTIF(C$11:C$1000,C550)","v":0}]
[]
[]
[]
[]
[]
[]
[null,null,null,null,null,null,null,null,null,null,null,null,null,null,null,null,null,null,{"$f":"COUNTIF(C$11:C$1000,C557)","v":0}]
[]
[]
[]
[]
[]
[]
[null,null,null,null,null,null,null,null,null,null,null,null,null,null,null,null,null,null,{"$f":"COUNTIF(C$11:C$1000,C564)","v":0}]
[]
[]
[]
[]
[]
[]
[null,null,null,null,null,null,null,null,null,null,null,null,null,null,null,null,null,null,{"$f":"COUNTIF(C$11:C$1000,C571)","v":0}]
[]
[]
[]
[]
[]
[]
[null,null,null,null,null,null,null,null,null,null,null,null,null,null,null,null,null,null,{"$f":"COUNTIF(C$11:C$1000,C578)","v":0}]
[]
[]
[]
[]
[]
[]
[null,null,null,null,null,null,null,null,null,null,null,null,null,null,null,null,null,null,{"$f":"COUNTIF(C$11:C$1000,C585)","v":0}]
[]
[]
[]
[]
[]
[]
[null,null,null,null,null,null,null,null,null,null,null,null,null,null,null,null,null,null,{"$f":"COUNTIF(C$11:C$1000,C592)","v":0}]
[]
[]
[]
[]
[]
[]
[null,null,null,null,null,null,null,null,null,null,null,null,null,null,null,null,null,null,{"$f":"COUNTIF(C$11:C$1000,C599)","v":0}]
[]
[]
[]
[]
[]
[]
[null,null,null,null,null,null,null,null,null,null,null,null,null,null,null,null,null,null,{"$f":"COUNTIF(C$11:C$1000,C606)","v":0}]
[]
[]
[]
[]
[]
[]
[null,null,null,null,null,null,null,null,null,null,null,null,null,null,null,null,null,null,{"$f":"COUNTIF(C$11:C$1000,C613)","v":0}]
[]
[]
[]
[]
[]
[]
[null,null,null,null,null,null,null,null,null,null,null,null,null,null,null,null,null,null,{"$f":"COUNTIF(C$11:C$1000,C620)","v":0}]
[]
[]
[]
[]
[]
[]
[null,null,null,null,null,null,null,null,null,null,null,null,null,null,null,null,null,null,{"$f":"COUNTIF(C$11:C$1000,C627)","v":0}]
[]
[]
[]
[]
[]
[]
[null,null,null,null,null,null,null,null,null,null,null,null,null,null,null,null,null,null,{"$f":"COUNTIF(C$11:C$1000,C634)","v":0}]
[]
[]
[]
[]
[]
[]
[null,null,null,null,null,null,null,null,null,null,null,null,null,null,null,null,null,null,{"$f":"COUNTIF(C$11:C$1000,C641)","v":0}]
[]
[]
[]
[]
[]
[]
[null,null,null,null,null,null,null,null,null,null,null,null,null,null,null,null,null,null,{"$f":"COUNTIF(C$11:C$1000,C648)","v":0}]
[]
[]
[]
[]
[]
[]
[null,null,null,null,null,null,null,null,null,null,null,null,null,null,null,null,null,null,{"$f":"COUNTIF(C$11:C$1000,C655)","v":0}]
[]
[]
[]
[]
[]
[]
[null,null,null,null,null,null,null,null,null,null,null,null,null,null,null,null,null,null,{"$f":"COUNTIF(C$11:C$1000,C662)","v":0}]
[]
[]
[]
[]
[]
[]
[null,null,null,null,null,null,null,null,null,null,null,null,null,null,null,null,null,null,{"$f":"COUNTIF(C$11:C$1000,C669)","v":0}]
[]
[]
[]
[]
[]
[]
[null,null,null,null,null,null,null,null,null,null,null,null,null,null,null,null,null,null,{"$f":"COUNTIF(C$11:C$1000,C676)","v":0}]
[]
[]
[]
[]
[]
[]
[null,null,null,null,null,null,null,null,null,null,null,null,null,null,null,null,null,null,{"$f":"COUNTIF(C$11:C$1000,C683)","v":0}]
[]
[]
[]
[]
[]
[]
[null,null,null,null,null,null,null,null,null,null,null,null,null,null,null,null,null,null,{"$f":"COUNTIF(C$11:C$1000,C690)","v":0}]
[]
[]
[]
[]
[]
[]
[null,null,null,null,null,null,null,null,null,null,null,null,null,null,null,null,null,null,{"$f":"COUNTIF(C$11:C$1000,C697)","v":0}]
[]
[]
[]
[]
[]
[]
[null,null,null,null,null,null,null,null,null,null,null,null,null,null,null,null,null,null,{"$f":"COUNTIF(C$11:C$1000,C704)","v":0}]
[]
[]
[]
[]
[]
[]
[null,null,null,null,null,null,null,null,null,null,null,null,null,null,null,null,null,null,{"$f":"COUNTIF(C$11:C$1000,C711)","v":0}]
[]
[]
[]
[]
[]
[]
[null,null,null,null,null,null,null,null,null,null,null,null,null,null,null,null,null,null,{"$f":"COUNTIF(C$11:C$1000,C718)","v":0}]
[]
[]
[]
[]
[]
[]
[null,null,null,null,null,null,null,null,null,null,null,null,null,null,null,null,null,null,{"$f":"COUNTIF(C$11:C$1000,C725)","v":0}]
[]
[]
[]
[]
[]
[]
[null,null,null,null,null,null,null,null,null,null,null,null,null,null,null,null,null,null,{"$f":"COUNTIF(C$11:C$1000,C732)","v":0}]
[]
[]
[]
[]
[]
[]
[null,null,null,null,null,null,null,null,null,null,null,null,null,null,null,null,null,null,{"$f":"COUNTIF(C$11:C$1000,C739)","v":0}]
[]
[]
[]
[]
[]
[]
[null,null,null,null,null,null,null,null,null,null,null,null,null,null,null,null,null,null,{"$f":"COUNTIF(C$11:C$1000,C746)","v":0}]
[]
[]
[]
[]
[]
[]
[null,null,null,null,null,null,null,null,null,null,null,null,null,null,null,null,null,null,{"$f":"COUNTIF(C$11:C$1000,C753)","v":0}]
[]
[]
[]
[]
[]
[]
[null,null,null,null,null,null,null,null,null,null,null,null,null,null,null,null,null,null,{"$f":"COUNTIF(C$11:C$1000,C760)","v":0}]
[]
[]
[]
[]
[]
[]
[null,null,null,null,null,null,null,null,null,null,null,null,null,null,null,null,null,null,{"$f":"COUNTIF(C$11:C$1000,C767)","v":0}]
[]
[]
[]
[]
[]
[]
[null,null,null,null,null,null,null,null,null,null,null,null,null,null,null,null,null,null,{"$f":"COUNTIF(C$11:C$1000,C774)","v":0}]
[]
[]
[]
[]
[]
[]
[null,null,null,null,null,null,null,null,null,null,null,null,null,null,null,null,null,null,{"$f":"COUNTIF(C$11:C$1000,C781)","v":0}]
[]
[]
[]
[]
[]
[]
[null,null,null,null,null,null,null,null,null,null,null,null,null,null,null,null,null,null,{"$f":"COUNTIF(C$11:C$1000,C788)","v":0}]
[]
[]
[]
[]
[]
[]
[null,null,null,null,null,null,null,null,null,null,null,null,null,null,null,null,null,null,{"$f":"COUNTIF(C$11:C$1000,C795)","v":0}]
[]
[]
[]
[]
[]
[]
[null,null,null,null,null,null,null,null,null,null,null,null,null,null,null,null,null,null,{"$f":"COUNTIF(C$11:C$1000,C802)","v":0}]
[]
[]
[]
[]
[]
[]
[null,null,null,null,null,null,null,null,null,null,null,null,null,null,null,null,null,null,{"$f":"COUNTIF(C$11:C$1000,C809)","v":0}]
[]
[]
[]
[]
[]
[]
[null,null,null,null,null,null,null,null,null,null,null,null,null,null,null,null,null,null,{"$f":"COUNTIF(C$11:C$1000,C816)","v":0}]
[]
[]
[]
[]
[]
[]
[null,null,null,null,null,null,null,null,null,null,null,null,null,null,null,null,null,null,{"$f":"COUNTIF(C$11:C$1000,C823)","v":0}]
[]
[]
[]
[]
[]
[]
[null,null,null,null,null,null,null,null,null,null,null,null,null,null,null,null,null,null,{"$f":"COUNTIF(C$11:C$1000,C830)","v":0}]
[]
[]
[]
[]
[]
[]
[null,null,null,null,null,null,null,null,null,null,null,null,null,null,null,null,null,null,{"$f":"COUNTIF(C$11:C$1000,C837)","v":0}]
[]
[]
[]
[]
[]
[]
[null,null,null,null,null,null,null,null,null,null,null,null,null,null,null,null,null,null,{"$f":"COUNTIF(C$11:C$1000,C844)","v":0}]
[]
[]
[]
[]
[]
[]
[null,null,null,null,null,null,null,null,null,null,null,null,null,null,null,null,null,null,{"$f":"COUNTIF(C$11:C$1000,C851)","v":0}]
[]
[]
[]
[]
[]
[]
[null,null,null,null,null,null,null,null,null,null,null,null,null,null,null,null,null,null,{"$f":"COUNTIF(C$11:C$1000,C858)","v":0}]
[]
[]
[]
[]
[]
[]
[null,null,null,null,null,null,null,null,null,null,null,null,null,null,null,null,null,null,{"$f":"COUNTIF(C$11:C$1000,C865)","v":0}]
[]
[]
[]
[]
[]
[]
[null,null,null,null,null,null,null,null,null,null,null,null,null,null,null,null,null,null,{"$f":"COUNTIF(C$11:C$1000,C872)","v":0}]
[]
[]
[]
[]
[]
[]
[null,null,null,null,null,null,null,null,null,null,null,null,null,null,null,null,null,null,{"$f":"COUNTIF(C$11:C$1000,C879)","v":0}]
[]
[]
[]
[]
[]
[]
[null,null,null,null,null,null,null,null,null,null,null,null,null,null,null,null,null,null,{"$f":"COUNTIF(C$11:C$1000,C886)","v":0}]
[]
[]
[]
[]
[]
[]
[null,null,null,null,null,null,null,null,null,null,null,null,null,null,null,null,null,null,{"$f":"COUNTIF(C$11:C$1000,C893)","v":0}]
[]
[]
[]
[]
[]
[]
[null,null,null,null,null,null,null,null,null,null,null,null,null,null,null,null,null,null,{"$f":"COUNTIF(C$11:C$1000,C900)","v":0}]
[]
[]
[]
[]
[]
[]
[null,null,null,null,null,null,null,null,null,null,null,null,null,null,null,null,null,null,{"$f":"COUNTIF(C$11:C$1000,C907)","v":0}]
[]
[]
[]
[]
[]
[]
[null,null,null,null,null,null,null,null,null,null,null,null,null,null,null,null,null,null,{"$f":"COUNTIF(C$11:C$1000,C914)","v":0}]
[]
[]
[]
[]
[]
[]
[null,null,null,null,null,null,null,null,null,null,null,null,null,null,null,null,null,null,{"$f":"COUNTIF(C$11:C$1000,C921)","v":0}]
[]
[]
[]
[]
[]
[]
[null,null,null,null,null,null,null,null,null,null,null,null,null,null,null,null,null,null,{"$f":"COUNTIF(C$11:C$1000,C928)","v":0}]
[]
[]
[]
[]
[]
[]
[null,null,null,null,null,null,null,null,null,null,null,null,null,null,null,null,null,null,{"$f":"COUNTIF(C$11:C$1000,C935)","v":0}]
[]
[]
[]
[]
[]
[]
[null,null,null,null,null,null,null,null,null,null,null,null,null,null,null,null,null,null,{"$f":"COUNTIF(C$11:C$1000,C942)","v":0}]
[]
[]
[]
[]
[]
[]
[null,null,null,null,null,null,null,null,null,null,null,null,null,null,null,null,null,null,{"$f":"COUNTIF(C$11:C$1000,C949)","v":0}]
[]
[]
[]
[]
[]
[]
[null,null,null,null,null,null,null,null,null,null,null,null,null,null,null,null,null,null,{"$f":"COUNTIF(C$11:C$1000,C956)","v":0}]
[]
[]
[]
[]
[]
[]
[null,null,null,null,null,null,null,null,null,null,null,null,null,null,null,null,null,null,{"$f":"COUNTIF(C$11:C$1000,C963)","v":0}]
[]
[]
[]
[]
[]
[]
[null,null,null,null,null,null,null,null,null,null,null,null,null,null,null,null,null,null,{"$f":"COUNTIF(C$11:C$1000,C970)","v":0}]
[]
[]
[]
[]
[]
[]
[null,null,null,null,null,null,null,null,null,null,null,null,null,null,null,null,null,null,{"$f":"COUNTIF(C$11:C$1000,C977)","v":0}]
[]
[]
[]
[]
[]
[]
[null,null,null,null,null,null,null,null,null,null,null,null,null,null,null,null,null,null,{"$f":"COUNTIF(C$11:C$1000,C984)","v":0}]
[]
[]
[]
[]
[]
[]
[null,null,null,null,null,null,null,null,null,null,null,null,null,null,null,null,null,null,{"$f":"COUNTIF(C$11:C$1000,C991)","v":0}]
[]
[]
[]
[]
[]
[]
[null,null,null,null,null,null,null,null,null,null,null,null,null,null,null,null,null,null,{"$f":"COUNTIF(C$11:C$1000,C998)","v":0}]
[]
[]
[]
[]
[]
[]
[null,null,null,null,null,null,null,null,null,null,null,null,null,null,null,null,null,null,{"$f":"COUNTIF(C$11:C$1000,C1005)","v":0}]
[]
[]
[]
[]
[]
[]
[null,null,null,null,null,null,null,null,null,null,null,null,null,null,null,null,null,null,{"$f":"COUNTIF(C$11:C$1000,C1012)","v":0}]
[]
[]
[]
[]
[]
[]
[null,null,null,null,null,null,null,null,null,null,null,null,null,null,null,null,null,null,{"$f":"COUNTIF(C$11:C$1000,C1019)","v":0}]
[]
[]
[]
[]
[]
[]
[null,null,null,null,null,null,null,null,null,null,null,null,null,null,null,null,null,null,{"$f":"COUNTIF(C$11:C$1000,C1026)","v":0}]
[]
[]
[]
[]
[]
[]
[null,null,null,null,null,null,null,null,null,null,null,null,null,null,null,null,null,null,{"$f":"COUNTIF(C$11:C$1000,C1033)","v":0}]
[]
[]
[]
[]
[]
[]
[null,null,null,null,null,null,null,null,null,null,null,null,null,null,null,null,null,null,{"$f":"COUNTIF(C$11:C$1000,C1040)","v":0}]
[]
[]
[]
[]
[]
[]
[null,null,null,null,null,null,null,null,null,null,null,null,null,null,null,null,null,null,{"$f":"COUNTIF(C$11:C$1000,C1047)","v":0}]
[]
[]
[]
[]
[]
[]
[null,null,null,null,null,null,null,null,null,null,null,null,null,null,null,null,null,null,{"$f":"COUNTIF(C$11:C$1000,C1054)","v":0}]
[]
[]
[]
[]
[]
[]
[null,null,null,null,null,null,null,null,null,null,null,null,null,null,null,null,null,null,{"$f":"COUNTIF(C$11:C$1000,C1061)","v":0}]
[]
[]
[]
[]
[]
[]
[null,null,null,null,null,null,null,null,null,null,null,null,null,null,null,null,null,null,{"$f":"COUNTIF(C$11:C$1000,C1068)","v":0}]
[]
[]
[]
[]
[]
[]
[null,null,null,null,null,null,null,null,null,null,null,null,null,null,null,null,null,null,{"$f":"COUNTIF(C$11:C$1000,C1075)","v":0}]
[]
[]
[]
[]
[]
[]
[null,null,null,null,null,null,null,null,null,null,null,null,null,null,null,null,null,null,{"$f":"COUNTIF(C$11:C$1000,C1082)","v":0}]
[]
[]
[]
[]
[]
[]
[null,null,null,null,null,null,null,null,null,null,null,null,null,null,null,null,null,null,{"$f":"COUNTIF(C$11:C$1000,C1089)","v":0}]
[]
[]
[]
[]
[]
[]
[null,null,null,null,null,null,null,null,null,null,null,null,null,null,null,null,null,null,{"$f":"COUNTIF(C$11:C$1000,C1096)","v":0}]
[]
[]
[]
[]
[]
[]
[null,null,null,null,null,null,null,null,null,null,null,null,null,null,null,null,null,null,{"$f":"COUNTIF(C$11:C$1000,C1103)","v":0}]
[]
[]
[]
[]
[]
[]
[null,null,null,null,null,null,null,null,null,null,null,null,null,null,null,null,null,null,{"$f":"COUNTIF(C$11:C$1000,C1110)","v":0}]
[]
[]
[]
[]
[]
[]
[null,null,null,null,null,null,null,null,null,null,null,null,null,null,null,null,null,null,{"$f":"COUNTIF(C$11:C$1000,C1117)","v":0}]
[]
[]
[]
[]
[]
[]
[null,null,null,null,null,null,null,null,null,null,null,null,null,null,null,null,null,null,{"$f":"COUNTIF(C$11:C$1000,C1124)","v":0}]
[]
[]
[]
[]
[]
[]
[null,null,null,null,null,null,null,null,null,null,null,null,null,null,null,null,null,null,{"$f":"COUNTIF(C$11:C$1000,C1131)","v":0}]
[]
[]
[]
[]
[]
[]
[null,null,null,null,null,null,null,null,null,null,null,null,null,null,null,null,null,null,{"$f":"COUNTIF(C$11:C$1000,C1138)","v":0}]
[]
[]
[]
[]
[]
[]
[null,null,null,null,null,null,null,null,null,null,null,null,null,null,null,null,null,null,{"$f":"COUNTIF(C$11:C$1000,C1145)","v":0}]
[]
[]
[]
[]
[]
[]
[null,null,null,null,null,null,null,null,null,null,null,null,null,null,null,null,null,null,{"$f":"COUNTIF(C$11:C$1000,C1152)","v":0}]
[]
[]
[]
[]
[]
[]
[null,null,null,null,null,null,null,null,null,null,null,null,null,null,null,null,null,null,{"$f":"COUNTIF(C$11:C$1000,C1159)","v":0}]
[]
[]
[]
[]
[]
[]
[null,null,null,null,null,null,null,null,null,null,null,null,null,null,null,null,null,null,{"$f":"COUNTIF(C$11:C$1000,C1166)","v":0}]
[]
[]
[]
[]
[]
[]
[null,null,null,null,null,null,null,null,null,null,null,null,null,null,null,null,null,null,{"$f":"COUNTIF(C$11:C$1000,C1173)","v":0}]
[]
[]
[]
[]
[]
[]
[null,null,null,null,null,null,null,null,null,null,null,null,null,null,null,null,null,null,{"$f":"COUNTIF(C$11:C$1000,C1180)","v":0}]
[]
[]
[]
[]
[]
[]
[null,null,null,null,null,null,null,null,null,null,null,null,null,null,null,null,null,null,{"$f":"COUNTIF(C$11:C$1000,C1187)","v":0}]
[]
[]
[]
[]
[]
[]
[null,null,null,null,null,null,null,null,null,null,null,null,null,null,null,null,null,null,{"$f":"COUNTIF(C$11:C$1000,C1194)","v":0}]
[]
[]
[]
[]
[]
[]
[null,null,null,null,null,null,null,null,null,null,null,null,null,null,null,null,null,null,{"$f":"COUNTIF(C$11:C$1000,C1201)","v":0}]
[]
[]
[]
[]
[]
[]
[null,null,null,null,null,null,null,null,null,null,null,null,null,null,null,null,null,null,{"$f":"COUNTIF(C$11:C$1000,C1208)","v":0}]
[]
[]
[]
[]
[]
[]
[null,null,null,null,null,null,null,null,null,null,null,null,null,null,null,null,null,null,{"$f":"COUNTIF(C$11:C$1000,C1215)","v":0}]
[]
[]
[]
[]
[]
[]
[null,null,null,null,null,null,null,null,null,null,null,null,null,null,null,null,null,null,{"$f":"COUNTIF(C$11:C$1000,C1222)","v":0}]
[]
[]
[]
[]
[]
[]
[null,null,null,null,null,null,null,null,null,null,null,null,null,null,null,null,null,null,{"$f":"COUNTIF(C$11:C$1000,C1229)","v":0}]
[]
[]
[]
[]
[]
[]
[null,null,null,null,null,null,null,null,null,null,null,null,null,null,null,null,null,null,{"$f":"COUNTIF(C$11:C$1000,C1236)","v":0}]

{"sheet":"リレー申込(男女)","index":3,"n_rows":23,"n_cols":20,"rows_kept":23,"cut":false,"hidden":false,"merged":[[16,7,16,8],[4,7,4,10],[16,0,16,1],[14,0,14,1],[14,2,14,3],[15,0,15,3],[5,7,5,8],[14,7,14,8],[14,9,14,10],[5,0,5,1],[4,0,4,3],[0,11,1,12],[2,8,2,10],[3,0,3,1],[3,2,3,3],[15,7,15,10],[3,7,3,8],[3,9,3,10],[0,0,1,4],[0,6,1,10]]}
[{"$f":"東北総体!C11","v":0},null,null,null,null,null,"リレー申込一覧（男女）",null,null,null,null,"(様式Ⅱ)"]
[null,null,null,null,null,null,null,null,null,null,null,null,null,null,null,null,null,null,null,"マイル"]
["下記のエントリーに申し違いはありません",null,null,null,null,null,"申込責任者",null,{"$f":"東北総体!C25","v":0},null,null,null,"㊞"]
["男子",null,"男子4x100mR",null,null,null,null,"女子",null,"4x100mR"]
[{"$f":"東北総体!C11","v":0},null,null,null,"記録","",null,{"$f":"東北総体!C11","v":0},null,null,null,"記録",""]
["登録番号",null,"名前","ﾌﾘｶﾞﾅ","学年","登録陸協",null,"登録番号"]
["２‐",null,null,null,null,null,null,"２‐",null,null,null,null,null,null,null,null,{"$f":"IF(I7=\"\",\"0\",\"1\")","v":"0"},{"$f":"IF(B7=\"\",\"0\",\"1\")","v":"0"}]
["２‐",null,null,null,null,null,null,"２‐"]
["２‐",null,null,null,null,null,null,"２‐"]
["２‐",null,null,null,null,null,null,"２‐"]
["２‐",null,null,null,null,null,null,"２‐"]
["２‐",null,null,null,null,null,null,"２‐"]
[]
[]
["男子",null,"4x400mR"]
[{"$f":"東北総体!C11","v":0},null,null,null,"記録","",null,null,null,null,null,null,""]
["登録番号"]
["２‐",null,null,null,null,null,null,null,null,null,null,null,null,null,null,null,{"$f":"IF(I18=\"\",\"0\",\"1\")","v":"0"},{"$f":"IF(B18=\"\",\"0\",\"1\")","v":"0"}]
["２‐"]
["２‐"]
["２‐"]
["２‐"]
["２‐"]

{"sheet":"リレーオーダー用紙","index":4,"n_rows":78,"n_cols":24,"rows_kept":78,"cut":false,"hidden":true,"merged":[[0,0,0,9],[0,13,0,22],[1,0,1,9],[1,13,1,22],[2,0,2,8],[2,13,2,21],[5,0,5,1],[5,2,5,5],[5,7,5,9],[5,13,5,14],[3,0,3,1],[3,3,3,9],[3,13,3,14],[3,16,3,22],[5,15,5,18],[5,20,5,22],[6,7,6,9],[6,20,6,22],[8,15,9,18],[8,19,8,22],[9,6,9,9],[9,19,9,22],[8,0,8,1],[8,2,9,5],[8,6,8,9],[8,13,8,14],[10,0,11,0],[10,1,11,1],[10,2,11,2],[10,3,11,3],[10,18,11,18],[10,19,10,22],[10,4,11,4],[10,5,11,5],[10,6,10,9],[10,13,11,13],[11,6,11,9],[11,19,11,22],[10,14,11,14],[10,15,11,15],[10,16,11,16],[10,17,11,17],[12,18,13,18],[12,19,12,22],[13,6,13,9],[13,19,13,22],[14,18,15,18],[14,19,14,22],[15,6,15,9],[15,19,15,22],[14,14,15,14],[14,15,15,15],[14,17,15,17],[16,0,17,0],[16,1,17,1],[16,2,17,2],[16,3,17,3],[14,0,15,0],[14,1,15,1],[14,2,15,2],[14,3,15,3],[14,16,15,16],[14,4,15,4],[14,5,15,5],[14,6,14,9],[14,13,15,13],[16,4,17,4],[16,5,17,5],[16,6,16,9],[16,13,17,13],[12,0,13,0],[12,1,13,1],[12,2,13,2],[12,3,13,3],[12,16,13,16],[12,17,13,17],[12,4,13,4],[12,5,13,5],[12,6,12,9],[12,13,13,13],[12,14,13,14],[12,15,13,15],[18,18,19,18],[18,19,18,22],[19,6,19,9],[19,19,19,22],[18,14,19,14],[18,15,19,15],[16,18,17,18],[16,19,16,22],[17,6,17,9],[17,19,17,22],[16,14,17,14],[16,15,17,15],[16,16,17,16],[16,17,17,17],[18,16,19,16],[18,17,19,17],[24,0,25,0],[24,1,25,1],[24,2,25,2],[24,3,25,3],[22,4,23,4],[18,4,19,4],[18,5,19,5],[18,6,18,9],[18,13,19,13],[18,0,19,0],[18,1,19,1],[18,2,19,2],[18,3,19,3],[21,6,21,9],[20,10,21,10],[22,0,23,0],[22,1,23,1],[22,2,23,2],[22,3,23,3],[20,0,21,0],[20,1,21,1],[20,2,21,2],[20,3,21,3],[24,13,25,13],[20,4,21,4],[20,5,21,5],[20,6,20,9],[20,13,21,13],[20,15,21,15],[20,16,21,16],[20,14,21,14],[27,2,27,3],[27,4,27,9],[27,15,27,16],[25,6,25,9],[24,10,25,10],[24,14,25,14],[24,15,25,15],[24,16,25,16],[24,4,25,4],[24,5,25,5],[24,6,24,9],[22,13,23,13],[23,6,23,9],[22,10,23,10],[22,14,23,14],[22,15,23,15],[22,16,23,16],[22,17,23,17],[22,6,22,9],[22,5,23,5],[43,0,43,1],[43,3,43,9],[43,13,43,14],[43,16,43,22],[40,0,40,9],[40,13,40,22],[41,0,41,9],[41,13,41,22],[29,2,29,3],[29,4,29,9],[29,15,29,16],[29,17,29,22],[42,0,42,8],[42,13,42,21],[31,0,31,9],[31,13,31,22],[37,0,38,3],[37,4,38,9],[37,13,38,16],[37,17,38,22],[32,1,35,10],[45,7,45,9],[45,13,45,14],[50,0,51,0],[50,1,51,1],[50,2,51,2],[50,3,51,3],[50,14,51,14],[48,0,48,1],[48,2,49,5],[48,6,48,9],[48,13,48,14],[46,7,46,9],[45,0,45,1],[45,2,45,5],[50,4,51,4],[50,5,51,5],[50,6,50,9],[50,13,51,13],[52,14,53,14],[52,15,53,15],[49,6,49,9],[49,19,49,22],[50,18,51,18],[50,19,50,22],[51,6,51,9],[51,19,51,22],[52,19,52,22],[48,15,49,18],[48,19,48,22],[52,0,53,0],[52,1,53,1],[52,2,53,2],[52,3,53,3],[54,18,55,18],[54,4,55,4],[54,5,55,5],[52,18,53,18],[56,0,57,0],[56,1,57,1],[56,2,57,2],[56,3,57,3],[54,0,55,0],[54,1,55,1],[54,2,55,2],[54,3,55,3],[52,16,53,16],[52,17,53,17],[52,4,53,4],[52,5,53,5],[52,6,52,9],[52,13,53,13],[55,6,55,9],[53,6,53,9],[54,14,55,14],[54,15,55,15],[54,16,55,16],[54,17,55,17],[54,6,54,9],[54,13,55,13],[57,6,57,9],[56,4,57,4],[56,5,57,5],[56,6,56,9],[56,13,57,13],[58,0,59,0],[58,1,59,1],[58,2,59,2],[58,3,59,3],[58,18,59,18],[58,19,58,22],[64,3,65,3],[62,0,63,0],[62,1,63,1],[62,2,63,2],[62,3,63,3],[58,4,59,4],[58,5,59,5],[58,6,58,9],[58,13,59,13],[60,4,61,4],[60,5,61,5],[60,6,60,9],[60,13,61,13],[59,6,59,9],[61,6,61,9],[60,10,61,10],[77,0,78,3],[77,4,78,9],[77,13,78,16],[77,17,78,22],[72,1,75,10],[72,14,75,23],[64,10,65,10],[64,14,65,14],[64,15,65,15],[64,16,65,16],[64,17,65,17],[64,4,65,4],[64,5,65,5],[64,6,64,9],[64,13,65,13],[65,6,65,9],[67,2,67,3],[67,4,67,9],[67,15,67,16],[67,17,67,22],[65,19,65,22],[64,0,65,0],[64,1,65,1],[64,2,65,2],[69,2,69,3],[69,4,69,9],[69,15,69,16],[69,17,69,22],[60,23,61,23],[62,23,63,23],[64,23,65,23],[71,0,71,9],[71,13,71,22],[62,17,63,17],[62,4,63,4],[62,5,63,5],[62,6,62,9],[62,13,63,13],[60,0,61,0],[60,1,61,1],[60,2,61,2],[60,3,61,3],[63,6,63,9],[63,19,63,22],[62,10,63,10],[62,14,63,14],[62,15,63,15],[62,16,63,16],[20,23,21,23],[22,23,23,23],[24,23,25,23],[32,14,35,23],[64,18,65,18],[64,19,64,22],[62,18,63,18],[60,18,61,18],[60,19,60,22],[56,18,57,18],[59,19,59,22],[58,14,59,14],[58,15,59,15],[58,16,59,16],[58,17,59,17],[57,19,57,22],[56,14,57,14],[56,15,57,15],[56,16,57,16],[56,17,57,17],[61,19,61,22],[60,14,61,14],[54,19,54,22],[50,15,51,15],[20,18,21,18],[20,19,20,22],[62,19,62,22],[60,15,61,15],[60,16,61,16],[60,17,61,17],[50,16,51,16],[50,17,51,17],[45,15,45,18],[45,20,45,22],[46,20,46,22],[22,18,23,18],[22,19,22,22],[23,19,23,22],[21,19,21,22],[55,19,55,22],[56,19,56,22],[53,19,53,22],[20,17,21,17],[27,17,27,22],[24,18,25,18],[24,19,24,22],[25,19,25,22],[24,17,25,17]]}
[{"$f":"東北総体!A1","v":"第69回東北地区大学体育大会陸上競技"},null,null,null,null,null,null,null,null,null,null,null,null,{"$f":"A1","v":"第69回東北地区大学体育大会陸上競技"}]
["リレーオーダー用紙",null,null,null,null,null,null,null,null,null,null,null,null,"リレーオーダー用紙"]
[]
["学校名",null,null,{"$f":"東北総体!C11","v":0},null,null,null,null,null,null,null,null,null,"学校名",null,null,{"$f":"IF(D4=\"\",\"\",D4)","v":0}]
[]
["男子",null,"４×１００ｍ",null,null,null,"予選",null,null,null,null,null,null,"女子",null,"４×１００ｍ",null,null,null,"予選"]
[null,null,null,null,null,null,"決勝","  レーン",null,null,null,null,null,null,null,null,null,null,null,"決勝","  レーン"]
[]
["走　順",null,"ナンバー",null,null,null,"フリガナ",null,null,null,null,null,null,"走　順",null,"ナンバー",null,null,null,"フリガナ"]
["予選","決勝",null,null,null,null,"氏　名",null,null,null,null,null,null,"予選","決勝",null,null,null,null,"氏　名"]
[null,null,"(","2-",{"$f":"IF('リレー申込(男女)'!B7=\"\",\"\",'リレー申込(男女)'!B7)","v":""},")",{"$f":"'リレー申込(男女)'!D7","v":0},null,null,null,null,null,null,null,null,"(","2-",{"$f":"IF('リレー申込(男女)'!I7=\"\",\"\",'リレー申込(男女)'!I7)","v":""},")",{"$f":"'リレー申込(男女)'!K7","v":0}]
[null,null,null,null,null,null,{"$f":"'リレー申込(男女)'!C7","v":0},null,null,null,null,null,null,null,null,null,null,null,null,{"$f":"'リレー申込(男女)'!J7","v":0}]
[null,null,"(","2-",{"$f":"IF('リレー申込(男女)'!B8=\"\",\"\",'リレー申込(男女)'!B8)","v":""},")",{"$f":"'リレー申込(男女)'!D8","v":0},null,null,null,null,null,null,null,null,"(","2-",{"$f":"IF('リレー申込(男女)'!I8=\"\",\"\",'リレー申込(男女)'!I8)","v":""},")",{"$f":"'リレー申込(男女)'!K8","v":0}]
[null,null,null,null,null,null,{"$f":"'リレー申込(男女)'!C8","v":0},null,null,null,null,null,null,null,null,null,null,null,null,{"$f":"'リレー申込(男女)'!J8","v":0}]
[null,null,"(","2-",{"$f":"IF('リレー申込(男女)'!B9=\"\",\"\",'リレー申込(男女)'!B9)","v":""},")",{"$f":"'リレー申込(男女)'!D9","v":0},null,null,null,null,null,null,null,null,"(","2-",{"$f":"IF('リレー申込(男女)'!I9=\"\",\"\",'リレー申込(男女)'!I9)","v":""},")",{"$f":"'リレー申込(男女)'!K9","v":0}]
[null,null,null,null,null,null,{"$f":"'リレー申込(男女)'!C9","v":0},null,null,null,null,null,null,null,null,null,null,null,null,{"$f":"'リレー申込(男女)'!J9","v":0}]
[null,null,"(","2-",{"$f":"IF('リレー申込(男女)'!B10=\"\",\"\",'リレー申込(男女)'!B10)","v":""},")",{"$f":"'リレー申込(男女)'!D10","v":0},null,null,null,null,null,null,null,null,"(","2-",{"$f":"IF('リレー申込(男女)'!I10=\"\",\"\",'リレー申込(男女)'!I10)","v":""},")",{"$f":"'リレー申込(男女)'!K10","v":0}]
[null,null,null,null,null,null,{"$f":"'リレー申込(男女)'!C10","v":0},null,null,null,null,null,null,null,null,null,null,null,null,{"$f":"'リレー申込(男女)'!J10","v":0}]
[null,null,"(","2-",{"$f":"IF('リレー申込(男女)'!B11=\"\",\"\",'リレー申込(男女)'!B11)","v":""},")",{"$f":"IF('リレー申込(男女)'!D11=\"\",\"\",'リレー申込(男女)'!D11)","v":""},null,null,null,null,null,null,null,null,"(","2-",{"$f":"IF('リレー申込(男女)'!I11=\"\",\"\",'リレー申込(男女)'!I11)","v":""},")",{"$f":"IF('リレー申込(男女)'!K11=\"\",\"\",'リレー申込(男女)'!K11)","v":""}]
[null,null,null,null,null,null,{"$f":"IF('リレー申込(男女)'!C11=\"\",\"\",'リレー申込(男女)'!C11)","v":""},null,null,null,null,null,null,null,null,null,null,null,null,{"$f":"IF('リレー申込(男女)'!J11=\"\",\"\",'リレー申込(男女)'!J11)","v":""}]
[null,null,"(","2-",{"$f":"IF('リレー申込(男女)'!B12=\"\",\"\",'リレー申込(男女)'!B12)","v":""},")",{"$f":"IF('リレー申込(男女)'!D12=\"\",\"\",'リレー申込(男女)'!D12)","v":""},null,null,null,"出場種目",null,null,null,null,"(","2-",{"$f":"IF('リレー申込(男女)'!I12=\"\",\"\",'リレー申込(男女)'!I12)","v":""},")",{"$f":"IF('リレー申込(男女)'!K12=\"\",\"\",'リレー申込(男女)'!K12)","v":""},null,null,null,"出場種目"]
[null,null,null,null,null,null,{"$f":"IF('リレー申込(男女)'!C12=\"\",\"\",'リレー申込(男女)'!C12)","v":""},null,null,null,null,null,null,null,null,null,null,null,null,{"$f":"IF('リレー申込(男女)'!J12=\"\",\"\",'リレー申込(男女)'!J12)","v":""}]
[null,null,"(","2-",null,")",null,null,null,null,null,null,null,null,null,"(","2-",null,")"]
[]
[null,null,"(","2-",null,")",null,null,null,null,null,null,null,null,null,"(","2-",null,")"]
[]
[]
[null,null,"予選",null,"監督署名　　  　　 　　　 　　㊞",null,null,null,null,null,null,null,null,null,null,"予選",null,"監督署名　　  　　 　　　 　　㊞"]
[]
[null,null,"決勝",null,"監督署名　　  　　 　　　 　　㊞",null,null,null,null,null,null,null,null,null,null,"決勝",null,"監督署名　　  　　 　　　 　　㊞"]
[]
["備考）招集完了1時間前までに切り離さずに本部に提出すること。",null,null,null,null,null,null,null,null,null,null,null,null,"備考）招集完了1時間前までに切り離さずに本部に提出すること。"]
[null,"※本競技会の本種目又は他種目に申し込んでいる競技者に限り2名以内のメンバー変更を認める。他種目に申し込んでいる競技者が出場する場合は出場種目欄にその種目を記入すること。",null,null,null,null,null,null,null,null,null,null,null,null,"※本競技会の本種目又は他種目に申し込んでいる競技者に限り2名以内のメンバー変更を認める。他種目に申し込んでいる競技者が出場する場合は出場種目欄にその種目を記入すること。"]
[]
[]
[]
[]
["確認欄",null,null,null,"東北学生陸上競技連盟",null,null,null,null,null,null,null,null,"確認欄",null,null,null,"東北学生陸上競技連盟"]
[]
[]
[{"$f":"A1","v":"第69回東北地区大学体育大会陸上競技"},null,null,null,null,null,null,null,null,null,null,null,null,{"$f":"A1","v":"第69回東北地区大学体育大会陸上競技"}]
["リレーオーダー用紙",null,null,null,null,null,null,null,null,null,null,null,null,"リレーオーダー用紙"]
[]
["学校名",null,null,{"$f":"東北総体!C11","v":0},null,null,null,null,null,null,null,null,null,"学校名",null,null,{"$f":"IF(D44=\"\",\"\",D44)","v":0}]
[]
["男子",null,"４×４００ｍ",null,null,null,"予選",null,null,null,null,null,null,"女子",null,"４×４００ｍ",null,null,null,"予選"]
[null,null,null,null,null,null,"決勝","  レーン",null,null,null,null,null,null,null,null,null,null,null,"決勝","  レーン"]
[]
["走　順",null,"ナンバー",null,null,null,"フリガナ",null,null,null,null,null,null,"走　順",null,"ナンバー",null,null,null,"フリガナ"]
["予選","決勝",null,null,null,null,"氏　名",null,null,null,null,null,null,"予選","決勝",null,null,null,null,"氏　名"]
[null,null,"(","2-",{"$f":"IF('リレー申込(男女)'!B18=\"\",\"\",'リレー申込(男女)'!B18)","v":""},")",{"$f":"'リレー申込(男女)'!D18","v":0},null,null,null,null,null,null,null,null,"(","2-",{"$f":"IF('リレー申込(男女)'!I18=\"\",\"\",'リレー申込(男女)'!I18)","v":""},")",{"$f":"'リレー申込(男女)'!K18","v":0}]
[null,null,null,null,null,null,{"$f":"'リレー申込(男女)'!C18","v":0},null,null,null,null,null,null,null,null,null,null,null,null,{"$f":"'リレー申込(男女)'!J18","v":0}]
[null,null,"(","2-",{"$f":"IF('リレー申込(男女)'!B19=\"\",\"\",'リレー申込(男女)'!B19)","v":""},")",{"$f":"'リレー申込(男女)'!D19","v":0},null,null,null,null,null,null,null,null,"(","2-",{"$f":"IF('リレー申込(男女)'!I19=\"\",\"\",'リレー申込(男女)'!I19)","v":""},")",{"$f":"'リレー申込(男女)'!K19","v":0}]
[null,null,null,null,null,null,{"$f":"'リレー申込(男女)'!C19","v":0},null,null,null,null,null,null,null,null,null,null,null,null,{"$f":"'リレー申込(男女)'!J19","v":0}]
[null,null,"(","2-",{"$f":"IF('リレー申込(男女)'!B20=\"\",\"\",'リレー申込(男女)'!B20)","v":""},")",{"$f":"'リレー申込(男女)'!D20","v":0},null,null,null,null,null,null,null,null,"(","2-",{"$f":"IF('リレー申込(男女)'!I20=\"\",\"\",'リレー申込(男女)'!I20)","v":""},")",{"$f":"'リレー申込(男女)'!K20","v":0}]
[null,null,null,null,null,null,{"$f":"'リレー申込(男女)'!C20","v":0},null,null,null,null,null,null,null,null,null,null,null,null,{"$f":"'リレー申込(男女)'!J20","v":0}]
[null,null,"(","2-",{"$f":"IF('リレー申込(男女)'!B21=\"\",\"\",'リレー申込(男女)'!B21)","v":""},")",{"$f":"'リレー申込(男女)'!D21","v":0},null,null,null,null,null,null,null,null,"(","2-",{"$f":"IF('リレー申込(男女)'!I21=\"\",\"\",'リレー申込(男女)'!I21)","v":""},")",{"$f":"'リレー申込(男女)'!K21","v":0}]
[null,null,null,null,null,null,{"$f":"'リレー申込(男女)'!C21","v":0},null,null,null,null,null,null,null,null,null,null,null,null,{"$f":"'リレー申込(男女)'!J21","v":0}]
[null,null,"(","2-",{"$f":"IF('リレー申込(男女)'!B22=\"\",\"\",'リレー申込(男女)'!B22)","v":""},")",{"$f":"IF('リレー申込(男女)'!D22=\"\",\"\",'リレー申込(男女)'!D22)","v":""},null,null,null,null,null,null,null,null,"(","2-",{"$f":"IF('リレー申込(男女)'!I22=\"\",\"\",'リレー申込(男女)'!I22)","v":""},")",{"$f":"IF('リレー申込(男女)'!K22=\"\",\"\",'リレー申込(男女)'!K22)","v":""}]
[null,null,null,null,null,null,{"$f":"IF('リレー申込(男女)'!C22=\"\",\"\",'リレー申込(男女)'!C22)","v":""},null,null,null,null,null,null,null,null,null,null,null,null,{"$f":"IF('リレー申込(男女)'!J22=\"\",\"\",'リレー申込(男女)'!J22)","v":""}]
[null,null,"(","2-",{"$f":"IF('リレー申込(男女)'!B23=\"\",\"\",'リレー申込(男女)'!B23)","v":""},")",{"$f":"IF('リレー申込(男女)'!D23=\"\",\"\",'リレー申込(男女)'!D23)","v":""},null,null,null,"出場種目",null,null,null,null,"(","2-",{"$f":"IF('リレー申込(男女)'!I23=\"\",\"\",'リレー申込(男女)'!I23)","v":""},")",{"$f":"IF('リレー申込(男女)'!K23=\"\",\"\",'リレー申込(男女)'!K23)","v":""},null,null,null,"出場種目"]
[null,null,null,null,null,null,{"$f":"IF('リレー申込(男女)'!C23=\"\",\"\",'リレー申込(男女)'!C23)","v":""},null,null,null,null,null,null,null,null,null,null,null,null,{"$f":"IF('リレー申込(男女)'!J23=\"\",\"\",'リレー申込(男女)'!J23)","v":""}]
[null,null,"(","2-",null,")",null,null,null,null,null,null,null,null,null,"(","2-",null,")"]
[]
[null,null,"(","2-",null,")",null,null,null,null,null,null,null,null,null,"(","2-",null,")"]
[]
[]
[null,null,"予選",null,"監督署名　　  　　 　　　 　　㊞",null,null,null,null,null,null,null,null,null,null,"予選",null,"監督署名　　  　　 　　　 　　㊞"]
[]
[null,null,"決勝",null,"監督署名　　  　　 　　　 　　㊞",null,null,null,null,null,null,null,null,null,null,"決勝",null,"監督署名　　  　　 　　　 　　㊞"]
[]
["備考）招集完了1時間前までに切り離さずに本部に提出すること。",null,null,null,null,null,null,null,null,null,null,null,null,"備考）招集完了1時間前までに切り離さずに本部に提出すること。"]
[null,"※本競技会の本種目又は他種目に申し込んでいる競技者に限り2名以内のメンバー変更を認める。他種目に申し込んでいる競技者が出場する場合は出場種目欄にその種目を記入すること。",null,null,null,null,null,null,null,null,null,null,null,null,"※本競技会の本種目又は他種目に申し込んでいる競技者に限り2名以内のメンバー変更を認める。他種目に申し込んでいる競技者が出場する場合は出場種目欄にその種目を記入すること。"]
[]
[]
[]
[]
["確認欄",null,null,null,"東北学生陸上競技連盟",null,null,null,null,null,null,null,null,"確認欄",null,null,null,"東北学生陸上競技連盟"]

{"sheet":"男女エントリー(OP)","index":5,"n_rows":76,"n_cols":20,"rows_kept":76,"cut":false,"hidden":true,"merged":[[0,0,1,4],[0,9,1,10],[3,0,5,0],[3,1,5,2],[3,5,5,5],[4,3,5,3],[4,4,5,4],[0,5,1,8],[2,8,2,9],[8,2,9,2],[10,0,12,0],[10,1,12,1],[10,2,12,2],[10,5,12,5],[11,3,12,3],[11,4,12,4],[17,0,19,0],[17,1,19,1],[17,2,19,2],[17,5,19,5],[18,3,19,3],[18,4,19,4],[24,0,26,0],[24,1,26,1],[24,2,26,2],[24,5,26,5],[25,3,26,3],[25,4,26,4],[31,0,33,0],[31,1,33,1],[31,2,33,2],[31,5,33,5],[32,3,33,3],[32,4,33,4],[38,0,40,0],[38,1,40,1],[38,2,40,2],[38,5,40,5],[39,3,40,3],[39,4,40,4],[45,0,47,0],[45,1,47,1],[45,2,47,2],[45,5,47,5],[46,3,47,3],[46,4,47,4],[59,2,61,2],[59,5,61,5],[60,3,61,3],[60,4,61,4],[52,0,54,0],[52,1,54,1],[52,2,54,2],[52,5,54,5],[53,3,54,3],[53,4,54,4],[59,0,61,0],[59,1,61,1],[73,0,75,0],[73,1,75,1],[73,2,75,2],[73,5,75,5],[74,3,75,3],[74,4,75,4],[66,0,68,0],[66,1,68,1],[66,2,68,2],[66,5,68,5],[67,3,68,3],[67,4,68,4]]}
[{"$f":"東北総体!C11","v":0},null,null,null,null,"団体申込一覧（男女OP）",null,null,null,"(様式Ⅰ)"]
[null,null,null,null,null,null,null,null,null,null,null,null,null,null,null,null,null,"マイル"]
["下記のエントリーに申し違いはありません",null,null,null,null,null,"申込責任者",null,{"$f":"東北総体!C25","v":0},null,"㊞"]
["№","登録番号",null,"ﾌﾘｶﾞﾅ","学年",null,"出場種目１","記録","記録を樹立した競技会名","樹立ラウンド","樹立年月日"]
[null,null,null,"氏名","登録陸協",null,"出場種目２","記録","記録を樹立した競技会名","樹立ラウンド","樹立年月日",null,null,1,"男子100mOP"]
[null,null,null,null,null,null,"出場種目３","記録","記録を樹立した競技会名","樹立ラウンド","樹立年月日",null,null,2,"男子5000mOP"]
[null,null,null,null,null,null,"出場種目４","記録","記録を樹立した競技会名","樹立ラウンド","樹立年月日",null,null,3,"女子100mOP",null,null,null,null,"予選"]
[null,null,null,null,null,null,"出場種目５","記録","記録を樹立した競技会名","樹立ラウンド","樹立年月日",null,null,4,"女子5000mOP",null,null,null,null,"準決勝"]
[null,null,null,null,null,null,"出場種目６","記録","記録を樹立した競技会名","樹立ラウンド","樹立年月日",null,null,null,null,null,null,null,null,"決勝"]
[null,null,null,null,null,null,null,null,null,null,null,null,null,null,null,null,null,null,null,"1次予選"]
[1,"２　－",null,{"$f":"IF(C11=\"\",\"\",VLOOKUP(C11,登録名簿!$A$2:$D$2000,3))","v":""},{"$f":"IF(C11=\"\",\"\",VLOOKUP(C11,登録名簿!$A$2:$D$2000,4))","v":""},null,null,null,null,null,null,null,null,null,null,null,{"$f":"COUNTIF(C$11:C$80,C11)","v":0},null,null,"2次予選"]
[null,null,null,{"$f":"IF(C11=\"\",\"\",VLOOKUP(C11,登録名簿!$A$2:$D$2000,2))","v":""},{"$f":"IF(C11=\"\",\"\",VLOOKUP(C11,登録名簿!$A$2:$E$2000,5))","v":""},null,null,null,null,null,null,null,null,null,null,null,null,null,null,"競技会"]
[null,null,null,null,{"$f":"IF(D13=\"\",\"\",VLOOKUP(D13,'男女エントリー(OP)'!$B$4:$F$80,2))","v":""}]
[]
[]
[]
[]
[2,"２　－",null,{"$f":"IF(C18=\"\",\"\",VLOOKUP(C18,登録名簿!$A$2:$D$2000,3))","v":""},{"$f":"IF(C18=\"\",\"\",VLOOKUP(C18,登録名簿!$A$2:$D$2000,4))","v":""},null,null,null,null,null,null,null,null,null,null,null,{"$f":"COUNTIF(C$11:C$80,C18)","v":0}]
[null,null,null,{"$f":"IF(C18=\"\",\"\",VLOOKUP(C18,登録名簿!$A$2:$D$2000,2))","v":""},{"$f":"IF(C18=\"\",\"\",VLOOKUP(C18,登録名簿!$A$2:$E$2000,5))","v":""}]
[null,null,null,null,{"$f":"IF(D20=\"\",\"\",VLOOKUP(D20,'男女エントリー(OP)'!$B$4:$F$80,2))","v":""}]
[]
[]
[]
[]
[3,"２　－",null,{"$f":"IF(C25=\"\",\"\",VLOOKUP(C25,登録名簿!$A$2:$D$2000,3))","v":""},{"$f":"IF(C25=\"\",\"\",VLOOKUP(C25,登録名簿!$A$2:$D$2000,4))","v":""},null,null,null,null,null,null,null,null,null,null,null,{"$f":"COUNTIF(C$11:C$80,C25)","v":0}]
[null,null,null,{"$f":"IF(C25=\"\",\"\",VLOOKUP(C25,登録名簿!$A$2:$D$2000,2))","v":""},{"$f":"IF(C25=\"\",\"\",VLOOKUP(C25,登録名簿!$A$2:$E$2000,5))","v":""}]
[null,null,null,null,{"$f":"IF(D27=\"\",\"\",VLOOKUP(D27,'男女エントリー(OP)'!$B$4:$F$80,2))","v":""}]
[]
[]
[]
[]
[4,"２　－",null,{"$f":"IF(C32=\"\",\"\",VLOOKUP(C32,登録名簿!$A$2:$D$2000,3))","v":""},{"$f":"IF(C32=\"\",\"\",VLOOKUP(C32,登録名簿!$A$2:$D$2000,4))","v":""},null,null,null,null," ",null,null,null,null,null,null,{"$f":"COUNTIF(C$11:C$80,C32)","v":0}]
[null,null,null,{"$f":"IF(C32=\"\",\"\",VLOOKUP(C32,登録名簿!$A$2:$D$2000,2))","v":""},{"$f":"IF(C32=\"\",\"\",VLOOKUP(C32,登録名簿!$A$2:$E$2000,5))","v":""}]
[null,null,null,null,{"$f":"IF(D34=\"\",\"\",VLOOKUP(D34,'男女エントリー(OP)'!$B$4:$F$80,2))","v":""}]
[]
[]
[]
[]
[5,"２　－",null,{"$f":"IF(C39=\"\",\"\",VLOOKUP(C39,登録名簿!$A$2:$D$2000,3))","v":""},{"$f":"IF(C39=\"\",\"\",VLOOKUP(C39,登録名簿!$A$2:$D$2000,4))","v":""},null,null,null,null," ",null,null,null,null,null,null,{"$f":"COUNTIF(C$11:C$80,C39)","v":0}]
[null,null,null,{"$f":"IF(C39=\"\",\"\",VLOOKUP(C39,登録名簿!$A$2:$D$2000,2))","v":""},{"$f":"IF(C39=\"\",\"\",VLOOKUP(C39,登録名簿!$A$2:$E$2000,5))","v":""}]
[null,null,null,null,{"$f":"IF(D41=\"\",\"\",VLOOKUP(D41,'男女エントリー(OP)'!$B$4:$F$80,2))","v":""}]
[]
[]
[]
[]
[6,"２　－",null,{"$f":"IF(C46=\"\",\"\",VLOOKUP(C46,登録名簿!$A$2:$D$2000,3))","v":""},{"$f":"IF(C46=\"\",\"\",VLOOKUP(C46,登録名簿!$A$2:$D$2000,4))","v":""},null,null,null,null," ",null,null,null,null,null,null,{"$f":"COUNTIF(C$11:C$80,C46)","v":0}]
[null,null,null,{"$f":"IF(C46=\"\",\"\",VLOOKUP(C46,登録名簿!$A$2:$D$2000,2))","v":""},{"$f":"IF(C46=\"\",\"\",VLOOKUP(C46,登録名簿!$A$2:$E$2000,5))","v":""}]
[null,null,null,null,{"$f":"IF(D48=\"\",\"\",VLOOKUP(D48,'男女エントリー(OP)'!$B$4:$F$80,2))","v":""}]
[]
[]
[]
[]
[7,"２　－",null,{"$f":"IF(C53=\"\",\"\",VLOOKUP(C53,登録名簿!$A$2:$D$2000,3))","v":""},{"$f":"IF(C53=\"\",\"\",VLOOKUP(C53,登録名簿!$A$2:$D$2000,4))","v":""},null,null,null,null," ",null,null,null,null,null,null,{"$f":"COUNTIF(C$11:C$80,C53)","v":0}]
[null,null,null,{"$f":"IF(C53=\"\",\"\",VLOOKUP(C53,登録名簿!$A$2:$D$2000,2))","v":""},{"$f":"IF(C53=\"\",\"\",VLOOKUP(C53,登録名簿!$A$2:$E$2000,5))","v":""}]
[null,null,null,null,{"$f":"IF(D55=\"\",\"\",VLOOKUP(D55,'男女エントリー(OP)'!$B$4:$F$80,2))","v":""}]
[]
[]
[]
[]
[8,"２　－",null,{"$f":"IF(C60=\"\",\"\",VLOOKUP(C60,登録名簿!$A$2:$D$2000,3))","v":""},{"$f":"IF(C60=\"\",\"\",VLOOKUP(C60,登録名簿!$A$2:$D$2000,4))","v":""},null,null,null,null," ",null,null,null,null,null,null,{"$f":"COUNTIF(C$11:C$80,C60)","v":0}]
[null,null,null,{"$f":"IF(C60=\"\",\"\",VLOOKUP(C60,登録名簿!$A$2:$D$2000,2))","v":""},{"$f":"IF(C60=\"\",\"\",VLOOKUP(C60,登録名簿!$A$2:$E$2000,5))","v":""}]
[null,null,null,null,{"$f":"IF(D62=\"\",\"\",VLOOKUP(D62,'男女エントリー(OP)'!$B$4:$F$80,2))","v":""}]
[]
[]
[]
[]
[9,"２　－",null,{"$f":"IF(C67=\"\",\"\",VLOOKUP(C67,登録名簿!$A$2:$D$2000,3))","v":""},{"$f":"IF(C67=\"\",\"\",VLOOKUP(C67,登録名簿!$A$2:$D$2000,4))","v":""},null,null,null,null," ",null,null,null,null,null,null,{"$f":"COUNTIF(C$11:C$80,C67)","v":0}]
[null,null,null,{"$f":"IF(C67=\"\",\"\",VLOOKUP(C67,登録名簿!$A$2:$D$2000,2))","v":""},{"$f":"IF(C67=\"\",\"\",VLOOKUP(C67,登録名簿!$A$2:$E$2000,5))","v":""}]
[null,null,null,null,{"$f":"IF(D69=\"\",\"\",VLOOKUP(D69,'男女エントリー(OP)'!$B$4:$F$80,2))","v":""}]
[]
[]
[]
[]
[10,"２　－",null,{"$f":"IF(C74=\"\",\"\",VLOOKUP(C74,登録名簿!$A$2:$D$2000,3))","v":""},{"$f":"IF(C74=\"\",\"\",VLOOKUP(C74,登録名簿!$A$2:$D$2000,4))","v":""},null,null,null,null," ",null,null,null,null,null,null,{"$f":"COUNTIF(C$11:C$80,C74)","v":0}]
[null,null,null,{"$f":"IF(C74=\"\",\"\",VLOOKUP(C74,登録名簿!$A$2:$D$2000,2))","v":""},{"$f":"IF(C74=\"\",\"\",VLOOKUP(C74,登録名簿!$A$2:$E$2000,5))","v":""}]
[null,null,null,null,{"$f":"IF(D76=\"\",\"\",VLOOKUP(D76,'男女エントリー(OP)'!$B$4:$F$80,2))","v":""}]

{"sheet":"種目別一覧表","index":6,"n_rows":32,"n_cols":19,"rows_kept":32,"cut":false,"hidden":true,"merged":[[0,0,0,2],[0,5,0,7],[23,0,24,0],[25,0,26,0],[27,0,28,0],[31,1,31,3],[29,0,30,0],[23,5,24,5],[25,5,26,5],[27,5,28,5],[29,5,30,5]]}
[{"$f":"東北総体!C11","v":0},null,null,null,null,{"$f":"東北総体!C11","v":0}]
["男子種目別一覧表",null,null,"（様式Ⅱ）",null,"女子種目別一覧表",null,null,"（様式Ⅱ）"]
["競技種目","出場者１","出場者２","出場者３",null,"競技種目","出場者１","出場者２","出場者３"]
["100m",null,null,null,null,"100m"]
["200m",null,null,null,null,"200m"]
["400m",null,null,null,null,"400m"]
["800m",null,null,null,null,"800m"]
["1500m",null,null,null,null,"1500m"]
["5000m",null,null,null,null,"5000m"]
["10000m",null,null,null,null,"10000m"]
["110mH",null,null,null,null,"100mH"]
["400mH",null,null,null,null,"400mH"]
["3000mSC",null,null,null,null,"3000mSC"]
["10000mW",null,null,null,null,"10000mW"]
["走高跳",null,null,null,null,"走高跳"]
["棒高跳",null,null,null,null,"棒高跳"]
["走幅跳",null,null,null,null,"走幅跳"]
["三段跳",null,null,null,null,"三段跳"]
["砲丸投",null,null,null,null,"砲丸投"]
["円盤投",null,null,null,null,"円盤投"]
["ハンマー投",null,null,null,null,"ハンマー投"]
["やり投",null,null,null,null,"やり投"]
["十種競技",null,null,null,null,"七種競技",null,null,null,null,null,null,null,1,2,3,4,5,6]
["4×100ｍＲ",null,null,null,null,"4×100ｍＲ",null,null,null,null,null,null,"男子4継",{"$f":"IF('リレー申込(男女)'!B7=\"\",\"\",'リレー申込(男女)'!C7)","v":""},{"$f":"IF('リレー申込(男女)'!B8=\"\",\"\",'リレー申込(男女)'!C8)","v":""},{"$f":"IF('リレー申込(男女)'!B9=\"\",\"\",'リレー申込(男女)'!C9)","v":""},{"$f":"IF('リレー申込(男女)'!B10=\"\",\"\",'リレー申込(男女)'!C10)","v":""},{"$f":"IF('リレー申込(男女)'!B11=\"\",\"\",'リレー申込(男女)'!C11)","v":""},{"$f":"IF('リレー申込(男女)'!B12=\"\",\"\",'リレー申込(男女)'!C12)","v":""}]
[null,null,null,null,null,null,null,null,null,null,null,null,"男子マイル",{"$f":"IF('リレー申込(男女)'!B18=\"\",\"\",'リレー申込(男女)'!C18)","v":""},{"$f":"IF('リレー申込(男女)'!B19=\"\",\"\",'リレー申込(男女)'!C19)","v":""},{"$f":"IF('リレー申込(男女)'!B20=\"\",\"\",'リレー申込(男女)'!C20)","v":""},{"$f":"IF('リレー申込(男女)'!B21=\"\",\"\",'リレー申込(男女)'!C21)","v":""},{"$f":"IF('リレー申込(男女)'!B22=\"\",\"\",'リレー申込(男女)'!C22)","v":""},{"$f":"IF('リレー申込(男女)'!B23=\"\",\"\",'リレー申込(男女)'!C23)","v":""}]
["4×400ｍＲ",null,null,null,null,"4×400ｍＲ",null,null,null,null,null,null,"女子4継",{"$f":"IF('リレー申込(男女)'!I7=\"\",\"\",'リレー申込(男女)'!J7)","v":""},{"$f":"IF('リレー申込(男女)'!I8=\"\",\"\",'リレー申込(男女)'!J8)","v":""},{"$f":"IF('リレー申込(男女)'!I9=\"\",\"\",'リレー申込(男女)'!J9)","v":""},{"$f":"IF('リレー申込(男女)'!I10=\"\",\"\",'リレー申込(男女)'!J10)","v":""},{"$f":"IF('リレー申込(男女)'!I11=\"\",\"\",'リレー申込(男女)'!J11)","v":""},{"$f":"IF('リレー申込(男女)'!I12=\"\",\"\",'リレー申込(男女)'!J12)","v":""}]
[null,null,null,null,null,null,null,null,null,null,null,null,"女子マイル",{"$f":"IF('リレー申込(男女)'!I18=\"\",\"\",'リレー申込(男女)'!J18)","v":""},{"$f":"IF('リレー申込(男女)'!I19=\"\",\"\",'リレー申込(男女)'!J19)","v":""},{"$f":"IF('リレー申込(男女)'!I20=\"\",\"\",'リレー申込(男女)'!J20)","v":""},{"$f":"IF('リレー申込(男女)'!I21=\"\",\"\",'リレー申込(男女)'!J21)","v":""},{"$f":"IF('リレー申込(男女)'!I22=\"\",\"\",'リレー申込(男女)'!J22)","v":""},{"$f":"IF('リレー申込(男女)'!I23=\"\",\"\",'リレー申込(男女)'!J23)","v":""}]
["男子100mOP",null,null,null,null,"女子100mOP",null,null,null,null,null,null,"男子100ｍOP"]
[null,null,null,null,null,null,null,null,null,null,null,null,"男子5000ｍOP"]
["男子5000mOP",null,null,null,null,"女子5000mOP",null,null,null,null,null,null,"女子100mOP"]
[null,null,null,null,null,null,null,null,null,null,null,null,"女子5000mOP"]
[null,"上記のエントリーに申し違いはありません",null,null,null,{"$f":"東北総体!C25","v":0},"㊞"]

{"sheet":"団体総括申込","index":7,"n_rows":58,"n_cols":9,"rows_kept":58,"cut":false,"hidden":true,"merged":[[50,5,51,5],[53,0,54,0],[53,1,54,2],[53,3,54,3],[53,4,54,4],[53,5,54,8],[50,6,51,7],[50,8,51,8],[15,0,16,1],[15,2,16,8],[18,0,19,1],[38,3,38,8],[37,2,37,4],[13,2,14,5],[7,0,8,1],[7,2,8,6],[13,0,14,1],[7,7,8,7],[10,3,10,5],[11,2,12,8],[10,0,12,1],[0,0,1,8],[2,2,3,6],[4,0,5,1],[4,2,5,7],[2,7,3,8],[57,1,57,2],[57,3,57,7],[55,0,55,2],[55,3,55,4],[55,5,55,6],[56,0,56,8]]}
[{"$f":"東北総体!A1","v":"第69回東北地区大学体育大会陸上競技"}]
[]
[null,null,"団体総括申込書",null,null,null,null,"（様式 Ⅲ）"]
[]
["学  校  名",null,{"$f":"IF(東北総体!C11=\"\",\"\",東北総体!C11)","v":""}]
[]
[]
["申込責任者",null,{"$f":"IF(東北総体!C25=\"\",\"\",東北総体!C25)","v":""},null,null,null,null,"㊞"]
[]
[]
["連  絡  先",null,"〒",{"$f":"IF(東北総体!D28=\"\",\"\",東北総体!D28)","v":""}]
[null,null,{"$f":"IF(東北総体!C29=\"\",\"\",東北総体!C29)","v":""}]
[]
["℡",null,{"$f":"IF(東北総体!C31=\"\",\"\",東北総体!C31)","v":""}]
[]
["E－mail",null,{"$f":"IF(東北総体!C33=\"\",\"\",東北総体!C33)","v":""}]
[]
[]
["参  加  料",null,"＜男  子＞"]
[null,null,"個人種目","１５００円　×",{"$f":"COUNTA(男子エントリー!$G$11:$G$1010)","v":0},"種目","＝",{"$f":"E20*1500","v":0},"円"]
[]
[null,null,"リレー種目","２０００円　×",{"$f":"COUNTIF('リレー申込(男女)'!R5:'リレー申込(男女)'!R18,\"1\")","v":0},"チーム","＝",{"$f":"E22*2000","v":0},"円"]
[]
[null,null,null,null,null,"男子合計",null,{"$f":"H20+H22+H34","v":0},"円"]
[]
[null,null,"＜女  子＞"]
[null,null,"個人種目","１５００円　×",{"$f":"COUNTA(女子エントリー!$G$11:$G$1010)","v":0},"種目","＝",{"$f":"E27*1500","v":0},"円"]
[]
[null,null,"リレー種目","２０００円　×",{"$f":"COUNTIF('リレー申込(男女)'!Q5:'リレー申込(男女)'!Q18,\"1\")","v":0},"チーム","＝",{"$f":"E29*2000","v":0},"円"]
[]
[null,null,null,null,null,"女子合計",null,{"$f":"H27+H29","v":0},"円"]
[]
[null,null,"＜O    P＞"]
[null,null,"OP種目","1０００円　×",{"$f":"COUNTA('男女エントリー(OP)'!$G$11:$G$100)","v":0},"種目","＝",{"$f":"E34*1000","v":0},"円"]
[]
[null,null,null,null,null,"OP合計",null,{"$f":"H34","v":0},"円"]
[]
[null,null,"＜分担金(対校の部参加者のみ)＞"]
[null,null,"参加人数","10名まで4000円。以後5名増すごとに500円増。"]
[]
[null,null,null,"男子",{"$f":"COUNTA(男子エントリー!$C$11:$C$1000)","v":0},"人"]
[null,null,null,"女子",{"$f":"COUNTA(女子エントリー!$C$11:$C$1000)","v":0},"人"]
[]
[null,null,null,"合計",{"$f":"E41+E42","v":0},"人","＝",{"$f":"IF(E44<11,4000,TRUNC((E44-6)/5)*500+4000)","v":4000},"円"]
[]
[null,"男子合計",{"$f":"H24","v":0},"円"]
[]
[null,"女子合計",{"$f":"H31","v":0},"円"]
[]
[null,"OP合計",{"$f":"H36","v":0},"円"]
[null,null,null,null,null,"計",{"$f":"C46+C48+C50+C52","v":4000},null,"円"]
[null,"分担金",{"$f":"H44","v":4000},"円"]
[]
["以上",{"$f":"G51","v":4000},null,"を        月","  ","日に、指定口座に振り込みました。"]
[]
["（　　領収書の発行を",null,null,"希望します。",null,"希望しません。",null,"）"]
["いずれかを○で囲んでください。上記、学校名と違う名義での発行を\n希望する場合は、下記にその名義を記入してください。"]
[null,"領収書の名義"]

{"sheet":"個人申込一覧表","index":8,"n_rows":200,"n_cols":35,"rows_kept":200,"cut":false,"hidden":true,"merged":[]}
["学校名","登録番号","氏名","競技者名略称","ｶﾅ氏名","所属NO","登録陸協","性別","学年","年齢","生年月日","陸連コード","競技１","自己記録１","競技２","自己記録２","競技３","自己記録３","競技４","自己記録４","競技５","自己記録５","オープン参加",null,"競技１",null,"競技２",null,"競技３",null,"競技４",null,"競技５",null,"競技６"]
[{"$f":"東北総体!$C$13","v":""},null,null,null,null,null,null,null,null,null,null,null,null,null,null,null,null,null,null,null,{"$f":"IF(AG2=\"\",\"\",AG2)","v":""}]
[{"$f":"東北総体!$C$13","v":""},null,null,null,null,null,null,null,null,null,null,null,null,null,null,null,null,null,null,null,{"$f":"IF(AG3=\"\",\"\",AG3)","v":""}]
[{"$f":"東北総体!$C$13","v":""},null,null,null,null,null,null,null,null,null,null,null,null,null,null,null,null,null,null,null,""]
[{"$f":"東北総体!$C$13","v":""},null,null,null,null,null,null,null,null,null,null,null,null,null,null,null,null,null,null,null,""]
[{"$f":"東北総体!$C$13","v":""},null,null,null,null,null,null,null,null,null,null,null,null,null,null,null,null,null,null,null,""]
[{"$f":"東北総体!$C$13","v":""},null,null,null,null,null,null,null,null,null,null,null,null,null,null,null,null,null,null,null,""]
[{"$f":"東北総体!$C$13","v":""},null,null,null,null,null,null,null,null,null,null,null,null,null,null,null,null,null,null,null,""]
[{"$f":"東北総体!$C$13","v":""},null,null,null,null,null,null,null,null,null,null,null,null,null,null,null,null,null,null,null,""]
[{"$f":"東北総体!$C$13","v":""},null,null,null,null,null,null,null,null,null,null,null,null,null,null,null,null,null,null,null,""]
[{"$f":"東北総体!$C$13","v":""},null,null,null,null,null,null,null,null,null,null,null,null,null,null,null,null,null,null,null,""]
[{"$f":"東北総体!$C$13","v":""},null,null,null,null,null,null,null,null,null,null,null,null,null,null,null,null,null,null,null,""]
[{"$f":"東北総体!$C$13","v":""},null,null,null,null,null,null,null,null,null,null,null,null,null,null,null,null,null,null,null,""]
[{"$f":"東北総体!$C$13","v":""},null,null,null,null,null,null,null,null,null,null,null,null,null,null,null,null,null,null,null,""]
[{"$f":"東北総体!$C$13","v":""},null,null,null,null,null,null,null,null,null,null,null,null,null,null,null,null,null,null,null,""]
[{"$f":"東北総体!$C$13","v":""},null,null,null,null,null,null,null,null,null,null,null,null,null,null,null,null,null,null,null,""]
[{"$f":"東北総体!$C$13","v":""},null,null,null,null,null,null,null,null,null,null,null,null,null,null,null,null,null,null,null,""]
[{"$f":"東北総体!$C$13","v":""},null,null,null,null,null,null,null,null,null,null,null,null,null,null,null,null,null,null,null,""]
[{"$f":"東北総体!$C$13","v":""},null,null,null,null,null,null,null,null,null,null,null,null,null,null,null,null,null,null,null,""]
[{"$f":"東北総体!$C$13","v":""},null,null,null,null,null,null,null,null,null,null,null,null,null,null,null,null,null,null,null,""]
[{"$f":"東北総体!$C$13","v":""},null,null,null,null,null,null,null,null,null,null,null,null,null,null,null,null,null,null,null,""]
[{"$f":"東北総体!$C$13","v":""},null,null,null,null,null,null,null,null,null,null,null,null,null,null,null,null,null,null,null,""]
[{"$f":"東北総体!$C$13","v":""},null,null,null,null,null,null,null,null,null,null,null,null,null,null,null,null,null,null,null,""]
[{"$f":"東北総体!$C$13","v":""},null,null,null,null,null,null,null,null,null,null,null,null,null,null,null,null,null,null,null,""]
[{"$f":"東北総体!$C$13","v":""},null,null,null,null,null,null,null,null,null,null,null,null,null,null,null,null,null,null,null,""]
[{"$f":"東北総体!$C$13","v":""},null,null,null,null,null,null,null,null,null,null,null,null,null,null,null,null,null,null,null,""]
[{"$f":"東北総体!$C$13","v":""},null,null,null,null,null,null,null,null,null,null,null,null,null,null,null,null,null,null,null,""]
[{"$f":"東北総体!$C$13","v":""},null,null,null,null,null,null,null,null,null,null,null,null,null,null,null,null,null,null,null,""]
[{"$f":"東北総体!$C$13","v":""},null,null,null,null,null,null,null,null,null,null,null,null,null,null,null,null,null,null,null,""]
[{"$f":"東北総体!$C$13","v":""},null,null,null,null,null,null,null,null,null,null,null,null,null,null,null,null,null,null,null,""]
[{"$f":"東北総体!$C$13","v":""},null,null,null,null,null,null,null,null,null,null,null,null,null,null,null,null,null,null,null,""]
[{"$f":"東北総体!$C$13","v":""},null,null,null,null,null,null,null,null,null,null,null,null,null,null,null,null,null,null,null,""]
[{"$f":"東北総体!$C$13","v":""},null,null,null,null,null,null,null,null,null,null,null,null,null,null,null,null,null,null,null,""]
[{"$f":"東北総体!$C$13","v":""},null,null,null,null,null,null,null,null,null,null,null,null,null,null,null,null,null,null,null,""]
[{"$f":"東北総体!$C$13","v":""},null,null,null,null,null,null,null,null,null,null,null,null,null,null,null,null,null,null,null,""]
[{"$f":"東北総体!$C$13","v":""},null,null,null,null,null,null,null,null,null,null,null,null,null,null,null,null,null,null,null,""]
[{"$f":"東北総体!$C$13","v":""},null,null,null,null,null,null,null,null,null,null,null,null,null,null,null,null,null,null,null,""]
[{"$f":"東北総体!$C$13","v":""},null,null,null,null,null,null,null,null,null,null,null,null,null,null,null,null,null,null,null,""]
[{"$f":"東北総体!$C$13","v":""},null,null,null,null,null,null,null,null,null,null,null,null,null,null,null,null,null,null,null,""]
[{"$f":"東北総体!$C$13","v":""},null,null,null,null,null,null,null,null,null,null,null,null,null,null,null,null,null,null,null,""]
[{"$f":"東北総体!$C$13","v":""},null,null,null,null,null,null,null,null,null,null,null,null,null,null,null,null,null,null,null,""]
[{"$f":"東北総体!$C$13","v":""},null,null,null,null,null,null,null,null,null,null,null,null,null,null,null,null,null,null,null,""]
[{"$f":"東北総体!$C$13","v":""},null,null,null,null,null,null,null,null,null,null,null,null,null,null,null,null,null,null,null,""]
[{"$f":"東北総体!$C$13","v":""},null,null,null,null,null,null,null,null,null,null,null,null,null,null,null,null,null,null,null,""]
[{"$f":"東北総体!$C$13","v":""},null,null,null,null,null,null,null,null,null,null,null,null,null,null,null,null,null,null,null,""]
[{"$f":"東北総体!$C$13","v":""},null,null,null,null,null,null,null,null,null,null,null,null,null,null,null,null,null,null,null,""]
[{"$f":"東北総体!$C$13","v":""},null,null,null,null,null,null,null,null,null,null,null,null,null,null,null,null,null,null,null,""]
[{"$f":"東北総体!$C$13","v":""},null,null,null,null,null,null,null,null,null,null,null,null,null,null,null,null,null,null,null,""]
[{"$f":"東北総体!$C$13","v":""},null,null,null,null,null,null,null,null,null,null,null,null,null,null,null,null,null,null,null,""]
[{"$f":"東北総体!$C$13","v":""},null,null,null,null,null,null,null,null,null,null,null,null,null,null,null,null,null,null,null,""]
[{"$f":"東北総体!$C$13","v":""},null,null,null,null,null,null,null,null,null,null,null,null,null,null,null,null,null,null,null,""]
[{"$f":"東北総体!$C$13","v":""},null,null,null,null,null,null,null,null,null,null,null,null,null,null,null,null,null,null,null,""]
[{"$f":"東北総体!$C$13","v":""},null,null,null,null,null,null,null,null,null,null,null,null,null,null,null,null,null,null,null,""]
[{"$f":"東北総体!$C$13","v":""},null,null,null,null,null,null,null,null,null,null,null,null,null,null,null,null,null,null,null,""]
[{"$f":"東北総体!$C$13","v":""},null,null,null,null,null,null,null,null,null,null,null,null,null,null,null,null,null,null,null,""]
[{"$f":"東北総体!$C$13","v":""},null,null,null,null,null,null,null,null,null,null,null,null,null,null,null,null,null,null,null,""]
[{"$f":"東北総体!$C$13","v":""},null,null,null,null,null,null,null,null,null,null,null,null,null,null,null,null,null,null,null,""]
[{"$f":"東北総体!$C$13","v":""},null,null,null,null,null,null,null,null,null,null,null,null,null,null,null,null,null,null,null,""]
[{"$f":"東北総体!$C$13","v":""},null,null,null,null,null,null,null,null,null,null,null,null,null,null,null,null,null,null,null,""]
[{"$f":"東北総体!$C$13","v":""},null,null,null,null,null,null,null,null,null,null,null,null,null,null,null,null,null,null,null,""]
[{"$f":"東北総体!$C$13","v":""},null,null,null,null,null,null,null,null,null,null,null,null,null,null,null,null,null,null,null,""]
[{"$f":"東北総体!$C$13","v":""},null,null,null,null,null,null,null,null,null,null,null,null,null,null,null,null,null,null,null,""]
[{"$f":"東北総体!$C$13","v":""},null,null,null,null,null,null,null,null,null,null,null,null,null,null,null,null,null,null,null,""]
[{"$f":"東北総体!$C$13","v":""},null,null,null,null,null,null,null,null,null,null,null,null,null,null,null,null,null,null,null,""]
[{"$f":"東北総体!$C$13","v":""},null,null,null,null,null,null,null,null,null,null,null,null,null,null,null,null,null,null,null,""]
[{"$f":"東北総体!$C$13","v":""},null,null,null,null,null,null,null,null,null,null,null,null,null,null,null,null,null,null,null,""]
[{"$f":"東北総体!$C$13","v":""},null,null,null,null,null,null,null,null,null,null,null,null,null,null,null,null,null,null,null,{"$f":"IF(AG67=\"\",\"\",AG67)","v":""}]
[{"$f":"東北総体!$C$13","v":""},null,null,null,null,null,null,null,null,null,null,null,null,null,null,null,null,null,null,null,""]
[{"$f":"東北総体!$C$13","v":""},null,null,null,null,null,null,null,null,null,null,null,null,null,null,null,null,null,null,null,""]
[{"$f":"東北総体!$C$13","v":""},null,null,null,null,null,null,null,null,null,null,null,null,null,null,null,null,null,null,null,""]
[{"$f":"東北総体!$C$13","v":""},null,null,null,null,null,null,null,null,null,null,null,null,null,null,null,null,null,null,null,""]
[{"$f":"東北総体!$C$13","v":""},null,null,null,null,null,null,null,null,null,null,null,null,null,null,null,null,null,null,null,""]
[{"$f":"東北総体!$C$13","v":""},null,null,null,null,null,null,null,null,null,null,null,null,null,null,null,null,null,null,null,""]
[{"$f":"東北総体!$C$13","v":""},null,null,null,null,null,null,null,null,null,null,null,null,null,null,null,null,null,null,null,""]
[{"$f":"東北総体!$C$13","v":""},null,null,null,null,null,null,null,null,null,null,null,null,null,null,null,null,null,null,null,""]
[{"$f":"東北総体!$C$13","v":""},null,null,null,null,null,null,null,null,null,null,null,null,null,null,null,null,null,null,null,""]
[{"$f":"東北総体!$C$13","v":""},null,null,null,null,null,null,null,null,null,null,null,null,null,null,null,null,null,null,null,""]
[{"$f":"東北総体!$C$13","v":""},null,null,null,null,null,null,null,null,null,null,null,null,null,null,null,null,null,null,null,""]
[{"$f":"東北総体!$C$13","v":""},null,null,null,null,null,null,null,null,null,null,null,null,null,null,null,null,null,null,null,""]
[{"$f":"東北総体!$C$13","v":""},null,null,null,null,null,null,null,null,null,null,null,null,null,null,null,null,null,null,null,""]
[{"$f":"東北総体!$C$13","v":""},null,null,null,null,null,null,null,null,null,null,null,null,null,null,null,null,null,null,null,""]
[{"$f":"東北総体!$C$13","v":""},null,null,null,null,null,null,null,null,null,null,null,null,null,null,null,null,null,null,null,""]
[{"$f":"東北総体!$C$13","v":""},null,null,null,null,null,null,null,null,null,null,null,null,null,null,null,null,null,null,null,""]
[{"$f":"東北総体!$C$13","v":""},null,null,null,null,null,null,null,null,null,null,null,null,null,null,null,null,null,null,null,""]
[{"$f":"東北総体!$C$13","v":""},null,null,null,null,null,null,null,null,null,null,null,null,null,null,null,null,null,null,null,""]
[{"$f":"東北総体!$C$13","v":""},null,null,null,null,null,null,null,null,null,null,null,null,null,null,null,null,null,null,null,""]
[{"$f":"東北総体!$C$13","v":""},null,null,null,null,null,null,null,null,null,null,null,null,null,null,null,null,null,null,null,""]
[{"$f":"東北総体!$C$13","v":""},null,null,null,null,null,null,null,null,null,null,null,null,null,null,null,null,null,null,null,""]
[{"$f":"東北総体!$C$13","v":""},null,null,null,null,null,null,null,null,null,null,null,null,null,null,null,null,null,null,null,""]
[{"$f":"東北総体!$C$13","v":""},null,null,null,null,null,null,null,null,null,null,null,null,null,null,null,null,null,null,null,""]
[{"$f":"東北総体!$C$13","v":""},null,null,null,null,null,null,null,null,null,null,null,null,null,null,null,null,null,null,null,""]
[{"$f":"東北総体!$C$13","v":""},null,null,null,null,null,null,null,null,null,null,null,null,null,null,null,null,null,null,null,""]
[{"$f":"東北総体!$C$13","v":""},null,null,null,null,null,null,null,null,null,null,null,null,null,null,null,null,null,null,null,""]
[{"$f":"東北総体!$C$13","v":""},null,null,null,null,null,null,null,null,null,null,null,null,null,null,null,null,null,null,null,""]
[{"$f":"東北総体!$C$13","v":""},null,null,null,null,null,null,null,null,null,null,null,null,null,null,null,null,null,null,null,""]
[{"$f":"東北総体!$C$13","v":""},null,null,null,null,null,null,null,null,null,null,null,null,null,null,null,null,null,null,null,""]
[{"$f":"東北総体!$C$13","v":""},null,null,null,null,null,null,null,null,null,null,null,null,null,null,null,null,null,null,null,""]
[{"$f":"東北総体!$C$13","v":""},null,null,null,null,null,null,null,null,null,null,null,null,null,null,null,null,null,null,null,""]
[{"$f":"東北総体!$C$13","v":""},null,null,null,null,null,null,null,null,null,null,null,null,null,null,null,null,null,null,null,""]
[{"$f":"東北総体!$C$13","v":""},null,null,null,null,null,null,null,null,null,null,null,null,null,null,null,null,null,null,null,""]
[{"$f":"東北総体!$C$13","v":""},null,null,null,null,null,null,null,null,null,null,null,null,null,null,null,null,null,null,null,""]
[{"$f":"東北総体!$C$13","v":""},null,null,null,null,null,null,null,null,null,null,null,null,null,null,null,null,null,null,null,""]
[{"$f":"東北総体!$C$13","v":""},null,null,null,null,null,null,null,null,null,null,null,null,null,null,null,null,null,null,null,""]
[{"$f":"東北総体!$C$13","v":""},null,null,null,null,null,null,null,null,null,null,null,null,null,null,null,null,null,null,null,""]
[{"$f":"東北総体!$C$13","v":""},null,null,null,null,null,null,null,null,null,null,null,null,null,null,null,null,null,null,null,""]
[{"$f":"東北総体!$C$13","v":""},null,null,null,null,null,null,null,null,null,null,null,null,null,null,null,null,null,null,null,""]
[{"$f":"東北総体!$C$13","v":""},null,null,null,null,null,null,null,null,null,null,null,null,null,null,null,null,null,null,null,""]
[{"$f":"東北総体!$C$13","v":""},null,null,null,null,null,null,null,null,null,null,null,null,null,null,null,null,null,null,null,""]
[{"$f":"東北総体!$C$13","v":""},null,null,null,null,null,null,null,null,null,null,null,null,null,null,null,null,null,null,null,""]
[{"$f":"東北総体!$C$13","v":""},null,null,null,null,null,null,null,null,null,null,null,null,null,null,null,null,null,null,null,""]
[{"$f":"東北総体!$C$13","v":""},null,null,null,null,null,null,null,null,null,null,null,null,null,null,null,null,null,null,null,""]
[{"$f":"東北総体!$C$13","v":""},null,null,null,null,null,null,null,null,null,null,null,null,null,null,null,null,null,null,null,""]
[{"$f":"東北総体!$C$13","v":""},null,null,null,null,null,null,null,null,null,null,null,null,null,null,null,null,null,null,null,""]
[{"$f":"東北総体!$C$13","v":""},null,null,null,null,null,null,null,null,null,null,null,null,null,null,null,null,null,null,null,""]
[{"$f":"東北総体!$C$13","v":""},null,null,null,null,null,null,null,null,null,null,null,null,null,null,null,null,null,null,null,""]
[{"$f":"東北総体!$C$13","v":""},null,null,null,null,null,null,null,null,null,null,null,null,null,null,null,null,null,null,null,""]
[{"$f":"東北総体!$C$13","v":""},null,null,null,null,null,null,null,null,null,null,null,null,null,null,null,null,null,null,null,""]
[{"$f":"東北総体!$C$13","v":""},null,null,null,null,null,null,null,null,null,null,null,null,null,null,null,null,null,null,null,""]
[{"$f":"東北総体!$C$13","v":""},null,null,null,null,null,null,null,null,null,null,null,null,null,null,null,null,null,null,null,""]
[{"$f":"東北総体!$C$13","v":""},null,null,null,null,null,null,null,null,null,null,null,null,null,null,null,null,null,null,null,""]
[{"$f":"東北総体!$C$13","v":""},null,null,null,null,null,null,null,null,null,null,null,null,null,null,null,null,null,null,null,""]
[{"$f":"東北総体!$C$13","v":""},null,null,null,null,null,null,null,null,null,null,null,null,null,null,null,null,null,null,null,""]
[{"$f":"東北総体!$C$13","v":""},null,null,null,null,null,null,null,null,null,null,null,null,null,null,null,null,null,null,null,""]
[{"$f":"東北総体!$C$13","v":""},null,null,null,null,null,null,null,null,null,null,null,null,null,null,null,null,null,null,null,""]
[{"$f":"東北総体!$C$13","v":""},null,null,null,null,null,null,null,null,null,null,null,null,null,null,null,null,null,null,null,""]
[{"$f":"東北総体!$C$13","v":""},null,null,null,null,null,null,null,null,null,null,null,null,null,null,null,null,null,null,null,""]
[{"$f":"東北総体!$C$13","v":""},null,null,null,null,null,null,null,null,null,null,null,null,null,null,null,null,null,null,null,""]
[{"$f":"東北総体!$C$13","v":""},null,null,null,null,null,null,null,null,null,null,null,null,null,null,null,null,null,null,null,""]
[{"$f":"東北総体!$C$13","v":""},null,null,null,null,null,null,null,null,null,null,null,null,null,null,null,null,null,null,null,""]
[{"$f":"東北総体!$C$13","v":""},null,null,null,null,null,null,null,null,null,null,null,null,null,null,null,null,null,null,null,""]
[{"$f":"東北総体!$C$13","v":""},null,null,null,null,null,null,null,null,null,null,null,null,null,null,null,null,null,null,null,{"$f":"IF(AG131=\"\",\"\",AG131)","v":""}]
[{"$f":"東北総体!$C$13","v":""},null,null,null,null,null,null,null,null,null,null,null,null,null,null,null,null,null,null,null,""]
[{"$f":"東北総体!$C$13","v":""},null,null,null,null,null,null,null,null,null,null,null,null,null,null,null,null,null,null,null,""]
[{"$f":"東北総体!$C$13","v":""},null,null,null,null,null,null,null,null,null,null,null,null,null,null,null,null,null,null,null,""]
[{"$f":"東北総体!$C$13","v":""},null,null,null,null,null,null,null,null,null,null,null,null,null,null,null,null,null,null,null,""]
[{"$f":"東北総体!$C$13","v":""},null,null,null,null,null,null,null,null,null,null,null,null,null,null,null,null,null,null,null,""]
[{"$f":"東北総体!$C$13","v":""},null,null,null,null,null,null,null,null,null,null,null,null,null,null,null,null,null,null,null,""]
[{"$f":"東北総体!$C$13","v":""},null,null,null,null,null,null,null,null,null,null,null,null,null,null,null,null,null,null,null,""]
[{"$f":"東北総体!$C$13","v":""},null,null,null,null,null,null,null,null,null,null,null,null,null,null,null,null,null,null,null,""]
[{"$f":"東北総体!$C$13","v":""},null,null,null,null,null,null,null,null,null,null,null,null,null,null,null,null,null,null,null,""]
[{"$f":"東北総体!$C$13","v":""},null,null,null,null,null,null,null,null,null,null,null,null,null,null,null,null,null,null,null,""]
[{"$f":"東北総体!$C$13","v":""},null,null,null,null,null,null,null,null,null,null,null,null,null,null,null,null,null,null,null,""]
[{"$f":"東北総体!$C$13","v":""},null,null,null,null,null,null,null,null,null,null,null,null,null,null,null,null,null,null,null,""]
[{"$f":"東北総体!$C$13","v":""},null,null,null,null,null,null,null,null,null,null,null,null,null,null,null,null,null,null,null,""]
[{"$f":"東北総体!$C$13","v":""},null,null,null,null,null,null,null,null,null,null,null,null,null,null,null,null,null,null,null,""]
[{"$f":"東北総体!$C$13","v":""},null,null,null,null,null,null,null,null,null,null,null,null,null,null,null,null,null,null,null,""]
[{"$f":"東北総体!$C$13","v":""},null,null,null,null,null,null,null,null,null,null,null,null,null,null,null,null,null,null,null,""]
[{"$f":"東北総体!$C$13","v":""},null,null,null,null,null,null,null,null,null,null,null,null,null,null,null,null,null,null,null,""]
[{"$f":"東北総体!$C$13","v":""},null,null,null,null,null,null,null,null,null,null,null,null,null,null,null,null,null,null,null,""]
[{"$f":"東北総体!$C$13","v":""},null,null,null,null,null,null,null,null,null,null,null,null,null,null,null,null,null,null,null,""]
[{"$f":"東北総体!$C$13","v":""},null,null,null,null,null,null,null,null,null,null,null,null,null,null,null,null,null,null,null,""]
[{"$f":"東北総体!$C$13","v":""},null,null,null,null,null,null,null,null,null,null,null,null,null,null,null,null,null,null,null,""]
[{"$f":"東北総体!$C$13","v":""},null,null,null,null,null,null,null,null,null,null,null,null,null,null,null,null,null,null,null,""]
[{"$f":"東北総体!$C$13","v":""},null,null,null,null,null,null,null,null,null,null,null,null,null,null,null,null,null,null,null,""]
[{"$f":"東北総体!$C$13","v":""},null,null,null,null,null,null,null,null,null,null,null,null,null,null,null,null,null,null,null,""]
[{"$f":"東北総体!$C$13","v":""},null,null,null,null,null,null,null,null,null,null,null,null,null,null,null,null,null,null,null,""]
[{"$f":"東北総体!$C$13","v":""},null,null,null,null,null,null,null,null,null,null,null,null,null,null,null,null,null,null,null,""]
[{"$f":"東北総体!$C$13","v":""},null,null,null,null,null,null,null,null,null,null,null,null,null,null,null,null,null,null,null,""]
[{"$f":"東北総体!$C$13","v":""},null,null,null,null,null,null,null,null,null,null,null,null,null,null,null,null,null,null,null,""]
[{"$f":"東北総体!$C$13","v":""},null,null,null,null,null,null,null,null,null,null,null,null,null,null,null,null,null,null,null,""]
[{"$f":"東北総体!$C$13","v":""},null,null,null,null,null,null,null,null,null,null,null,null,null,null,null,null,null,null,null,""]
[{"$f":"東北総体!$C$13","v":""},null,null,null,null,null,null,null,null,null,null,null,null,null,null,null,null,null,null,null,""]
[{"$f":"東北総体!$C$13","v":""},null,null,null,null,null,null,null,null,null,null,null,null,null,null,null,null,null,null,null,""]
[{"$f":"東北総体!$C$13","v":""},null,null,null,null,null,null,null,null,null,null,null,null,null,null,null,null,null,null,null,""]
[{"$f":"東北総体!$C$13","v":""},null,null,null,null,null,null,null,null,null,null,null,null,null,null,null,null,null,null,null,""]
[{"$f":"東北総体!$C$13","v":""},null,null,null,null,null,null,null,null,null,null,null,null,null,null,null,null,null,null,null,""]
[{"$f":"東北総体!$C$13","v":""},null,null,null,null,null,null,null,null,null,null,null,null,null,null,null,null,null,null,null,""]
[{"$f":"東北総体!$C$13","v":""},null,null,null,null,null,null,null,null,null,null,null,null,null,null,null,null,null,null,null,""]
[{"$f":"東北総体!$C$13","v":""},null,null,null,null,null,null,null,null,null,null,null,null,null,null,null,null,null,null,null,""]
[{"$f":"東北総体!$C$13","v":""},null,null,null,null,null,null,null,null,null,null,null,null,null,null,null,null,null,null,null,""]
[{"$f":"東北総体!$C$13","v":""},null,null,null,null,null,null,null,null,null,null,null,null,null,null,null,null,null,null,null,""]
[{"$f":"東北総体!$C$13","v":""},null,null,null,null,null,null,null,null,null,null,null,null,null,null,null,null,null,null,null,""]
[{"$f":"東北総体!$C$13","v":""},null,null,null,null,null,null,null,null,null,null,null,null,null,null,null,null,null,null,null,""]
[{"$f":"東北総体!$C$13","v":""},null,null,null,null,null,null,null,null,null,null,null,null,null,null,null,null,null,null,null,""]
[{"$f":"東北総体!$C$13","v":""},null,null,null,null,null,null,null,null,null,null,null,null,null,null,null,null,null,null,null,""]
[{"$f":"東北総体!$C$13","v":""},null,null,null,null,null,null,null,null,null,null,null,null,null,null,null,null,null,null,null,""]
[{"$f":"東北総体!$C$13","v":""},null,null,null,null,null,null,null,null,null,null,null,null,null,null,null,null,null,null,null,""]
[{"$f":"東北総体!$C$13","v":""},null,null,null,null,null,null,null,null,null,null,null,null,null,null,null,null,null,null,null,""]
[{"$f":"東北総体!$C$13","v":""},null,null,null,null,null,null,null,null,null,null,null,null,null,null,null,null,null,null,null,""]
[{"$f":"東北総体!$C$13","v":""},null,null,null,null,null,null,null,null,null,null,null,null,null,null,null,null,null,null,null,""]
[{"$f":"東北総体!$C$13","v":""},null,null,null,null,null,null,null,null,null,null,null,null,null,null,null,null,null,null,null,""]
[{"$f":"東北総体!$C$13","v":""},null,null,null,null,null,null,null,null,null,null,null,null,null,null,null,null,null,null,null,""]
[{"$f":"東北総体!$C$13","v":""},null,null,null,null,null,null,null,null,null,null,null,null,null,null,null,null,null,null,null,""]
[{"$f":"東北総体!$C$13","v":""},null,null,null,null,null,null,null,null,null,null,null,null,null,null,null,null,null,null,null,""]
[{"$f":"東北総体!$C$13","v":""},null,null,null,null,null,null,null,null,null,null,null,null,null,null,null,null,null,null,null,""]
[{"$f":"東北総体!$C$13","v":""},null,null,null,null,null,null,null,null,null,null,null,null,null,null,null,null,null,null,null,""]
[{"$f":"東北総体!$C$13","v":""},null,null,null,null,null,null,null,null,null,null,null,null,null,null,null,null,null,null,null,""]
[{"$f":"東北総体!$C$13","v":""},null,null,null,null,null,null,null,null,null,null,null,null,null,null,null,null,null,null,null,""]
[{"$f":"東北総体!$C$13","v":""},null,null,null,null,null,null,null,null,null,null,null,null,null,null,null,null,null,null,null,""]
[{"$f":"東北総体!$C$13","v":""},null,null,null,null,null,null,null,null,null,null,null,null,null,null,null,null,null,null,null,""]
[{"$f":"東北総体!$C$13","v":""},null,null,null,null,null,null,null,null,null,null,null,null,null,null,null,null,null,null,null,""]
[{"$f":"東北総体!$C$13","v":""},null,null,null,null,null,null,null,null,null,null,null,null,null,null,null,null,null,null,null,""]
[{"$f":"東北総体!$C$13","v":""},null,null,null,null,null,null,null,null,null,null,null,null,null,null,null,null,null,null,null,""]
[{"$f":"東北総体!$C$13","v":""},null,null,null,null,null,null,null,null,null,null,null,null,null,null,null,null,null,null,null,""]
[{"$f":"東北総体!$C$13","v":""},null,null,null,null,null,null,null,null,null,null,null,null,null,null,null,null,null,null,null,{"$f":"IF(AG195=\"\",\"\",AG195)","v":""}]
[{"$f":"東北総体!$C$13","v":""},null,null,null,null,null,null,null,null,null,null,null,null,null,null,null,null,null,null,null,""]
[{"$f":"東北総体!$C$13","v":""},null,null,null,null,null,null,null,null,null,null,null,null,null,null,null,null,null,null,null,""]
[{"$f":"東北総体!$C$13","v":""},null,null,null,null,null,null,null,null,null,null,null,null,null,null,null,null,null,null,null,""]
[{"$f":"東北総体!$C$13","v":""},null,null,null,null,null,null,null,null,null,null,null,null,null,null,null,null,null,null,null,""]
[{"$f":"東北総体!$C$13","v":""},null,null,null,null,null,null,null,null,null,null,null,null,null,null,null,null,null,null,null,""]

{"sheet":"relay","index":9,"n_rows":1,"n_cols":13,"rows_kept":1,"cut":false,"hidden":true,"merged":[]}
["チームNO","所属コード","チーム名","チーム名カナ","チーム名略称","チーム正式名称","ID","競技者NO","競技者名","参加競技-競技コード","参加競技-自己記録","参加競技-オープン参加FLG","参加競技-記録FLG"]

{"sheet":"kyougi","index":10,"n_rows":44,"n_cols":5,"rows_kept":44,"cut":false,"hidden":true,"merged":[]}
["競技名","競技名カナ","競技NO","競技種目NO","競技種別NO"]
["男子100m","ﾀﾞﾝｼ 100ﾒｰﾄﾙ",1,1,1]
["男子200m","ﾀﾞﾝｼ 200ﾒｰﾄﾙ",2,2,1]
["男子400m","ﾀﾞﾝｼ 400ﾒｰﾄﾙ",3,3,1]
["男子800m","ﾀﾞﾝｼ 800ﾒｰﾄﾙ",4,4,1]
["男子1500m","ﾀﾞﾝｼ 1500ﾒｰﾄﾙ",5,5,1]
["男子5000m","ﾀﾞﾝｼ 5000ﾒｰﾄﾙ",6,7,1]
["男子10000m","ﾀﾞﾝｼ 10000ﾒｰﾄﾙ",7,8,1]
["男子110mH","ﾀﾞﾝｼ 110mH",8,10,1]
["男子400mH","ﾀﾞﾝｼ 400mH",9,11,1]
["男子3000mSC","ﾀﾞﾝｼ 3000mSC",10,12,1]
["男子10000mW","ﾀﾞﾝｼ 10000mW",11,15,1]
["男子走高跳","ﾀﾞﾝｼ ﾊｼﾘﾀｶﾄﾋﾞ",12,18,1]
["男子棒高跳","ﾀﾞﾝｼ ﾎﾞｳﾀｶﾄﾋﾞ",13,19,1]
["男子走幅跳","ﾀﾞﾝｼ ﾊｼﾘﾊﾊﾞﾄﾋﾞ",14,20,1]
["男子三段跳","ﾀﾞﾝｼ ｻﾝﾀﾞﾝﾄﾋﾞ",15,21,1]
["男子砲丸投","ﾀﾞﾝｼ ﾎｳｶﾞﾝﾅｹﾞ",16,22,1]
["男子円盤投","ﾀﾞﾝｼ ｴﾝﾊﾞﾝﾅｹﾞ",17,16,1]
["男子ハンマー投","ﾀﾞﾝｼ ﾊﾝﾏｰﾅｹﾞ",18,23,1]
["男子やり投","ﾀﾞﾝｼ ﾔﾘﾅｹﾞ",19,17,1]
["男子十種競技","ﾀﾞﾝｼ10ｼｭｷｮｳｷﾞ",20,28,1]
["男子4X100mR","ﾀﾞﾝｼ 4X100mR",21,24,1]
["男子4X400mR","ﾀﾞﾝｼ 4X400mR",22,26,1]
["女子100m","ｼﾞｮｼ 100ﾒｰﾄﾙ",23,1,2]
["女子200m","ｼﾞｮｼ 200ﾒｰﾄﾙ",24,2,2]
["女子400m","ｼﾞｮｼ 400ﾒｰﾄﾙ",25,3,2]
["女子800m","ｼﾞｮｼ 800ﾒｰﾄﾙ",26,4,2]
["女子1500m","ｼﾞｮｼ 1500ﾒｰﾄﾙ",27,5,2]
["女子5000m","ｼﾞｮｼ 5000ﾒｰﾄﾙ",28,7,2]
["女子10000m","ｼﾞｮｼ 10000ﾒｰﾄﾙ",29,8,2]
["女子100mH","ｼﾞｮｼ 100mH",30,9,2]
["女子400mH","ｼﾞｮｼ 400mH",31,11,2]
["女子5000mW","ｼﾞｮｼ 5000mW",32,14,2]
["女子走高跳","ｼﾞｮｼ ﾊｼﾘﾀｶﾄﾋﾞ",33,18,2]
["女子棒高跳","ｼﾞｮｼ ﾎﾞｳﾀｶﾄﾋﾞ",34,19,2]
["女子走幅跳","ｼﾞｮｼ ﾊｼﾘﾊﾊﾞﾄﾋﾞ",35,20,2]
["女子三段跳","ｼﾞｮｼ ｻﾝﾀﾞﾝﾄﾋﾞ",36,21,2]
["女子砲丸投","ｼﾞｮｼ ﾎｳｶﾞﾝﾅｹﾞ",37,22,2]
["女子円盤投","ｼﾞｮｼ ｴﾝﾊﾞﾝﾅｹﾞ",38,16,2]
["女子ハンマー投","ｼﾞｮｼ ﾊﾝﾏｰﾅｹﾞ",39,23,2]
["女子やり投","ｼﾞｮｼ ﾔﾘﾅｹﾞ",40,17,2]
["女子七種競技","ｼﾞｮｼ7ｼｭｷｮｳｷﾞ",41,31,2]
["女子4X100mR","ｼﾞｮｼ 4X100mR",42,24,2]
["女子4X400mR","ｼﾞｮｼ 4X400mR",43,26,2]

{"sheet":"所属一覧","index":11,"n_rows":38,"n_cols":5,"rows_kept":38,"cut":false,"hidden":true,"merged":[]}
["所属NO","所属名","所属名カナ","所属名略称","所属地NO"]
[1,"会津大学","ｱｲﾂﾞ","会津大",7]
[2,"青森県立保健大学","ｱｵﾓﾘｹﾝﾘﾂﾎｹﾝ","青森保大",2]
[3,"青森公立大学","ｱｵﾓﾘｺｳﾘﾂ","青森公大",2]
[4,"青森大学","ｱｵﾓﾘ","青森大",2]
[5,"秋田県立大学","ｱｷﾀｹﾝﾘﾂ","秋田県大",5]
[6,"秋田大学","ｱｷﾀ","秋田大",5]
[7,"石巻専修大学","ｲｼﾉﾏｷｾﾝｼｭｳ","石専大",4]
[8,"いわき明星大学","ｲﾜｷﾒｲｾｲ","いわき明大",4]
[9,"岩手県立大学","ｲﾜﾃｹﾝﾘﾂ","岩手県大",3]
[10,"岩手大学","ｲﾜﾃ","岩手大",3]
[11,"北里大学","ｷﾀｻﾄ","北里大",3]
[12,"尚絅学院大学","ｼｮｳｹｲｶﾞｸｲﾝ","尚絅学大",4]
[13,"仙台大学","ｾﾝﾀﾞｲ","仙台大",4]
[14,"東北学院大学","ﾄｳﾎｸｶﾞｸｲﾝ","東北学大",4]
[15,"東北公益文科大学","ﾄｳﾎｸｺｳｴｷﾌﾞﾝｶ","東北公大",4]
[16,"東北工業大学","ﾄｳﾎｸｺｳｷﾞｮｳ","東北工大",4]
[17,"東北女子大学","ﾄｳﾎｸｼﾞｮｼ","東北女子大",4]
[18,"東北大学","ﾄｳﾎｸ","東北大",4]
[19,"東北福祉大学","ﾄｳﾎｸﾌｸｼ","東北福大",4]
[20,"東北文化学園大学","ﾄｳﾎｸﾌﾞﾝｶｶﾞｸｴﾝ","東北文大",4]
[21,"日本大学工学部","ﾆﾁﾀﾞｲｺｳｶﾞｸﾌﾞ","日大工",7]
[22,"ノースアジア大学","ﾉｰｽｱｼﾞｱ","ノース大",5]
[23,"八戸工業大学","ﾊﾁﾉﾍｺｳｷﾞｮｳ","八戸工大",2]
[24,"八戸大学","ﾊﾁﾉﾍ","八戸大",2]
[25,"弘前大学","ﾋﾛｻｷ","弘前大",2]
[26,"福島県立医科大学","ﾌｸｼﾏｹﾝﾘﾂｲｶ","福島医大",7]
[27,"福島工業高等専門学校","ﾌｸｼﾏｺｳｾﾝ","福島高専",7]
[28,"福島大学","ﾌｸｼﾏ","福島大",7]
[29,"富士大学","ﾌｼﾞ","富士大",3]
[30,"宮城教育大学","ﾐﾔｷﾞｷｮｳｲｸ","宮教大",4]
[31,"宮城大学","ﾐﾔｷﾞﾀﾞｲｶﾞｸ","宮城大",4]
[32,"宮城工業高等専門学校","ﾐﾔｷﾞｺｳｾﾝ","宮城高専",4]
[33,"宮城大学","ﾐﾔｷﾞ","宮城大",4]
[34,"盛岡大学","ﾓﾘｵｶ","盛岡大",3]
[35,"米沢女子短期大学","ﾖﾈｻﾞﾜｼﾞｮｼﾀﾝｷ","米沢女短大",6]
[36,"山形大学","ﾔﾏｶﾞﾀ","山形大",6]
[37,"山形短期大学","ﾔﾏｶﾞﾀﾀﾝｷ","山形短大",6]

{"sheet":"リスト","index":12,"n_rows":7,"n_cols":2,"rows_kept":7,"cut":false,"hidden":true,"merged":[]}
[null," "]
[null,"予選"]
[null,"準決勝"]
[null,"決勝"]
[null,"1次予選"]
[null,"2次予選"]
[null,"競技会"]

{"sheet":"団体名","index":13,"n_rows":1,"n_cols":3,"rows_kept":1,"cut":false,"hidden":true,"merged":[]}
["団体名","申込責任者","電話番号"]

{"sheet":"登録名簿","index":14,"n_rows":1012,"n_cols":5,"rows_kept":1012,"cut":false,"hidden":true,"merged":[[1,11,2,11],[1,12,2,12]]}
["登録番号","氏名","ｶﾅ氏名","学年","登記陸協"]
[1,"小原　俊介","ｵﾊﾞﾗ ｼｭﾝｽｹ","M1","岩手"]
[2,"村上　貴史","ﾑﾗｶﾐ ﾀｶｼ","M1","岩手"]
[3,"一條　真広","ｲﾁｼﾞｮｳ ﾏｻﾋﾛ",4,"岩手"]
[4,"川又　滉平","ｶﾜﾏﾀ ｺｳﾍｲ",4,"秋田"]
[5,"熊谷　真倫","ｸﾏｶﾞｲ ﾏﾘﾝ",4,"岩手"]
[6,"澤口　祥太","ｻﾜｸﾞﾁ ｼｮｳﾀ",4,"岩手"]
[7,"柴崎　雅人","ｼﾊﾞｻｷ ﾏｻﾄ",4,"岩手"]
[8,"高橋　貴之","ﾀｶﾊｼ ﾀｶﾕｷ",4,"岩手"]
[9,"高橋　　巧","ﾀｶﾊｼ ﾀｸﾐ",4,"秋田"]
[10,"武田　啓太","ﾀｹﾀﾞ ｹｲﾀ",4,"岩手"]
[11,"竹中　陽平","ﾀｹﾅｶ ﾖｳﾍｲ",4,"岩手"]
[12,"田中　英和","ﾀﾅｶ ﾋﾃﾞｶｽﾞ",4,"岩手"]
[13,"谷口　大恭","ﾀﾆｸﾞﾁ ﾋﾛﾔｽ",4,"三重"]
[14,"兎澤　航平","ﾄｻﾞﾜ ｺｳﾍｲ",4,"岩手"]
[15,"林　　雅晶","ﾊﾔｼ ﾏｻｱｷ",4,"宮城"]
[16,"最上　　烈","ﾓｶﾞﾐ ﾚﾂ",4,"岩手"]
[17,"山信田有太","ﾔﾏｼﾀﾞ ﾕｳﾀ",4,"秋田"]
[18,"穴澤　　巧","ｱﾅｻﾞﾜ ﾀｸﾐ",3,"北海道"]
[19,"宇部　雄太","ｳﾍﾞ ﾕｳﾀ",3,"岩手"]
[20,"工藤　　洸","ｸﾄﾞｳ ｺｳ",3,"岩手"]
[21,"作田　雅之","ｻｳﾀ ﾏｻﾕｷ",3,"岩手"]
[22,"澤口　翔太","ｻﾜｸﾞﾁ ｼｮｳﾀ",3,"岩手"]
[23,"菅　　凌也","ｽｶﾞ ﾘｮｳﾔ",3,"岩手"]
[24,"菅原　直人","ｽｶﾞﾜﾗ ﾅｵﾄ",3,"岩手"]
[25,"田代　優仁","ﾀｼﾛ ﾏｻﾋﾄ",3,"岩手"]
[26,"谷口　　輪","ﾀﾆｸﾞﾁ ﾘﾝ",3,"山形"]
[27,"寺田　拓斗","ﾃﾗﾀﾞ ﾀｸﾄ",3,"青森"]
[28,"十日市元大","ﾄｳｶｲﾁ ﾄﾓﾋﾛ",3,"青森"]
[29,"青澤　昂暉","ｱｵｻﾜ ｺｳｷ",2,"岩手"]
[30,"大山　一樹","ｵｵﾔﾏ ｶｽﾞｷ",2,"岩手"]
[31,"髙橋　怜也","ﾀｶﾊｼ ﾚｲﾔ",2,"秋田"]
[32,"高森　健太","ﾀｶﾓﾘ ｹﾝﾀ",2,"岩手"]
[33,"照井　浩章","ﾃﾙｲ ﾋﾛｱｷ",2,"岩手"]
[34,"西村　昇悟","ﾆｼﾑﾗ ｼｮｳｺﾞ",2,"岩手"]
[35,"松木　飛龍","ﾏﾂｷ ﾋﾘｭｳ",2,"岩手"]
[36,"森岡　知哉","ﾓﾘｵｶ ﾄﾓﾔ",2,"岩手"]
[37,"梅木　直哉","ｳﾒｷﾅ ｵﾔ","D3","青森"]
[38,"勅使河原優","ﾃｼｶﾞﾊﾗ ﾕｳ","6","青森"]
[39,"川嶋　雄太","ｶﾜｼﾏ ﾕｳﾀ",4,"青森"]
[40,"川野　奨也","ｶﾜﾉ ｼｮｳﾔ","4","青森"]
[41,"関口　雄介","ｾｷｸﾞﾁ ﾕｳｽｹ",4,"青森"]
[42,"最乗　　英","ﾓﾉﾘ ﾀｹｼ",4,"青森"]
[43,"最乗　　裕","ﾓﾉﾘ ﾕﾀｶ",4,"青森"]
[44,"浅利　真人","ｱｻﾘ ﾏｺﾄ",3,"青森"]
[45,"坂本　和也","ｻｶﾓﾄ ｶｽﾞﾔ",3,"青森"]
[46,"柴田　大武","ｼﾊﾞﾀﾋ ﾛﾑ",3,"青森"]
[47,"千葉　凌平","ﾁﾊﾞ ﾘｮｳﾍｲ",3,"青森"]
[48,"橋本　英典","ﾊｼﾓﾄ ｴｲｽｹ",3,"青森"]
[49,"御厨　大介","ﾐｸﾘﾔ ﾀﾞｲｽｹ",3,"青森"]
[50,"大野　海都","ｵｵﾉ ｶｲﾄ",2,"青森"]
[51,"工藤　　洋","ｸﾄﾞｳ ｼｮｳ",2,"青森"]
[52,"白鳥　健太","ｼﾗﾄﾘ ｹﾝﾀ",2,"青森"]
[53,"中島　柊太","ﾅｶｼﾞﾏ ｼｭｳﾀ",2,"青森"]
[54,"畠山　憧吾","ﾊﾀｹﾔﾏ ｼｮｳｺﾞ",2,"青森"]
[55,"美濃匠太朗","ﾐﾉ ｼｮｳﾀﾛｳ",2,"青森"]
[56,"我妻　哲","ﾜｶﾞﾂﾏ ﾃﾂ","M1","宮城"]
[57,"佐藤　史弥","ｻﾄｳ ﾌﾐﾔ",4,"宮城"]
[58,"高橋　昂平","ﾀｶﾊｼ ｺｳﾍｲ","4","宮城"]
[59,"小山　陽大","ｵﾔﾏ ﾖｳﾀ",3,"宮城"]
[60,"折林　優太","ｵﾘﾊﾞﾔｼ ﾕｳﾀ",3,"愛知"]
[61,"佐々木達也","ｻｻｷ ﾀﾂﾔ",3,"宮城"]
[62,"澁谷　　将","ｼﾌﾞﾔ ﾀｽｸ",3,"宮城"]
[63,"髙橋　　涼","ﾀｶﾊｼ ﾘｮｳ",3,"宮城"]
[64,"寺下　　諒","ﾃﾗｼﾀ ﾘｮｳ",3,"青森"]
[65,"寺崎健志朗","ﾃﾗｻｷ ｹﾝｼﾛｳ",3,"宮城"]
[66,"山田　優希","ﾔﾏﾀﾞ ﾕｳｷ",3,"宮城"]
[67,"有馬　大樹","ｱﾘﾏ ﾀｲｷ",2,"秋田"]
[68,"一木　謙樹","ｲｯｷ ｱｷｼｹﾞ",2,"宮城"]
[69,"後藤　一彩","ｺﾞﾄｳ ｶｽﾞｻ",2,"秋田"]
[70,"齋藤　優太","ｻｲﾄｳ ﾕｳﾀ",2,"宮城"]
[71,"鶴見　　源","ﾂﾙﾐ ﾊｼﾞﾒ",2,"宮城"]
[72,"宮崎　陸也","ﾐﾔｻﾞｷ ﾘｸﾔ",2,"福島"]
[73,"吉田　匠見","ﾖｼﾀﾞ ﾀｸﾐ",2,"福島"]
[74,"草薙　拓巳","ｸｻﾅｷﾞ ﾀｸﾐ",2,"宮城"]
[75,"二瓶　寿也","ﾆﾍｲ ﾄｼﾔ",2,"宮城"]
[76,"宗安　　修","ﾑﾈﾔｽ ｼｭｳ",2,"山形"]
[77,"相原　隼耶","ｱｲﾊﾗ ｼｭﾝﾔ",4,"宮城"]
[78,"市川　広樹","ｲﾁｶﾜ ﾋﾛｷ",4,"山形"]
[79,"内海　実夢","ｳﾂﾐ ｼﾞﾑ",3,"山形"]
[80,"佐藤　大輝","ｻﾄｳ ﾀﾞｲｷ",3,"山形"]
[81,"柏倉　康平","ｶｼﾜｸﾞﾗ ｺｳﾍｲ",3,"山形"]
[82,"久保　匠平","ｸﾎﾞ ｼｮｳﾍｲ",2,"山形"]
[83,"湯本崇大朗","ﾕﾓﾄ ｿｳﾀﾛｳ",2,"秋田"]
[84,"村上　裕之","ﾑﾗｶﾐ ﾋﾛﾕｷ",2,"宮城"]
[85,"大房春太郞","ｵｵﾌｻ ｼｭﾝﾀﾛｳ",4,"山形"]
[86,"三上　諒樹","ﾐｶﾐ ﾏｻｷ",6,"山形"]
[87,"田中　将大","ﾀﾅｶ ﾏｻﾋﾛ",5,"山形"]
[88,"瀬田　博貴","ｾﾀ ﾋﾛｷ",4,"山形"]
[89,"加藤　大智","ｶﾄｳ ﾋﾛﾄﾓ",2,"山形"]
[90,"松原　慎也","ﾏﾂﾊﾞﾗ ｼﾝﾔ",2,"山形"]
[91,"横山　優作","ﾖｺﾔﾏ ﾕｳｻｸ",2,"山形"]
[92,"増田　喬暁","ﾏｽﾀﾞ ﾀｶｱｷ",3,"山形"]
[93,"川上　大地","ｶﾜｶﾐ ﾀﾞｲﾁ",3,"山形"]
[94,"星　　優介","ﾎｼ ﾕｳｽｹ",3,"山形"]
[95,"米田　一路","ﾖﾈﾀﾞ ｲﾁﾛ","M1","山形"]
[96,"渡會　宜大","ﾜﾀﾗｲ ﾀｶﾋﾛ",4,"山形"]
[97,"髙橋　興平","ﾀｶﾊｼ ｺｳﾍｲ",3,"山形"]
[98,"渡辺　誠也","ﾜﾀﾅﾍﾞ ｾｲﾔ",3,"山形"]
[99,"山中　佑太","ﾔﾏﾅｶ ﾕｳﾀ",3,"山形"]
[100,"鈴木　圭介","ｽｽﾞｷ ｹｲｽｹ",3,"福島"]
[101,"生井　佐助","ﾅﾏｲ ｻｽｹ",3,"山形"]
[102,"増川　明岐","ﾏｽｶﾜ ﾄｼｷ",2,"山形"]
[103,"石山　太一","ｲｼﾔﾏ ﾀｲﾁ",3,"山形"]
[104,"野々下　剛","ﾉﾉｼﾀ ｺﾞｳ","４","宮城"]
[105,"西條　晃平","ｻｲｼﾞｮｳ ｺｳﾍｲ",3,"宮城"]
[106,"大橋　星哉","ｵｵﾊｼ ｾｲﾔ",3,"宮城"]
[107,"村山　大生","ﾑﾗﾔﾏ ﾋﾛｷ",2,"宮城"]
[108,"高野　比呂","ﾀｶﾉ ﾋﾛ",2,"宮城"]
[109,"田部　大輝","ﾀﾅﾍﾞ ﾀﾞｲｷ",4,"福島"]
[110,"飛田　晴樹","ﾄﾋﾞﾀ ﾊﾙｷ",4,"福島"]
[111,"吉津　　凜","ﾖｼｽﾞ ﾘﾝ",4,"福島"]
[112,"中田　大貴","ﾅｶﾀ ﾋﾛﾀｶ",3,"福島"]
[113,"橋本　優貴","ﾊｼﾓﾄ ﾕｳｷ",3,"福島"]
[114,"原瀬　裕太","ﾊﾗｾ ﾕｳﾀ",3,"福島"]
[115,"沼田　　陸","ﾇﾏﾀ ﾘｸ",3,"福島"]
[116,"齋藤　有志","ｻｲﾄｳ ﾅｵﾕｷ",3,"福島"]
[117,"斑目　智也","ﾏﾀﾞﾗﾒ ﾄﾓﾔ",3,"福島"]
[118,"藤原　海希","ﾌｼﾞﾜﾗ ｶｲｷ",2,"秋田"]
[119,"加藤　　廉","ｶﾄｳ ﾚﾝ",2,"福島"]
[120,"石山　和希","ｲｼﾔﾏ ｶｽﾞｷ",2,"福島"]
[121,"齋藤　　孟","ｻｲﾄｳ ﾊｼﾞﾒ",2,"福島"]
[122,"影山　大晃","ｶｹﾞﾔﾏ ﾋﾛｱｷ",2,"福島"]
[123,"石井　丈人","ｲｼｲ ﾀｹﾄ",2,"福島"]
[124,"高見澤　潤","ﾀｶﾐｻﾞﾜ ｼﾞｭﾝ",2,"福島"]
[125,"舘　　慶輔","ﾀﾃ ｹｲｽｹ",2,"福島"]
[126,"塩濱　宏紀","ｼｵﾊﾏ ﾋﾛｷ",2,"福島"]
[127,"大矢　一輝","ｵｵﾔ ｶｽﾞｷ",2,"福島"]
[128,"佐藤　亮太","ｻﾄｳ ﾘｮｳﾀ",2,"福島"]
[129,"八木　丈太","ﾔｷﾞ ｼﾞｮｳﾀ",2,"福島"]
[130,"安藤　圭祐","ｱﾝﾄﾞｳ ｹｲｽｹ",4,"茨城"]
[131,"遠藤　風太","ｴﾝﾄﾞｳ ﾌｳﾀ",4,"宮城"]
[132,"岸元　拓郎","ｷｼﾓﾄ ﾀｸﾛｳ",4,"兵庫"]
[133,"坂本　　光","ｻｶﾓﾄ ﾋｶﾙ",4,"東京"]
[134,"中山　雄介","ﾅｶﾔﾏ ﾕｳｽｹ",4,"石川"]
[135,"夏井　大介","ﾅﾂｲ ﾀﾞｲｽｹ",4,"秋田"]
[136,"藤田　剛志","ﾌｼﾞﾀ ﾂﾖｼ",4,"福島"]
[137,"宮越　裕太","ﾐﾔｺｼ ﾕｳﾀ",4,"石川"]
[138,"安倍　　翔","ｱﾝﾊﾞｲ ｶｹﾙ",3,"秋田"]
[139,"五十嵐貴紀","ｲｶﾞﾗｼ ﾀｶﾉﾘ",3,"栃木"]
[140,"清水　航己","ｼﾐｽﾞ ｺｳｷ",3,"秋田"]
[141,"高橋　洋輝","ﾀｶﾊｼ ﾋﾛｷ",3,"静岡"]
[142,"樗澤　克海","ﾌﾞﾅｻﾞﾜ ｶﾂﾐ",3,"新潟"]
[143,"三上　陽輝","ﾐｶﾐ ﾊﾙｷ",3,"山形"]
[144,"盛田　大地","ﾓﾘﾀ ﾀﾞｲﾁ",3,"岩手"]
[145,"浅野　優雅","ｱｻﾉ ﾕｳｶﾞ",2,"新潟"]
[146,"梅津　裕義","ｳﾒﾂ ﾋﾛﾖｼ",2,"宮城"]
[147,"浦　　和也","ｳﾗ ｶｽﾞﾔ",2,"茨城"]
[148,"佐藤皇史郎","ｻﾄｳ ｺｳｼﾛｳ",2,"宮城"]
[149,"品田　大樹","ｼﾅﾀﾞ ﾋﾛｷ",2,"新潟"]
[150,"下山　翔大","ｼﾓﾔﾏ ｼｮｳﾀ",2,"青森"]
[151,"能戸　泰行","ﾉﾄ ﾔｽﾕｷ",2,"青森"]
[152,"佐藤　悠杜","ｻﾄｳ ﾕｳﾄ",2,"宮城"]
[153,"齊藤　寛峻","ｻｲﾄｳ ﾋﾛﾄｼ","D3","長野"]
[154,"宮﨑　幸辰","ﾐﾔｻｷ ﾕｷﾄｷ","M2","岩手"]
[155,"早坂　謙児","ﾊﾔｻｶ ｹﾝｼﾞ","M2","宮城"]
[156,"佐藤　文哉","ｻﾄｳ ﾌﾐﾔ","M2","宮城"]
[157,"本田　雄生","ﾎﾝﾀﾞ ﾕｳｷ","M2","愛知"]
[158,"熊谷　　駿","ｸﾏｶﾞｲ ｼｭﾝ","M2","秋田"]
[159,"渡邊裕一郎","ﾜﾀﾅﾍﾞ ﾕｳｲﾁﾛｳ","M1","宮城"]
[160,"楠木　啓介","ｸｽﾉｷ ｹｲｽｹ","M1","宮城"]
[161,"藤原　　啓","ﾌｼﾞﾜﾗ ｹｲ",5,"岩手"]
[162,"大衡　竜太","ｵｵﾋﾗ ﾘｭｳﾀ",5,"宮城"]
[163,"藤井　佳祐","ﾌｼﾞｲ ｹｲｽｹ","M1","宮城"]
[164,"大塚　祐貴","ｵｵﾂｶ ﾕｳｷ","M1","富山"]
[165,"佐藤　勝成","ｻﾄｳ ｶﾂﾅﾘ","M1","茨城"]
[166,"森野　太介","ﾓﾘﾉ ﾀｲｽｹ","M1","山形"]
[167,"千葉　智史","ﾁﾊﾞ ｻﾄｼ","M1","秋田"]
[168,"矢川　省吾","ﾔｶﾞﾜ ｼｮｳｺﾞ","M1","青森"]
[169,"森　　　渉","ﾓﾘ ﾜﾀﾙ","M1","宮城"]
[170,"関　　俊樹","ｾｷ ﾄｼｷ",5,"愛知"]
[171,"吾妻　祐介","ｱｶﾞﾂﾏ ﾕｳｽｹ",5,"宮城"]
[172,"中川　岳士","ﾅｶｶﾞﾜ ﾀｹｼ","M1","宮城"]
[173,"水戸部慶彦","ﾐﾄﾍﾞ ﾖｼﾋｺ",4,"新潟"]
[174,"松田　将大","ﾏﾂﾀﾞ ﾏｻﾋﾛ",4,"宮城"]
[175,"佐藤　宏夢","ｻﾄｳ ﾋﾛﾑ",4,"宮城"]
[176,"及川　一真","ｵｲｶﾜ ｶｽﾞﾏ",4,"岩手"]
[177,"酒井　洋輔","ｻｶｲ ﾖｳｽｹ",4,"福島"]
[178,"楠　　哲也","ｸｽﾉｷ ﾃﾂﾔ",4,"宮城"]
[179,"岡田　圭太","ｵｶﾀﾞ ｹｲﾀ",4,"京"]
[180,"上條広裕希","ｶﾐｼﾞｮｳ ﾋﾛﾕｷ",4,"長野"]
[181,"川口　航汰","ｶﾜｸﾞﾁ ｺｳﾀ",4,"千葉"]
[182,"荒田　啓輔","ｱﾗﾀ ｹｲｽｹ",4,"青森"]
[183,"野尻　英史","ﾉｼﾞﾘ ｴｲｼ",4,"長野"]
[184,"今泉　裕真","ｲﾏｲｽﾞﾐ ﾕｳﾏ",4,"秋田"]
[185,"瀬良　将太","ｾﾗ ｼｮｳﾀ",4,"広島"]
[186,"古川　　楓","ﾌﾙｶﾜ ｶｴﾃﾞ",4,"新潟"]
[187,"笠間　淳平","ｶｻﾏ ｼﾞｭﾝﾍﾟｲ",4,"福島"]
[188,"堀越　　涼","ﾎﾘｺｼ ﾘｮｳ",4,"群馬"]
[189,"岩波　発彦","ｲﾜﾅﾐ ﾀﾂﾋｺ",4,"茨城"]
[190,"須永　　亘","ｽﾅｶﾞ ﾜﾀﾙ",4,"群馬"]
[191,"萩原　文博","ﾊｷﾞﾜﾗ ﾌﾐﾋﾛ",4,"北海道"]
[192,"根谷　　温","ﾈﾔ ｱﾂｼ",4,"福井"]
[193,"勝井　友樹","ｶﾂｲ ﾄﾓｷ",4,"埼玉"]
[194,"嶺岸　雄太","ﾐﾈｷﾞｼ ﾕｳﾀ",4,"宮城"]
[195,"高橋　昇之","ﾀｶﾊｼ ﾉﾘﾕｷ",4,"宮城"]
[196,"白鳥　海知","ｼﾗﾄﾘ ｶｲﾁ",4,"宮城"]
[197,"山下　一也","ﾔﾏｼﾀ ｶｽﾞﾔ",4,"栃木"]
[198,"沼田　亮介","ﾇﾏﾀ ﾘｮｳｽｹ",4,"宮城"]
[199,"藤井　大輝","ﾌｼﾞｲ ﾀﾞｲｷ",4,"宮城"]
[200,"清野　雄太","ｾｲﾉ ﾕｳﾀ",4,"宮城"]
[201,"望月　文太","ﾓﾁﾂﾞｷ ﾌﾞﾝﾀ",4,"神奈川"]
[202,"鈴木　　景","ｽｽﾞｷ ｹｲ",3,"秋田"]
[203,"羽根田佑真","ﾊﾈﾀﾞ ﾕｳﾏ",3,"宮城"]
[204,"角田　　陽","ﾂﾉﾀﾞ ｱｷﾗ",3,"北海道"]
[205,"立野　佑太","ﾀﾃﾉ ﾕｳﾀ",3,"静岡"]
[206,"松岡　恭平","ﾏﾂｵｶ ｷｮｳﾍｲ",3,"埼玉"]
[207,"長田　公喜","ｵｻﾀﾞ ｺｳｷ",3,"新潟"]
[208,"細田　健斗","ﾎｿﾀﾞ ｹﾝﾄ",3,"福島"]
[209,"鈴木　輝彦","ｽｽﾞｷ ﾃﾙﾋｺ",3,"群馬"]
[210,"宇梶　和希","ｳｶｼﾞ ｶｽﾞｷ",3,"栃木"]
[211,"渡辺　智輝","ﾜﾀﾅﾍﾞ ﾄﾓｷ",3,"埼玉"]
[212,"堀　　拓磨","ﾎﾘ ﾀｸﾏ",3,"群馬"]
[213,"倉田　真樹","ｸﾗﾀ ﾏｻｷ",3,"宮城"]
[214,"三浦　大樹","ﾐｳﾗ ﾀﾞｲｷ",3,"宮城"]
[215,"嶋田　拓郎","ｼﾏﾀﾞ ﾀｸﾛｳ",3,"宮城"]
[216,"新出　悠介","ｼﾝﾃﾞ ﾕｳｽｹ",3,"宮城"]
[217,"山田　球児","ﾔﾏﾀﾞ ｷｭｳｼﾞ",3,"青森"]
[218,"山田　将斗","ﾔﾏﾀﾞ ｼｮｳﾄ",3,"青森"]
[219,"松浦　崇之","ﾏﾂｳﾗ ﾀｶﾕｷ",3,"宮城"]
[220,"平井　景梧","ﾋﾗｲ ｹｲｺﾞ",3,"東京"]
[221,"佐藤　汰亮","ｻﾄｳ ﾀｽｸ",3,"宮城"]
[222,"脇田　陽平","ﾜｷﾀ ﾖｳﾍｲ",3,"宮城"]
[223,"若林　郁生","ﾜｶﾊﾞﾔｼ ｲｸｵ",3,"栃木"]
[224,"相澤　一樹","ｱｲｻﾞﾜ ｲﾂｷ",2,"新潟"]
[225,"赤星　栄治","ｱｶﾎｼ ｴｲｼﾞ",2,"宮城"]
[226,"芦田　周平","ｱｼﾀﾞ ｼｭｳﾍｲ",2,"宮城"]
[227,"井戸端佑樹","ｲﾄﾞﾊﾞﾀ ﾕｳｷ",2,"宮城"]
[228,"臼井　駿斗","ｳｽｲ ﾊﾔﾄ",2,"宮城"]
[229,"加地　拓弥","ｶｼﾞ ﾀｸﾔ",2,"栃木"]
[230,"川島　　啓","ｶﾜｼﾏ ｹｲ",2,"茨城"]
[231,"木村　　秀","ｷﾑﾗ ｼｭｳ",2,"秋田"]
[232,"黒須　大地","ｸﾛｽ ﾀﾞｲﾁ",2,"栃木"]
[233,"小林　丈士","ｺﾊﾞﾔｼ ﾀｹｼ",2,"東京"]
[234,"近藤　　真","ｺﾝﾄﾞｳ ﾏｺﾄ",2,"新潟"]
[235,"佐藤　泰河","ｻﾄｳ ﾀｲｶﾞ",2,"北海道"]
[236,"清水　大地","ｼﾐｽﾞ ﾀﾞｲﾁ",2,"神奈川"]
[237,"須郷　大地","ｽｺﾞｳ ﾀﾞｲﾁ",2,"青森"]
[238,"鈴木　健大","ｽｽﾞｷ ｹﾝﾀ",2,"栃木"]
[239,"高倉　直幸","ﾀｶｸﾗ ﾁｻｷ",2,"茨城"]
[240,"高須　　秋","ﾀｶｽ ｼｭｳ",2,"東京"]
[241,"髙橋　　潤","ﾀｶﾊｼ ｼﾞｭﾝ",2,"岩手"]
[242,"田口　開斗","ﾀｸﾞﾁ ｶｲﾄ",2,"茨城"]
[243,"竹内　喬亮","ﾀｹｳﾁ ﾉﾌﾞｱｷ",2,"愛知"]
[244,"谷口　尚大","ﾀﾆｸﾞﾁ ﾅｵﾋﾛ",2,"宮城"]
[245,"田沼　　怜","ﾀﾇﾏ ﾘｮｳ",2,"秋田"]
[246,"津田　恵吾","ﾂﾀﾞ ｹｲｺﾞ",2,"大阪"]
[247,"寺島　智春","ﾃﾗｼﾏ ﾄﾓﾊﾙ",2,"長野"]
[248,"増野　巽哉","ﾏｽﾉ ﾀﾂﾔ",2,"宮城"]
[249,"三浦　慧士","ﾐｳﾗ ｻﾄｼ",2,"宮城"]
[250,"宮本　貴広","ﾐﾔﾓﾄ ﾀｶﾋﾛ",2,"茨城"]
[251,"村松　兼志","ﾑﾗﾏﾂ ｹﾝｼ",2,"静岡"]
[252,"嘉津山拓登","ｶﾂﾔﾏ ﾀｸﾄ",2,"北海道"]
[253,"古俣　諒大","ｺﾏﾀ ﾘｮｳﾀﾞｲ",2,"新潟"]
[254,"照井　　匡","ﾃﾙｲ ﾏｻｼ",2,"岩手"]
[255,"粕谷　貴裕","ｶｽﾔﾀ ｶﾋﾛ","4","青森"]
[256,"池田　智也","ｲｹﾀﾞ ﾄﾓﾔ",3,"青森"]
[257,"磯邊　雄也","ｲｿﾍﾞ ﾕｳﾔ","3","青森"]
[258,"白井　大介","ｼﾗｲ ﾀﾞｲｽｹ",3,"青森"]
[259,"古川　真人","ｺｶﾞﾜ ﾏｻﾄ",3,"青森"]
[260,"掛端勇次郎","ｶｹﾊﾀ ﾕｳｼﾞﾛｳ",2,"青森"]
[261,"菊地　雄大","ｷｸﾁ ﾕｳﾀﾞｲ",2,"青森"]
[262,"成田　聖也","ﾅﾘﾀ ｾｲﾔ",2,"青森"]
[263,"三上　拓真","ﾐｶﾐ ﾀｸﾏ",2,"青森"]
[264,"吉本　雄登","ﾖｼﾓﾄ ﾕｳﾄ",2,"青森"]
[265,"八本　直季","ﾔﾓﾄ ﾅｵｷ",6,"秋田"]
[266,"鵜飼　雄哉","ｳｶｲ ﾕｳﾔ",5,"秋田"]
[267,"柳　　晋登","ﾔﾅｷﾞ ｼﾝﾄ","M1","秋田"]
[268,"渡辺　雄介","ﾜﾀﾅﾍﾞ ﾕｳｽｹ","M1","秋田"]
[269,"佐々木克尚","ｻｻｷ ｶﾂﾀｶ",4,"秋田"]
[270,"須貝俊太郎","ｽｶﾞｲ ｼｭﾝﾀﾛｳ",4,"山形"]
[271,"鈴木　和貴","ｽｽﾞｷ ｶｽﾞｷ",4,"秋田"]
[272,"新山　　博","ﾆｲﾔﾏ ﾋﾛ",4,"秋田"]
[273,"信田　祐輔","ｼﾉﾀﾞ ﾕｳｽｹ",3,"秋田"]
[274,"清水川　竣","ｼﾐｽﾞｶﾜ ｼｭﾝ",3,"秋田"]
[275,"高林　圭佑","ﾀｶﾊﾞﾔｼ ｹｲｽｹ",3,"秋田"]
[276,"時田　爽志","ﾄｷﾀ ｿｳｼ",3,"秋田"]
[277,"堀塲　崇徳","ﾎﾘﾊﾞ ﾀｶﾉﾘ",3,"秋田"]
[278,"市川　陽大","ｲﾁｶﾜ ｱｷﾋﾛ",2,"秋田"]
[279,"菊池　文太","ｷｸﾁ ﾌﾞﾝﾀ",2,"岩手"]
[280,"小松　航泰","ｺﾏﾂ ｺｳﾀﾞｲ",2,"秋田"]
[281,"長野　志伸","ﾅｶﾞﾉ ｼﾉﾌﾞ",2,"岩手"]
[282,"我妻　拓哉","ﾜｶﾞﾂﾏ ﾀｸﾔ",2,"秋田"]
[283,"渡邉　優樹","ﾜﾀﾅﾍﾞ ﾕｳｷ",2,"秋田"]
[284,"横山　南生","ﾖｺﾔﾏ ﾅｵ",4,"宮城"]
[285,"渡邉　垂水","ﾜﾀﾅﾍﾞ ﾀﾙﾐ",4,"福島"]
[286,"松岡　豪志","ﾏﾂｵｶ ﾂﾖｼ",4,"宮城"]
[287,"小口　健一","ｺｸﾞﾁ ｹﾝｲﾁ",4,"山形"]
[288,"加藤周一朗","ｶﾄｳ ｼｭｳｲﾁﾛｳ",4,"宮城"]
[289,"山本　航也","ﾔﾏﾓﾄ ｺｳﾔ",4,"青森"]
[290,"高橋　昂成","ﾀｶﾊｼ ｺｳｾｲ",4,"岩手"]
[291,"熊谷　公冶","ｸﾏｶﾞｲ ｺｳﾔ",4,"岩手"]
[292,"茂木　大地","ﾓｷﾞ ﾀﾞｲﾁ",4,"山形"]
[293,"今野　　陸","ｺﾝﾉ ﾘｸ",4,"山形"]
[294,"佐藤　達也","ｻﾄｳ ﾀﾂﾔ",4,"山形"]
[295,"山尾　優真","ﾔﾏｵ ﾕｳﾏ",4,"宮城"]
[296,"成田　泰山","ﾅﾘﾀ ﾀｲｻﾞﾝ",4,"宮城"]
[297,"渡辺　拓夢","ﾜﾀﾅﾍﾞ ﾀｸﾑ",4,"福島"]
[298,"冨岡　　翔","ﾄﾐｵｶ ｼｮｳ",4,"秋田"]
[299,"武田　瑞樹","ﾀｹﾀﾞ ﾐｽﾞｷ",4,"宮城"]
[300,"紺野　爽太","ｺﾝﾉ ｿｳﾀ",4,"福島"]
[301,"林下　晃城","ﾊﾔｼﾀ ｺｳｷ",4,"青森"]
[302,"遠藤　恵大","ｴﾝﾄﾞｳ ｹｲﾀ",4,"宮城"]
[303,"芳賀　　実","ﾊｶﾞ ﾐﾉﾙ",4,"宮城"]
[304,"洞　　祐介","ﾎﾗ ﾕｳｽｹ",4,"岩手"]
[305,"遠藤　幸成","ｴﾝﾄﾞｳ ｺｳｾｲ",4,"福島"]
[306,"増井　大悟","ﾏｽｲ ﾀﾞｲｺﾞ",4,"宮城"]
[307,"藤沼　遥来","ﾌｼﾞﾇﾏ ﾊﾙｷ",4,"岩手"]
[308,"我妻　一真","ｱｶﾞﾂﾏ ｶｽﾞﾏ","M2","宮城"]
[309,"小関　　隼","ｺｾｷ ｼｭﾝ","M2","宮城"]
[310,"伊東慶一郎","ｲﾄｳ ｹｲｲﾁﾛｳ","M1","岩手"]
[311,"松本宏二郎","ﾏﾂﾓﾄ ｺｳｼﾞﾛｳ","M1","宮城"]
[312,"鹿野剣之介","ｶﾉ ｹﾝﾉｽｹ","M1","宮城"]
[313,"高橋　賢人","ﾀｶﾊｼ ﾖｼﾄ","M1","宮城"]
[314,"井関　生基","ｲｾｷ ｲﾌﾞｷ",3,"新潟"]
[315,"板垣　哉太","ｲﾀｶﾞｷ ｶﾅﾀ",3,"宮城"]
[316,"佐藤　敏己","ｻﾄｳ ﾄｼｷ",3,"福島"]
[317,"伊藤　勇人","ｲﾄｳ ﾊﾔﾄ",3,"山形"]
[318,"葉木沢武蔵","ﾊｷﾞｻﾞﾜ ﾑｻｼ",3,"宮城"]
[319,"高木　凱亜","ﾀｶｷﾞ ｶﾞｲｱ",3,"福島"]
[320,"黒渕　晃大","ｸﾛﾌﾞﾁ ｺｳﾀ",3,"岩手"]
[321,"佐藤佑志郎","ｻﾄｳ ﾕｳｼﾛｳ",3,"宮城"]
[322,"山口　大瑚","ﾔﾏｸﾞﾁ ﾀﾞｲｺﾞ",3,"宮城"]
[323,"米谷　　輝","ｺﾒﾀﾆ ﾋｶﾙ",3,"北海道"]
[324,"庄司　　強","ｼｮｳｼﾞ ﾂﾖｼ",3,"宮城"]
[325,"柳沼　　輝","ﾔｷﾞﾇﾏ ﾋｶﾙ",3,"福島"]
[326,"佐藤　開陸","ｻﾄｳ ｶｲﾘ",3,"山形"]
[327,"佐藤　優斗","ｻﾄｳ ﾕｳﾄ",3,"秋田"]
[328,"宍戸　大夢","ｼｼﾄﾞ ﾋﾛﾑ",3,"福島"]
[329,"藤原　　響","ﾌｼﾞﾜﾗ ｷｮｳ",3,"宮城"]
[330,"浜村　嵩翔","ﾊﾏﾑﾗ ﾀｶﾄ",3,"青森"]
[331,"高橋　佑貴","ﾀｶﾊｼ ﾕｳｷ",3,"茨城"]
[332,"内田　裕崇","ｳﾁﾀﾞ ﾋﾛﾀｶ",3,"青森"]
[333,"松下　　翔","ﾏﾂｼﾀ ｼｮｳ",3,"宮城"]
[334,"深堀　凌太","ﾌｶﾎﾘ ﾘｮｳﾀ",3,"福島"]
[335,"工藤　大成","ｸﾄﾞｳ ﾀｲｾｲ",3,"青森"]
[336,"太田　拓未","ｵｵﾀ ﾀｸﾐ",3,"宮城"]
[337,"佐藤慎太郎","ｻﾄｳ ｼﾝﾀﾛｳ",3,"福島"]
[338,"田屋　　明","ﾀﾔ ｱｷﾗ",3,"北海道"]
[339,"濱田　凌平","ﾊﾏﾀﾞ ﾘｮｳﾍｲ",3,"青森"]
[340,"斉藤　陽向","ｻｲﾄｳ ﾋﾅﾀ",3,"秋田"]
[341,"新妻　拓巳","ﾆｲﾂﾏ ﾀｸﾐ",3,"福島"]
[342,"廣谷　淑輝","ﾋﾛﾀﾆ ﾄｼｷ",3,"宮城"]
[343,"菅原　　遥","ｽｶﾞﾜﾗ ﾊﾙｶ",3,"宮城"]
[344,"金子　慶輝","ｶﾈｺ ﾖｼｷ",3,"新潟"]
[345,"高井　大和","ﾀｶｲ ﾔﾏﾄ",3,"秋田"]
[346,"鈴木　　諒","ｽｽﾞｷ ﾘｮｳ",3,"宮城"]
[347,"佐藤　　達","ｻﾄｳ ﾄｵﾙ",2,"宮城"]
[348,"相澤　諭希","ｱｲｻﾞﾜ ﾕｳｷ",2,"宮城"]
[349,"池田　生成","ｲｹﾀﾞ ｷﾅﾘ",2,"宮城"]
[350,"叶内　　大","ｶﾅｳﾁ ﾀﾞｲ",2,"山形"]
[351,"増子　友樹","ﾏｽｺ ﾄﾓｷ",2,"山形"]
[352,"渡邊凜太郎","ﾜﾀﾅﾍﾞ ﾘﾝﾀﾛｳ",2,"宮城"]
[353,"宮林　拓也","ﾐﾔﾊﾞﾔｼ ﾀｸﾔ",2,"宮城"]
[354,"布川　　輝","ﾇﾉｶﾜ ｱｷﾗ",2,"福島"]
[355,"遠藤　　航","ｴﾝﾄﾞｳ ﾜﾀﾙ",2,"宮城"]
[356,"桒原　泰雅","ｸﾜﾊﾗ ﾀｲｶﾞ",2,"福島"]
[357,"大西　悠太","ｵｵﾆｼ ﾕｳﾀ",2,"宮城"]
[358,"小原　　悠","ｵﾊﾞﾗ ﾕｳ",2,"宮城"]
[359,"中島　大地","ﾅｶｼﾞﾏ ﾀﾞｲﾁ",2,"宮城"]
[360,"高橋　将史","ﾀｶﾊｼ ﾏｻﾌﾐ",2,"秋田"]
[361,"工藤　悠雅","ｸﾄﾞｳ ﾕｳｶﾞ",2,"岩手"]
[362,"増子　竣斗","ﾏｽｺ ｼｭﾝﾄ",2,"山形"]
[363,"相良　龍慈","ｻｶﾞﾗ ﾘｭｳｼﾞ",2,"福島"]
[364,"菊池　　佑","ｷｸﾁ ﾕｳ",2,"岩手"]
[365,"菅野　翔吾","ｶﾝﾉ ｼｮｳｺﾞ",2,"福島"]
[366,"大石田航希","ｵｵｲｼﾀﾞ ｺｳｷ",2,"福島"]
[367,"傳法　卓巳","ﾃﾞﾝﾎﾟｳ ﾀｸﾐ",2,"青森"]
[368,"柴崎　　翔","ｼﾊﾞｻｷ ｶｹﾙ",2,"山形"]
[369,"太田　俊希","ｵｵﾀ ﾄｼｷ",2,"宮城"]
[370,"水戸　大了","ﾐﾄ ﾋﾛｱｷ",2,"宮城"]
[371,"遠藤　大河","ｴﾝﾄﾞｳ ﾀｲｶﾞ",2,"山形"]
[372,"簗場　　丈","ﾔﾅﾊﾞ ｼﾞｮｳ",2,"岩手"]
[373,"熊谷　真吾","ｸﾏｶﾞｲ ｼﾝｺﾞ",2,"宮城"]
[374,"渡辺　晟名","ﾜﾀﾅﾍﾞ ｾｲﾅ",2,"宮城"]
[375,"中嶋　公貴","ﾅｶｼﾞﾏ ｺｳｷ",2,"宮城"]
[376,"三條目泰樹","ｻﾝｼﾞｮｳﾒ ﾀｲｷ",2,"青森"]
[377,"髙橋　郁人","ﾀｶﾊｼ ｲｸﾄ",2,"福島"]
[378,"小野　梓吹","ｵﾉ ｼﾌﾞｷ",2,"宮城"]
[379,"高橋　和志","ﾀｶﾊｼ ｶｽﾞｼ",2,"秋田"]
[380,"赤坂　悠希","ｱｶｻｶ ﾕｳｷ",2,"青森"]
[381,"塩谷　晃仁","ｼｵﾔ ｱｷﾋﾄ",2,"福島"]
[382,"草野　智哉","ｸｻﾉ ﾄﾓﾔ",2,"宮城"]
[383,"岡崎　圭太","ｵｶｻﾞｷ ｹｲﾀ",2,"岩手"]
[384,"大湊　晃介","ｵｵﾐﾅﾄ ｺｳｽｹ",2,"新潟"]
[385,"高橋　知也","ﾀｶﾊｼ ﾄﾓﾔ",2,"秋田"]
[386,"刈谷　拓弥","ｶﾘﾔ ﾀｸﾐ",2,"岩手"]
[387,"阿蘇　秀朗","ｱｿ ﾋｲﾛ",2,"宮城"]
[388,"渡邉　　大","ﾜﾀﾅﾍﾞ ﾀﾞｲ",2,"宮城"]
[389,"萬　　昂大","ﾖﾛｽﾞ ﾀｶﾋﾛ",2,"宮城"]
[390,"金澤　有磨","ｶﾅｻﾞﾜ ﾕｳﾏ",2,"福島"]
[391,"矢田　拓誠","ﾔﾀﾞ ﾀｸﾐ",2,"青森"]
[392,"木村　汰貴","ｷﾑﾗ ﾀｲｷ",2,"福島"]
[393,"小林　　匡","ｺﾊﾞﾔｼ ﾀｽｸ",2,"秋田"]
[394,"大向　　到","ｵｵﾑｶｲ ｲﾀﾙ",2,"岩手"]
[395,"鈴木　佑弥","ｽｽﾞｷ ﾕｳﾔ","M1","宮城"]
[396,"天野　誓樹","ｱﾏﾉ ｾｲｼﾞｭ",1,"福島"]
[397,"遠藤　　翼","ｴﾝﾄﾞｳ ﾂﾊﾞｻ",1,"宮城"]
[398,"遠藤　龍希","ｴﾝﾄﾞｳ ﾘｭｳｷ",1,"宮城"]
[399,"加藤　　輝","ｶﾄｳ ｱｷﾗ",1,"山形"]
[400,"加藤　大地","ｶﾄｳ ﾀﾞｲﾁ",1,"福島"]
[401,"久慈　悠太","ｸｼﾞ ﾕｳﾀ",1,"岩手"]
[402,"郡司　敦生","ｸﾞﾝｼﾞ ｱﾂｷ",1,"岩手"]
[403,"小林　尚弘","ｺﾊﾞﾔｼ ﾅｵﾋﾛ",1,"宮城"]
[404,"佐伯　健太","ｻｴｷ ｹﾝﾀ",1,"宮城"]
[405,"佐々木空良","ｻｻｷ ｿﾗ",1,"福島"]
[406,"高木　大輔","ﾀｶｷﾞ ﾀﾞｲｽｹ",1,"宮城"]
[407,"高沢　一希","ﾀｶｻﾜ ｶｽﾞｷ",1,"福島"]
[408,"髙橋　　諒","ﾀｶﾊｼ ﾘｮｳ",1,"宮城"]
[409,"對馬　勇斗","ﾂｼﾏ ﾊﾔﾄ",1,"青森"]
[410,"永浦　晴輝","ﾅｶﾞｳﾗ ﾊﾙｷ",1,"宮城"]
[411,"藤田　優斗","ﾌｼﾞﾀ ﾕｳﾄ",1,"福島"]
[412,"眞野　竜伍","ﾏﾉ ﾘｮｳｺﾞ",1,"宮城"]
[413,"丸山　圭司","ﾏﾙﾔﾏ ｹｲｼﾞ",1,"福島"]
[414,"吉田　　翔","ﾖｼﾀﾞ ｼｮｳ",1,"山形"]
[415,"米沢　颯也","ﾖﾈｻﾞﾜ ｿｳﾔ",1,"宮城"]
[416,"渡部　世瑛","ﾜﾀﾅﾍﾞ ｾｴｲ",1,"山形"]
[417,"齊藤　　蓮","ｻｲﾄｳ ﾚﾝ","3","青森"]
[418,"須々田祥拓","ｽｽﾀ ﾖｼﾋﾛ","3","青森"]
[419,"小倉　佑介","ｵｸﾞﾗ ﾕｳｽｹ","3","青森"]
[420,"大澤　滉平","ｵｵｻﾜ ｺｳﾍｲ",2,"青森"]
[421,"長内　知大","ｵｻﾅｲ ﾁﾋﾛ",2,"青森"]
[422,"三浦　広誉","ﾐｳﾗ ﾋﾛﾀｶ",2,"青森"]
[423,"安田　暢弥","ﾔｽﾀﾞ ｱｷﾔ",2,"青森"]
[424,"大場　知春","ｵｵﾊﾞ ﾄﾓﾊﾙ","2","山形"]
[425,"鈴木　幸太","ｽｽﾞｷ ｺｳﾀ","M2","山形"]
[426,"中津川遥也","ﾅｶﾂｶﾞﾜ ﾊﾙﾔ","M2","山形"]
[427,"小野　和哉","ｵﾉ ｶｽﾞﾔ",4,"宮城"]
[428,"小野寺昭太","ｵﾉﾃﾞﾗ ｼｮｳﾀ",4,"宮城"]
[429,"菊池　　樹","ｷｸﾁ ｲﾂｷ",4,"岩手"]
[430,"橋本　稜平","ﾊｼﾓﾄ ﾘｮｳﾍｲ",4,"宮城"]
[431,"宮村　航平","ﾐﾔﾑﾗ ｺｳﾍｲ",4,"宮城"]
[432,"尾形　昇平","ｵｶﾞﾀ ｼｮｳﾍｲ",3,"宮城"]
[433,"葛西　翔大","ｶｻｲ ｼｮｳﾀ",3,"宮城"]
[434,"川上　雄人","ｶﾜｶﾐ ﾕｳﾄ",3,"宮城"]
[435,"佐藤　嘉展","ｻﾄｳ ﾖｼﾉﾌﾞ",3,"宮城"]
[436,"畠山　侑生","ﾊﾀｹﾔﾏ ﾕｳｷ",3,"宮城"]
[437,"松田　健汰","ﾏﾂﾀﾞ ｹﾝﾀ",3,"山形"]
[438,"天摩　隼太","ﾃﾝﾏ ｼﾞｭﾝﾀ",3,"青森"]
[439,"小野寺大和","ｵﾉﾃﾞﾗ ﾔﾏﾄ",2,"宮城"]
[440,"遠藤　佑弥","ｴﾝﾄﾞｳ ﾕｳﾔ",2,"宮城"]
[441,"亀谷　怜央","ｶﾒﾔ ﾚｵ",2,"宮城"]
[442,"熊谷　暦太","ｸﾏｶﾞｲ ｺﾖﾀ",2,"宮城"]
[443,"小林　洋太","ｺﾊﾞﾔｼ ﾖｳﾀ",2,"宮城"]
[444,"鈴木　　海","ｽｽﾞｷ ｶｲ",2,"宮城"]
[445,"高橋　陽向","ﾀｶﾊｼ ﾋﾅﾀ",2,"宮城"]
[446,"佐藤耕太朗","ｻﾄｳ ｺｳﾀﾛｳ",2,"岩手"]
[447,"佐藤　翔太","ｻﾄｳ ｼｮｳﾀ",2,"宮城"]
[448,"三條　拓士","ｻﾝｼﾞｮｳ ﾀｸﾄ",2,"宮城"]
[449,"原田　悠平","ﾊﾗﾀﾞ ﾕｳﾍｲ",2,"宮城"]
[450,"村上　　慧","ﾑﾗｶﾐ ｹｲ",2,"宮城"]
[451,"石田　　響","ｲｼﾀﾞ ﾋﾋﾞｷ",2,"宮城"]
[452,"溝口　育海","ﾐｿﾞｸﾞﾁ ｲｸﾐ",2,"宮城"]
[453,"阿部　凌大","ｱﾍﾞ ﾋﾑﾛ",1,"宮城"]
[454,"小野寺祐哉","ｵﾉﾃﾞﾗ ﾋﾛﾔ",1,"岩手"]
[455,"舘　　省吾","ﾀﾃ ｼｮｳｺﾞ",1,"福島"]
[456,"野田　大聖","ﾉﾀﾞ ﾀｲｾｲ",1,"岩手"]
[457,"池田　丈礼","ｲｹﾀﾞ ﾀｹｱｷ",1,"岩手"]
[458,"関根　英寿","ｾｷﾈ ﾋﾃﾞﾄｼ",1,"宮城"]
[459,"畠山　駿斗","ﾊﾀｹﾔﾏ ﾊﾔﾄ",1,"秋田"]
[460,"古山　慧斗","ﾌﾙﾔﾏ ｹｲﾄ",1,"宮城"]
[461,"武者　慶士","ﾑｼｬ ｹｲｼ",4,"宮城"]
[462,"米谷連太郎","ﾖﾈﾔ ﾚﾝﾀﾛｳ",4,"青森"]
[463,"玉熊　紘昴","ﾀﾏｸﾏ ﾋﾛﾀｶ",4,"青森"]
[464,"木村　朋也","ｷﾑﾗ ﾄﾓﾔ",4,"福島"]
[465,"佐藤　　稜","ｻﾄｳ ﾘｮｳ",4,"福島"]
[466,"大山　雄大","ｵｵﾔﾏ ﾀｹﾋﾛ",4,"宮城"]
[467,"庄子　　涼","ｼｮｳｼﾞ ﾘｮｳ",4,"宮城"]
[468,"大橋　淳貴","ｵｵﾊｼ ｼﾞｭﾝｷ",4,"宮城"]
[469,"角田　裕太","ﾂﾉﾀﾞ ﾕｳﾀ",4,"宮城"]
[470,"千葉　雅也","ﾁﾊﾞ ﾏｻﾔ",4,"宮城"]
[471,"奥山　和樹","ｵｸﾔﾏ ｶｽﾞｷ",4,"山形"]
[472,"新舘　裕司","ﾆｲﾀﾞﾃ ﾕｳｼﾞ",4,"宮城"]
[473,"鎌田　　希","ｶﾏﾀ ﾉｿﾞﾐ",4,"宮城"]
[474,"菅野　智之","ｶﾝﾉ ﾄﾓﾕｷ",4,"宮城"]
[475,"蛯名　為帆","ｴﾋﾞﾅ ﾅｵ",4,"青森"]
[476,"石井　純也","ｲｼｲ ｼﾞｭﾝﾔ",4,"山形"]
[477,"三浦　　匠","ﾐｳﾗ ﾀｸﾐ",3,"宮城"]
[478,"熊谷　慎太","ｸﾏｶﾞｲ ｼﾝﾀ",3,"福島"]
[479,"今野　洋夢","ｺﾝﾉ ﾋﾛﾑ",3,"宮城"]
[480,"相原　優樹","ｱｲﾊﾗ ﾕｳｷ",3,"宮城"]
[481,"今　　颯也","ｺﾝ ｿｳﾔ",3,"宮城"]
[482,"桑原　悠人","ｸﾜﾊﾗ ﾕｳﾄ",3,"宮城"]
[483,"伊藤　和哉","ｲﾄｳ ｶｽﾞﾔ",3,"宮城"]
[484,"正木　大雅","ﾏｻｷ ﾀｲｶﾞ",3,"岩手"]
[485,"伊藤　雅晃","ｲﾄｳ ﾏｻｱｷ",3,"宮城"]
[486,"中川原　匠","ﾅｶｶﾞﾜﾗ ﾀｸﾐ",3,"宮城"]
[487,"高橋　　陽","ﾀｶﾊｼ ﾋｶﾙ",3,"宮城"]
[488,"日野　泰正","ﾋﾉ ﾔｽﾏｻ",3,"宮城"]
[489,"相馬　玄太","ｿｳﾏ ｹﾞﾝﾀ",3,"宮城"]
[490,"島山　　悠","ｼﾏﾔﾏ ﾕｳ",2,"宮城"]
[491,"鈴木　佑斗","ｽｽﾞｷ ﾕｳﾄ",2,"宮城"]
[492,"関根　　響","ｾｷﾈ ｷｮｳ",2,"福島"]
[493,"高橋　亨弥","ﾀｶﾊｼ ﾅｵﾔ",2,"福島"]
[494,"津田　庸兵","ﾂﾀﾞ ﾖｳﾍｲ",2,"宮城"]
[495,"根本　和希","ﾈﾓﾄ ｶｽﾞｷ",2,"福島"]
[496,"平塚　滉大","ﾋﾗﾂｶ ｺｳﾀ",2,"宮城"]
[497,"菊池　俊哉","ｷｸﾁ ﾄｼﾔ",2,"岩手"]
[498,"飯澤　賢人","ｲｲｻﾞﾜ ｹﾝﾄ",2,"山形"]
[499,"佐藤　　陸","ｻﾄｳ ﾘｸ",2,"宮城"]
[500,"沼田　旭陽","ﾇﾏﾀ ｱｻﾋ",2,"宮城"]
[501,"岩渕　大翼","ｲﾜﾌﾞﾁ ﾀﾞｲｽｹ",2,"宮城"]
[502,"藤原　悠斗","ﾌｼﾞﾜﾗ ﾕｳﾄ",2,"宮城"]
[503,"宮川　　森","ﾐﾔｶﾞﾜ ﾓﾘﾄ",2,"宮城"]
[504,"千葉　一天","ﾁﾊﾞ ｶｽﾞﾀｶ",1,"宮城"]
[505,"村松　希信","ﾑﾗﾏﾂ ｷｼﾝ",3,"宮城"]
[506,"白崎　陽一","ｼﾗｻｷ ﾖｳｲﾁ",3,"宮城"]
[507,"土井　和哉","ﾄﾞｲ ｶｽﾞﾅﾘ",3,"宮城"]
[508,"三宅　陸斗","ﾐﾔｹ ﾘｸﾄ",2,"宮城"]
[509,"神崎　　剛","ｶﾝｻﾞｷ ｺﾞｳ",2,"宮城"]
[510,"横瀬　直希","ﾖｺｾ ﾅｵｷ",2,"宮城"]
[511,"赤司　勇哉","ｱｶｼ ﾕｳﾔ",2,"宮城"]
[512,"小沼　岳人","ｺﾇﾏ ﾔﾏﾄ",2,"宮城"]
[513,"長谷川勇太","ﾊｾｶﾞﾜ ﾕｳﾀ","5","福島"]
[514,"佐藤　将富","ｻﾄｳ ﾏｻﾄﾐ","5","福島"]
[515,"長瀬　大和","ﾅｶﾞｾ ﾔﾏﾄ","5","福島"]
[516,"根本　優作","ﾈﾓﾄ ﾕｳｻｸ","5","福島"]
[517,"熊谷　裕平","ｸﾏｶﾞｲ ﾕｳﾍｲ","5","福島"]
[518,"渡邉　隆也","ﾜﾀﾅﾍﾞ ﾘｭｳﾔ",2,"福島"]
[519,"蛭田　大稀","ﾋﾙﾀ ﾀﾞｲｷ",4,"福島"]
[520,"横田　亮祐","ﾖｺﾀ ﾘｮｳｽｹ",4,"福島"]
[521,"五十嵐拓海","ｲｶﾞﾗｼ ﾀｸﾐ",4,"福島"]
[522,"志賀　智樹","ｼｶﾞ ﾄﾓｷ",4,"福島"]
[523,"大村　　徹","ｵｵﾑﾗ ﾄｵﾙ","4","宮城"]
[524,"田中慎太郎","ﾀﾅｶ ｼﾝﾀﾛｳ","M1","山形"]
[525,"太刀川滉一","ﾀﾁｶﾜ ｺｳｲﾁ",4,"秋田"]
[526,"松田　智宏","ﾏﾂﾀﾞ ﾄﾓﾋﾛ",3,"山形"]
[527,"早坂　亮汰","ﾊﾔｻｶ ﾘｮｳﾀ",4,"山形"]
[528,"眞壁　豊治","ﾏｶﾍﾞ ﾄﾖﾊﾙ",4,"山形"]
[529,"佐藤　　淳","ｻﾄｳ ｼﾞｭﾝ",1,"宮城"]
[530,"山内晋之亮","ﾔﾏｳﾁ ｼﾝﾉｽｹ",1,"宮城"]
[531,"中野　　優","ﾅｶﾉ ﾏｻﾙ","6","福島"]
[532,"高木　孝亮","ﾀｶｷ ｺｳｽｹ",4,"福島"]
[533,"川又　　諒","ｶﾜﾏﾀ ﾘｮｳ",5,"福島"]
[534,"吉田　周平","ﾖｼﾀﾞ ｼｭｳﾍｲ",6,"福島"]
[535,"玉熊　紘己","ﾀﾏｸﾏ ﾋﾛｷ","1","青森"]
[536,"菅野　　嗣","ｶﾝﾉ ﾂｸﾞﾙ","1","岩手"]
[537,"高橋　賢人","ﾀｶﾊｼ ｹﾝﾄ","1","宮城"]
[538,"鈴木　康平","ｽｽﾞｷ ｺｳﾍｲ","1","岩手"]
[539,"鈴木　博登","ｽｽﾞｷ ﾋﾛﾄ","1","宮城"]
[540,"大沼　航弥","ｵｵﾇﾏ ｺｳﾔ","1","宮城"]
[541,"菊田　　亮","ｷｸﾀ ﾘｮｳ","1","岩手"]
[542,"高橋　青巴","ﾀｶﾊｼ ｱｵﾊﾞ","1","宮城"]
[543,"箭内　翔吾","ﾔﾅｲ ｼｮｳｺﾞ","1","福島"]
[544,"武山　和樹","ﾀｹﾔﾏ ｶｽﾞｷ","1","宮城"]
[545,"伊藤　　輝","ｲﾄｳ ﾋｶﾙ",1,"山形"]
[546,"寒河江　碧","ｻｶﾞｴ ﾍｷﾙ",1,"山形"]
[547,"佐藤　　駿","ｻﾄｳ ｼｭﾝ",1,"山形"]
[548,"芦野　純哉","ｱｼﾉ ｼﾞｭﾝﾔ",1,"山形"]
[549,"及川　貴史","ｵｲｶﾜ ﾀｶｼ",1,"岩手"]
[550,"長内　孝悦","ｵｻﾅｲ ﾀｶﾉﾌﾞ",1,"青森"]
[551,"川又　彰人","ｶﾜﾏﾀ ｼｮｳﾄ",1,"岩手"]
[552,"神原　純也","ﾌｸﾊﾗ ｼﾞｭﾝﾔ",1,"秋田"]
[553,"小橋　圭太","ｺﾊﾞｼ ｹｲﾀ",1,"青森"]
[554,"島倉　直広","ｼﾏｸﾗ ﾅｵﾋﾛ",1,"新潟"]
[555,"鈴木　光仁","ｽｽﾞｷ ｺｳﾄ",1,"山形"]
[556,"福本　健斗","ﾌｸﾓﾄ ｹﾝﾄ",1,"栃木"]
[557,"遠藤　健次","ｴﾝﾄﾞ ｳｹﾝｼﾞ",1,"福島"]
[558,"米澤　龍星","ﾖﾈｻﾞﾜ ﾘｭｳｾｲ",1,"青森"]
[559,"小山内　彪","ｵｻﾅｲ ﾋｮｳ",1,"青森"]
[560,"上田　祐二","ｳｴﾀﾞ ﾕｳｼﾞ","2","秋田"]
[561,"須藤　隼","ｽﾄｳ ﾊﾔﾄ",2,"秋田"]
[562,"田代　泰弘","ﾀｼﾛ ﾔｽﾋﾛ","2","秋田"]
[563,"大竹　博道","ｵｵﾀｹ ﾋﾛﾐﾁ",4,"秋田"]
[564,"伊勢　恭浩","ｲｾ ﾀｶﾋﾛ","4","岩手"]
[565,"宇佐美空也","ｳｻﾐ ﾀｶﾔ","2","岩手"]
[566,"赤石　倭人","ｱｶｲｼ ﾔﾏﾄ","1","青森"]
[567,"大沢　地生","ｵｵｻﾜ ﾁﾊﾙ",1,"青森"]
[568,"奥口　遥史","ｵｸｸﾞﾁ ﾊﾙﾁｶ","1","青森"]
[569,"佐藤　友紀","ｻﾄｳ ﾕｳｷ",1,"青森"]
[570,"下山　誉人","ｼﾓﾔﾏ ﾀｶﾄ",1,"青森"]
[571,"倉田　夏希","ｸﾗﾀ ﾅﾂｷ",1,"岩手"]
[572,"宮森　祐太","ﾐﾔﾓﾘ ﾕｳﾀ",1,"岩手"]
[573,"坂本　光志","ｻｶﾓﾄ ｺｳｼﾞ","M2","青森"]
[574,"杉山　裕行","ｽｷﾞﾔﾏ ﾋﾛﾕｷ","3","青森"]
[575,"木幡　真人","ｺﾊﾀ ﾏｻﾄ","4","宮城県"]
[576,"寿　優一","ｺﾄﾌﾞｷ ﾕｳｲﾁ",1,"宮城県"]
[577,"高橋　泰雅","ﾀｶﾊｼ ﾀｲｶﾞ",1,"山形県"]
[578,"三浦　侑真","ﾐｳﾗ ﾕｳﾏ",1,"宮城県"]
[579,"大庭 祐紀","ｵｵﾊﾞ ﾕｳｷ","1","秋田県"]
[580,"小澤 周","ｵｻﾞﾜ ｼｭｳ",1,"秋田県"]
[581,"柿﨑 研人","ｶｷｻﾞｷ ｹﾝﾄ","1","秋田県"]
[582,"粕加屋 俊希","ｶｽｶﾞﾔ ｼｭﾝｷ",1,"秋田県"]
[583,"北郷 琉太","ｷﾀｺﾞｳ ﾘｭｳﾀ",1,"秋田県"]
[584,"佐藤 修生","ｻﾄｳ ｼｭｳｾｲ",1,"秋田県"]
[585,"田沢 亮","ﾀｻﾞﾜ ﾘｮｳ",1,"秋田県"]
[586,"田島 弘夢","ﾀｼﾞﾏ ﾋﾛﾑ",1,"秋田県"]
[587,"田近 寛太","ﾀﾁﾞｶ ｶﾝﾀ",1,"秋田県"]
[588,"田中 龍斗","ﾀﾅｶ ﾘｭｳﾄ",1,"秋田県"]
[589,"出口 颯真","ﾃﾞｸﾞﾁ ｿｳﾏ",1,"秋田県"]
[590,"中沢 駿介","ﾅｶｻﾞﾜ ｼｭﾝｽｹ",1,"秋田県"]
[591,"野口 貴徳","ﾉｸﾞﾁ ﾀｶﾉﾘ",1,"秋田県"]
[592,"森下 雄介","ﾓﾘｼﾀ ﾕｳｽｹ",1,"秋田県"]
[593,"山田 有輝也","ﾔﾏﾀﾞ ﾕｷﾔ",1,"千葉県"]
[594,"小山　和人","ｺﾔﾏ ｶｽﾞﾄ",1,"大阪府"]
[595,"谷中田　健太","ﾔﾁｭｳﾀﾞ ｹﾝﾀ",1,"福島県"]
[596,"吉田　廉","ﾖｼﾀﾞ ﾚﾝ",4,"福島県"]
[597,"柵山　大貴","ｻｸﾔﾏ ﾀｲｷ","1","秋田県"]
[598,"長濱　流静","ﾅｶﾞﾊﾏ ﾘｭｳｾｲ",1,"秋田県"]
[599,"土井　健太郎","ﾄﾞｲ ｹﾝﾀﾛｳ","2","秋田県"]
[600,"小林　洸瑠","ｺﾊﾞﾔｼ ﾀｹﾙ",2,"秋田県"]
[601,"佐藤　雄也","ｻﾄｳ ﾕｳﾔ","M2","東京都"]
[602,"津嶋　優希","ﾂｼﾏ ﾕｳｷ","M1","青森県"]
[603,"草島　立太","ｸｻｼﾞﾏ ﾘｭｳﾀ",4,"富山県"]
[604,"浅見　大輔","ｱｻﾐ ﾀﾞｲｽｹ",3,"宮城県"]
[605,"秋葉　湧太","ｱｷﾊﾞ ﾕｳﾀ",1,"山形県"]
[606,"小川　遼太朗","ｵｶﾞﾜ ﾘｮｳﾀﾛｳ",1,"神奈川県"]
[607,"佐々木　玲","ｻｻｷ ﾚｲ",1,"秋田県"]
[608,"大阪　天心","ｵｵｻｶ ﾃﾝｼﾝ",1,"秋田県"]
[609,"髙安　弘人","ﾀｶﾔｽ ﾋﾛﾄ",1,"東京都"]
[610,"佐藤　匠","ｻﾄｳ ﾀｸﾐ",1,"宮城県"]
[611,"泉　健太","ｲｽﾞﾐ ｹﾝﾀ",1,"島根県"]
[612,"山岸　忠相","ﾔﾏｷﾞｼ ﾀﾀﾞｽｹ",1,"長野県"]
[613,"金田　大輝","ｶﾈﾀﾞ ﾀｲｷ",1,"新潟県"]
[614,"青木　稜吾","ｱｵｷ ﾘｮｳｺﾞ",1,"富山県"]
[615,"諸田　直樹","ﾓﾛﾀ ﾅｵｷ",1,"青森県"]
[616,"佐藤　大斗","ｻﾄｳ ﾋﾛﾄ",1,"宮城県"]
[617,"松岡　陽太","ﾏﾂｵｶ ﾖｳﾀ",1,"青森県"]
[618,"二ノ神　遼","ﾆﾉｶﾐ ﾘｮｳ",1,"宮城県"]
[619,"鈴木　碩通","ｽｽﾞｷ ﾋﾛﾐﾁ",1,"宮城県"]
[620,"刈谷　春樹","ｶﾘﾔ ﾊﾙｷ",1,"岩手県"]
[621,"吉川　幸汰","ｷｯｶﾜ ｺｳﾀ",1,"岩手県"]
[622,"工藤　友喜","ｸﾄﾞｳ ﾄﾓｷ",1,"新潟県"]
[623,"佐々木　元哉","ｻｻｷ ﾓﾄﾔ",1,"岩手県"]
[624,"柴田　聖","ｼﾊﾞﾀ ﾋｼﾞﾘ",1,"岩手県"]
[625,"杉本　祐一","ｽｷﾞﾓﾄ ﾕｳｲﾁ",1,"岩手県"]
[626,"鈴木　智也","ｽｽﾞｷ ﾄﾓﾔ",1,"茨城県"]
[627,"高谷　龍星","ﾀｶﾔ ﾘｭｳｾｲ",1,"青森県"]
[628,"田鎖　亘","ﾀｸｻﾘ ﾜﾀﾙ",1,"岩手県"]
[629,"新里　優太","ﾆｲｻﾄ ﾕｳﾀ",1,"岩手県"]
[630,"馬場　康生","ﾊﾞﾊﾞ ﾔｽﾅﾘ",1,"岩手県"]
[631,"宮野　芳樹","ﾐﾔﾉ ﾖｼｷ",1,"青森県"]
[632,"吉田　拓郎","ﾖｼﾀﾞ ﾀｸﾛｳ",1,"岩手県"]
[633,"上川原　拓哉","ｶﾐｶﾜﾗ ﾀｸﾔ",1,"青森県"]
[634,"中嶋　幸樹","ﾅｶｼﾞﾏ ｺｳｷ",1,"青森県"]
[635,"三上　隼平","ﾐｶﾐ ｼﾞｭﾝﾍﾟｲ",1,"青森県"]
[636,"三上　雄生","ﾐｶﾐ ﾕｳｷ",1,"青森県"]
[637,"山﨑　広夢","ﾔﾏｻﾞｷ ﾋﾛﾑ",1,"青森県"]
[638,"田村　恵太朗","ﾀﾑﾗ ｹｲﾀﾛｳ",1,"青森県"]
[639,"毛内　達也","ﾓｳﾅｲ ﾀﾂﾔ",1,"青森県"]
[640,"安部　竜平","ｱﾍﾞ ﾘｭｳﾍｲ","1","山形県"]
[641,"内山　凌","ｳﾁﾔﾏ ﾘｮｳ",1,"福島県"]
[642,"遠藤　颯太","ｴﾝﾄﾞｳ ｿｳﾀ",1,"山形県"]
[643,"大上　直起","ｵｵｶﾐ ﾅｵｷ",1,"岩手県"]
[644,"大友　颯太","ｵｵﾄﾓ ｿｳﾀ",1,"秋田県"]
[645,"小田桐　雅功","ｱﾀﾞｷﾞﾘ ｶﾞｸ",1,"青森県"]
[646,"加藤　将貴","ｶﾄｳ ﾏｻｷ",1,"宮城県"]
[647,"佐藤　仁一郎","ｻﾄｳ ｼﾞﾝｲﾁﾛｳ",1,"宮城県"]
[648,"佐藤　克紀","ｻﾄｳ ﾏｻｷ",1,"福島県"]
[649,"佐藤　亮太朗","ｻﾄｳ ﾘｮｳﾀﾛｳ",1,"福島県"]
[650,"菅原　快維","ｽｶﾞﾜﾗ ｶｲ",1,"宮城県"]
[651,"鈴木　飛郎","ｽｽﾞｷ ﾋｲﾛ",1,"福島県"]
[652,"高玉　蓮斗","ﾀｶﾀﾞﾏ ﾚﾝﾄ",1,"宮城県"]
[653,"高橋　瑠威","ﾀｶﾊｼ ﾙｲ",1,"岩手県"]
[654,"髙橋　怜","ﾀｶﾊｼ ﾚﾝ",1,"岩手県"]
[655,"玉應　希築","ﾀﾏｵｳ ｷｽﾞｷ",1,"福島県"]
[656,"千葉　樹","ﾁﾊﾞ ｲﾂｷ",1,"岩手県"]
[657,"長谷川　麗央","ﾊｾｶﾞﾜ ﾚｵ",1,"福島県"]
[658,"塙　悠人","ﾊﾅﾜ ﾕｳﾄ",1,"宮城県"]
[659,"三浦　聖矢","ﾐｳﾗ ｾｲﾔ",1,"秋田県"]
[660,"村松　佑亮","ﾑﾗﾏﾂ ﾕｳｽｹ",1,"宮城県"]
[661,"元木　蓮","ﾓﾄｷ ﾚﾝ",1,"山形県"]
[662,"森　新世","ﾓﾘ ｱﾗｾ",1,"宮城県"]
[663,"山田　琉生","ﾔﾏﾀﾞ ﾘｭｳｾｲ",1,"福島県"]
[664,"江川　健太","ｴｶﾞﾜ ｹﾝﾀ",1,"宮城県"]
[665,"大宮　崚","ｵｵﾐﾔ ﾘｮｳ",1,"宮城県"]
[666,"猿田　晃永","ｻﾙﾀ ｺｳｴ",1,"宮城県"]
[667,"山寺　誠一","ﾔﾏﾃﾞﾗ ｾｲｲﾁ",1,"宮城県"]
[668,"横田　有星","ﾖｺﾀ ﾕｳｾｲ",1,"青森県"]
[669,"飯塚　大","ｲｲﾂﾞｶ ﾋﾛ",1,"青森県"]
[670,"福士　翔太","ﾌｸｼ ｼｮｳﾀ",1,"青森県"]
[671,"村中　優","ﾅｶﾑﾗ ﾕｳ",1,"青森県"]
[672,"先﨑　勇貴","ｾﾝｻﾞｷ ﾕｳｷ","3","福島県"]
[673,"菅島　竜也","ｽｶﾞｼﾏ ﾘｭｳﾔ",4,"福島県"]
[674,"佐藤　琢","ｻﾄｳ ﾀｸ","3","福島県"]
[675,"酒井　翼","ｻｶｲ ﾂﾊﾞｻ",3,"福島県"]
[676,"熊谷　宏一郎","ｸﾏｶﾞｲ ｺｳｲﾁﾛｳ",3,"福島県"]
[677,"菊池　翔","ｷｸﾁ ｼｮｳ","1","岩手県"]
[678,"菊池　泰我","ｷｸﾁ ﾀｲｶﾞ","1","岩手県"]
[679,"佐藤　靖","ｻﾄｳ ｼﾞｮｳ","1","岩手県"]
[680,"鈴木　泰広","ｽｽｷﾞ ﾔｽﾋﾛ","1","岩手県"]
[681,"千田　凌","ﾁﾀﾞ ﾘｮｳ","1","青森県"]
[682,"矢作　辰哉","ﾔﾊｷﾞ ﾀﾂﾔ",1,"岩手県"]
[683,"吉田　直斗","ﾖｼﾀﾞ ﾅｵﾄ",2,"岩手県"]
[684,"佐野　柚紀","ｻﾉ ﾕｽﾞｷ",1,"岩手県"]
[685,"伊藤　太一","ｲﾄｳ ﾀｲﾁ",1,"岩手県"]
["686","金生　直哉","ｷﾝｼｮｳ ﾅｵﾔ",4,"福島県"]
["687","香取　順太","ｶﾄﾘ ｼﾞｭﾝﾀ",2,"福島県"]
["688","千田　昂輝","ﾁﾀﾞ ｺｳｷ",1,"東京都"]
["689","庄子　啓","ｼｮｳｼﾞ ｹｲ",4,"福島県"]
["690","小笠原　清剛","ｵｶﾞｻﾜﾗ ｷﾖﾀｶ",3,"福島県"]
["691","黒川　真範","ｸﾛｶﾜ ﾏｻﾉﾘ",3,"福島県"]
[692,"青木　章馬","ｱｵｷ ｼｮｳﾏ","1","山形県"]
[693,"西山　隼平","ﾆｼﾔﾏ ｼﾞｭﾝﾍﾟｲ","1","山形県"]
[694,"軽部　恭矢","ｶﾙﾍﾞ ｷｮｳﾔ","1","山形県"]
[695,"奥村　翔","ｵｸﾑﾗ ｶｹﾙ","1","山形県"]
[696,"島　海人","ｼﾏ ｶｲﾄ","1","福島県"]
[697,"工藤　雄斗","ｸﾄﾞｳ ﾕｳﾄ","1","山形県"]
[698,"元木　龍史","ﾓﾄｷ ﾘｭｳｼ","1","山形県"]
[699,"玉手　祐承","ﾀﾏﾃ ﾕｳｽｹ","1","山形県"]
[700,"渡部　空","ﾜﾀﾅﾍﾞ ｿﾗ","1","山形県"]
[701,"安田　直輝","ﾔｽﾀﾞ ﾅｵｷ",1,"山形県"]
[702,"佐藤　聖也","ｻﾄｳ ｾｲﾔ","1","宮城県"]
[703,"下野　幹也","ｼﾓﾉ ﾐｷﾔ","1","宮城県"]
[705,"西村　樹","ﾆｼﾑﾗ ｲﾂｷ",1,"宮城県"]
[706,"大沼　亮太","ｵｵﾇﾏ ﾘｮｳﾀ",1,"山形県"]
[707,"大野　誠尚","ｵｵﾉ ﾏｻﾀｶ",1,"埼玉県"]
[708,"靍　孝太郎","ﾂﾙ ｺｳﾀﾛｳ",1,"東京都"]
[709,"上村　赳之","ｶﾐﾑﾗ ﾀｹﾕｷ",1,"群馬県"]
[710,"石垣　雅生","ｲｼｶﾞｷ ﾏｻｷ",1,"宮城県"]
[711,"酒井　健","ｻｶｲ ｹﾝ",1,"新潟県"]
[712,"片桐　大智","ｶﾀｷﾞﾘ ﾀｲﾁ",1,"宮城県"]
[713,"八巻　隼人","ﾔﾏｷ ﾊﾔﾄ",1,"宮城県"]
[714,"菅野　耀広","ｶﾝﾉ ｱｷﾋﾛ",1,"東京都"]
[715,"計良　衛","ｹｲﾗ ﾏﾓﾙ",1,"東京都"]
[716,"加藤　圭","ｶﾄｳ ｹｲ",1,"福島県"]
[717,"髙橋　優太","ﾀｶﾊｼ ﾕｳﾀ",1,"福島県"]
[718,"渡辺　雅之","ﾜﾀﾅﾍﾞ ﾏｻﾕｷ",1,"福島県"]
[719,"佐藤　理玖","ｻﾄｳ ﾘｸ",1,"福島県"]
[720,"猪俣　一貴","ｲﾉﾏﾀ ｶｽﾞｷ",1,"福島県"]
[721,"杉山　恵大","ｽｷﾞﾔﾏ ｹｲﾀ",1,"新潟県"]
[722,"足立　拓海","ｱﾀﾞﾁ ﾀｸﾐ",1,"岩手県"]
[723,"大平　悠人","ｵｵﾀﾞｲﾗ ﾕｳﾄ",1,"青森県"]
[724,"古里　寛之","ﾌﾙｻﾄ ﾋﾛﾕｷ",1,"青森県"]
[725,"山本　悠生","ﾔﾏﾓﾄ ﾕｳｷ",1,"岩手県"]
[726,"髙橋　慧","ﾀｶﾊｼ ｹｲ",1,"宮城県"]
[727,"森　友康","ﾓﾘ ﾄﾓﾔｽ",1,"宮城県"]
[728,"木村　涼馬","ｷﾑﾗ ﾘｮｳﾏ","1","宮城県"]
[729,"吉田　知将","ﾖｼﾀﾞ ﾄﾓﾏｻ",3,"宮城県"]
[730,"工藤　航平","ｸﾄﾞｳ ｺｳﾍｲ","M2","北海道"]
[731,"高橋　秀明","ﾀｶﾊｼ ﾋﾃﾞｱｷ",1,"宮城県"]
[732,"石井　悟司","ｲｼｲ ｻﾄｼ",2,"東京都"]
[733,"牧野　雅紘","ﾏｷﾉ ﾏｻﾋﾛ",1,"富山県"]
[734,"兼子 太希","ｶﾈｺ ﾀｲｷ","２","山形県"]
[735,"笹野 優我","ｻｻﾉ ﾕｳｶﾞ","１","宮城県"]
[736,"鈴木 優明","ｽｽﾞｷ ﾏｻｱｷ",2,"宮城県"]
[737,"佐々木 亮柄","ｻｻｷ ﾘｮｳﾍｲ",1,"宮城県"]
[738,"羽田 光輝","ﾊﾈﾀﾞ ｺｳｷ",1,"宮城県"]
[739,"雷 竣哉","ﾗｲ ｼｭﾝﾔ",2,"岩手県"]
[740,"高橋 龍平","ﾀｶﾊｼ ﾘｮｳﾍｲ",1,"山形県"]
[741,"澤　弘平","ｻﾜ ｺｳﾍｲ","4","福島県"]
[742,"三澤　智康","ﾐｻﾜ ﾄﾓﾔｽ",1,"群馬県"]
[743,"阿部　洸","ｱﾍﾞ ﾋｶﾙ","3","岩手県"]
[744,"落合　亮太","ｵﾁｱｲ ﾘｮｳﾀ",4,"山形県"]
[745,"佐藤　雄真","ｻﾄｳ ﾕｳﾏ",1,"宮城県"]
[746,"田中　翔悟","ﾀﾅｶ ｼｮｳｺﾞ","M1","兵庫県"]
[748,"木曽　真吾","ｷｿ ｼﾝｺﾞ","4","秋田県"]
[749,"福間　大気","ﾌｸﾏ ﾄﾓｷ","1","岩手県"]
[]
[]
[]
[]
[]
[]
[]
[]
[]
[]
[1001,"新田　真未","ﾆｯﾀ ﾏﾐ","M2","岩手"]
[1002,"大村由莉香","ｵｵﾑﾗ ﾕﾘｶ",4,"北海道"]
[1003,"下田　美穂","ｼﾓﾀﾞ ﾐﾎ",4,"岩手"]
[1004,"永須　千尋","ｴｲｽ ﾁﾋﾛ",3,"秋田"]
[1005,"小野　綺音","ｵﾉ ｱﾔﾈ",3,"岩手"]
[1006,"島田　真優","ｼﾏﾀﾞ ﾏﾕ",3,"三重"]
[1007,"高倉　優奈","ﾀｶｸﾗ ﾕｳﾅ",3,"岩手"]
[1008,"星　　葉月","ﾎｼ ﾊﾂﾞｷ",3,"岩手"]
[1009,"岩渕　杏奈","ｲﾜﾌﾞﾁ ｱﾝﾅ",2,"岩手"]
[1010,"髙橋　　葵","ﾀｶﾊｼ ｱｵｲ",2,"青森"]
[1011,"米倉　令惠","ﾖﾈｸﾗ ﾖｼｴ",2,"石川"]
[1012,"本宮あかり","ﾓﾄﾐﾔ ｱｶﾘ","4","青森"]
[1013,"三上　爽子","ﾐｶﾐ ｻﾜｺ",3,"青森"]
[1014,"藤野　美優","ﾌｼﾞﾉ ﾐﾕｳ",2,"青森"]
[1015,"高橋　舞香","ﾀｶﾊｼ ﾏｲｶ","3","青森"]
[1016,"菅原　　南","ｽｶﾞﾜﾗ ﾐﾅﾐ","4","宮城"]
[1017,"鎌田　真衣","ｶﾏﾀ ﾏｲ",3,"宮城"]
[1018,"櫻井　楓華","ｻｸﾗｲ ﾌｳｶ",3,"宮城"]
[1019,"瀧場　　希","ﾀｷﾊﾞ ﾉｿﾞﾐ",3,"宮城"]
[1020,"中村　美那","ﾅｶﾑﾗ ﾐﾅ",3,"岩手"]
[1021,"須貝　　光","ｽｶﾞｲ ﾋｶﾘ",2,"宮城"]
[1022,"佐藤　まどか","ｻﾄｳ ﾏﾄﾞｶ",2,"宮城"]
[1023,"舟山　愛理","ﾌﾅﾔﾏ ｱｲﾘ",4,"山形"]
[1024,"菊地　　葵","ｷｸﾁ ｱｵｲ",2,"山形"]
[1025,"髙橋かおり","ﾀｶﾊｼ ｶｵﾘ",3,"山形"]
[1026,"永井美紗子","ﾅｶﾞｲ ﾐｻｺ",6,"山形"]
[1027,"柿沼　美羽","ｶｷﾇﾏ ﾐﾕ",4,"山形"]
[1028,"榎　　千遥","ｴﾉｷ ﾁﾊﾙ",2,"山形"]
[1029,"阿毛　清夏","ｱﾓｳ ｻﾔｶ",3,"山形"]
[1030,"川崎　美祈","ｶﾜｻｷ ﾐﾉﾘ",4,"宮城"]
[1031,"寺牛　若菜","ﾃﾗｳｼ ﾜｶﾅ",4,"宮城"]
[1032,"漆戸　　雛","ｳﾙｼﾄﾞ ﾋﾅ",4,"宮城"]
[1033,"髙橋　七海","ﾀｶﾊｼ ﾅﾅﾐ",4,"宮城"]
[1034,"原田　詠麻","ﾊﾗﾀﾞ ｴﾏ",4,"宮城"]
[1035,"牧野　あや","ﾏｷﾉ ｱﾔ",4,"宮城"]
[1036,"千葉悠里奈","ﾁﾊﾞ ﾕﾘﾅ",4,"宮城"]
[1037,"庄司　琴美","ｼｮｳｼﾞ ｺﾄﾐ",3,"宮城"]
[1038,"深田　蘭菜","ﾌｶﾀﾞ ﾗﾅ",2,"宮城"]
[1039,"樋口亜沙美","ﾋｸﾞﾁ ｱｻﾐ",2,"宮城"]
[1040,"宍戸　茉由","ﾋﾋﾄﾞ ﾏﾕ",2,"宮城"]
[1041,"畠山　　萌","ﾊﾀｹﾔﾏ ﾓｴ",1,"宮城"]
[1042,"宮本　春奈","ﾐﾔﾓﾄ ﾊﾙﾅ",1,"宮城"]
[1043,"千葉彩有花","ﾁﾊﾞ ｻﾕｶ",1,"宮城"]
[1044,"丹野稚妃路","ﾀﾝｵ ﾁﾋﾛ",1,"宮城"]
[1045,"安部　美南","ｱﾍﾞ ﾐﾅﾐ",4,"福島"]
[1046,"大関　　佳","ｵｵｾｷ ｹｲ",4,"新潟"]
[1047,"吉田　菜穂","ﾖｼﾀﾞ ﾅｵ",4,"山形"]
[1048,"新田　　彩","ﾆｯﾀ ｱﾔ",3,"福島"]
[1049,"仁井田侑子","ﾆｲﾀﾞ ﾕｳｺ",3,"愛媛"]
[1050,"菅野　杏奈","ｶﾝﾉ ｱﾝﾅ",3,"福島"]
[1051,"高橋奈津子","ﾀｶﾊｼ ﾅﾂｺ",3,"宮城"]
[1052,"室谷優里奈","ﾑﾛﾀﾆ ﾕﾘﾅ",3,"福井"]
[1053,"金井　菜奈","ｶﾅｲ ﾅﾅ",2,"富山"]
[1054,"小杉　恵理","ｺｽｷﾞ ｴﾘ",2,"福島"]
[1055,"小林　　茜","ｺﾊﾞﾔｼ ｱｶﾈ",2,"新潟"]
[1056,"佐藤　未歩","ｻﾄｳ ﾐﾎ",2,"神奈川"]
[1057,"高橋　桃華","ﾀｶﾊｼ ﾓﾓｶ",2,"秋田"]
[1058,"千葉　桃香","ﾁﾊﾞ ﾓﾓｶ",2,"宮城"]
[1059,"福島　采美","ﾌｸｼﾏ ｱﾐ",2,"栃木"]
[1060,"渡邊　朝美","ﾜﾀﾅﾍﾞ ﾄﾓﾐ","M2","宮城"]
[1061,"西條　詩織","ｻｲｼﾞｮｳ ｼｵﾘ",6,"埼玉"]
[1062,"中村真璃子","ﾅｶﾑﾗ ﾏﾘｺ",4,"新潟"]
[1063,"佐々木千粛","ｻｻｷ ﾁﾊﾔ",4,"神奈川"]
[1064,"飯田　夏生","ｲｲﾀﾞ ﾅﾂｷ",4,"宮城"]
[1065,"星屋　美優","ﾎｼﾔ ﾐﾕ",4,"大阪"]
[1066,"須田　　桜","ｽﾀﾞ ｻｸﾗ",4,"宮城"]
[1067,"阿部　春花","ｱﾍﾞ ﾊﾙｶ",4,"宮城"]
[1068,"岸田　晶穂","ｷｼﾀﾞ ｱｷﾎ",4,"大阪"]
[1069,"佐貫　有彩","ｻﾇｷ ｱﾘｻ",3,"秋田"]
[1070,"上條　麻奈","ｶﾐｼﾞｮｳ ﾏﾅ",3,"長野"]
[1071,"泉屋　咲月","ｲｽﾞﾐﾔ ｻﾂｷ",2,"宮城"]
[1072,"柄澤菜々美","ｶﾗｻﾜ ﾅﾅﾐ",2,"茨城"]
[1073,"加藤ひより","ｶﾄｳ ﾋﾖﾘ",2,"新潟"]
[1074,"橋本　悠実","ﾊｼﾓﾄ ﾕﾐ",2,"北海道"]
[1075,"佐久間美帆","ｻｸﾏ ﾐﾎ",2,"宮城"]
[1076,"小林　萌華","ｺﾊﾞﾔ ｼﾓｴｶ","4","青森"]
[1077,"縄巻　綾音","ﾅﾜﾏｷ ｱﾔﾈ",4,"青森"]
[1078,"角　　成美","ｶﾄﾞ ﾅﾙﾐ",4,"青森"]
[1079,"小泉　春菜","ｺｲｽﾞﾐ ﾊﾙﾅ",3,"青森"]
[1080,"神　実季保","ｼﾞﾝ ﾐｷﾎ",3,"青森"]
[1081,"山本　光美","ﾔﾏﾓﾄ ﾐﾂﾐ",3,"青森"]
[1082,"白川奈々恵","ｼﾗｶﾜ ﾅﾅｴ",3,"青森"]
[1083,"澤里さつき","ｻﾜｻﾄ ｻﾂｷ",3,"岩手"]
[1084,"豊川佳奈子","ﾄﾖｶﾜ ｶﾅｺ",3,"青森"]
[1085,"森越　　空","ﾓﾘｺｼ ｿﾗ",3,"青森"]
[1086,"工藤菜々佳","ｸﾄﾞｳ ﾅﾅｶ",2,"青森"]
[1087,"松浦　光紗","ﾏﾂｳﾗ ﾐｻ",2,"山形"]
[1088,"松田　瑠佳","ﾏﾂﾀﾞ ﾙｶ",2,"青森"]
[1089,"松橋明日香","ﾏﾂﾊｼ ｱｽｶ",2,"青森"]
[1090,"広田　有紀","ﾋﾛﾀ ﾕｳｷ",5,"新潟"]
[1091,"亀山　雛子","ｶﾒﾔﾏ ﾋﾅｺ",4,"秋田"]
[1092,"仲居　　優","ﾅｶｲ ﾕｳ",4,"秋田"]
[1093,"小野　麻代","ｵﾉ ﾏﾖ",3,"山形"]
[1094,"桜庭　美紅","ｻｸﾗﾊﾞ ﾐｸ",3,"秋田"]
[1095,"濱田　風香","ﾊﾏﾀﾞ ﾌｳｶ",3,"秋田"]
[1096,"吉田　萌乃","ﾖｼﾀﾞ ﾓｴﾉ",3,"秋田"]
[1097,"細野　真子","ﾎｿﾉ ﾏｺ",4,"福島"]
[1098,"小野亜也加","ｵﾉ ｱﾔｶ",4,"宮城"]
[1099,"小畑亜沙美","ｵﾊﾞﾀ ｱｻﾐ",4,"秋田"]
[1100,"工藤るり子","ｸﾄﾞｳ ﾙﾘｺ",4,"秋田"]
[1101,"五十嵐　彩","ｲｶﾞﾗｼ ｻﾔｶ",4,"山形"]
[1102,"吉田　愛子","ﾖｼﾀﾞ ﾁｶｺ",4,"宮城"]
[1103,"高橋　佳恋","ﾀｶﾊｼ ｶﾚﾝ",4,"山形"]
[1104,"池田　成紗","ｲｹﾀﾞ ﾅﾘｻ",4,"山形"]
[1105,"高橋沙也加","ﾀｶﾊｼ ｻﾔｶ",4,"宮城"]
[1106,"山脇　　悠","ﾔﾏﾜｷ ﾊﾙｶ",4,"新潟"]
[1107,"中澤　椿希","ﾅｶｻﾞﾜ ﾂﾊﾞｷ",3,"岩手"]
[1108,"遠藤　佳織","ｴﾝﾄﾞｳ ｶｵﾘ",3,"福島"]
[1109,"根本伊ぶき","ﾈﾓﾄ ｲﾌﾞｷ",3,"宮城"]
[1110,"星　　京香","ﾎｼ ｷｮｳｶ",3,"岩手"]
[1111,"日野　沙南","ﾋﾉ ｻﾅ",3,"宮城"]
[1112,"内藤　篤子","ﾅｲﾄｳ ｱﾂｺ",3,"宮城"]
[1113,"樋口　望美","ﾋｸﾞﾁ ﾉｿﾞﾐ",2,"宮城"]
[1114,"近藤　安希","ｺﾝﾄﾞｳ ｱｷ",2,"宮城"]
[1115,"三浦　　優","ﾐｳﾗ ﾕｳ",2,"山形"]
[1116,"糸賀　媛香","ｲﾄｶﾞ ﾋﾒｶ",2,"栃木"]
[1117,"戸塚　　優","ﾄﾂｶ ﾕｳ",2,"栃木"]
[1118,"江刺みゆき","ｴｻｼ ﾐﾕｷ",2,"宮城"]
[1119,"武者　香織","ﾑｼｬ ｶｵﾘ",2,"宮城"]
[1120,"細田　彩佳","ﾎｿﾀﾞ ｱﾔｶ",2,"宮城"]
[1121,"𠮷田　朱里","ﾖｼﾀﾞ ｱｶﾘ",2,"岩手"]
[1122,"後藤　瑞貴","ｺﾞﾄｳ ﾐｽﾞｷ",2,"宮城"]
[1123,"高橋加菜乃","ﾀｶﾊｼ ｶﾅﾉ",2,"宮城"]
[1124,"藤岡　　葵","ﾌｼﾞｵｶ ｱｵｲ",2,"宮城"]
[1125,"小関　由佳","ｵｾﾞｷ ﾕｶ",2,"岩手"]
[1126,"板野　彩花","ｲﾀﾉ ｱﾔｶ",2,"岡山"]
[1127,"石垣　美和","ｲｼｶﾞｷ ﾐﾜ",2,"宮城"]
[1128,"石井沙耶花","ｲｼｲ ｻﾔｶ",2,"宮城"]
[1129,"鹿野あいり","ｶﾉ ｱｲﾘ",2,"山形"]
[1130,"丹野　璃紗","ﾀﾝﾉ ﾘｻ",2,"宮城"]
[1131,"徳田　志織","ﾄｸﾀ ｼｵﾘ",2,"岩手"]
[1132,"佐藤　七海","ｻﾄｳ ﾅﾅﾐ","1","宮城"]
[1133,"名取　詩織","ﾅﾄﾘ ｼｵﾘ",1,"宮城"]
[1134,"早坂　あみ","ﾊﾔｻｶ ｱﾐ",1,"宮城"]
[1135,"田中美千穗","ﾀﾅｶ ﾐﾁﾎ","4","青森"]
[1136,"工藤　諒樹","ｸﾄﾞｳ ﾘｮｳﾅ",2,"青森"]
[1137,"菅原　麻未","ｽｶﾞﾜﾗ ﾏﾐ",4,"宮城"]
[1138,"稲葉きらら","ｲﾅﾊﾞ ｷﾗﾗ",4,"宮城"]
[1139,"尾関　真衣","ｵｾﾞｷ ﾏｲ",4,"福島"]
[1140,"鈴木　菜々","ｽｽﾞｷ ﾅﾅ",4,"山形"]
[1141,"榊原　　遥","ｻｶｷﾊﾞﾗ ﾊﾙｶ",3,"宮城"]
[1142,"古川　恵里","ﾌﾙｶﾜ ｴﾘ",3,"新潟"]
[1143,"鈴木　菜未","ｽｽﾞｷ ﾅﾐ",3,"秋田"]
[1144,"須藤ひかる","ｽﾄﾞｳ ﾋｶﾙ",2,"茨城"]
[1145,"三浦　佳奈","ﾐｳﾗ ｶﾅ",2,"宮城"]
[1146,"五十嵐徳子","ｲｶﾞﾗｼ ﾉﾘｺ",2,"山形"]
[1147,"牛澤　優杏","ｳｼｻﾞﾜ ﾕｳｱ",2,"宮城"]
[1148,"石田　　寧","ｲｼﾀﾞ ﾈｲ",2,"宮城"]
[1149,"橋上　創佳","ﾊｼｶﾐ ｿｳｶ",2,"宮城"]
[1150,"植田　真央","ｳｴﾀﾞ ﾏｵ",1,"北海道"]
[1151,"小高　夏綺","ｵﾀﾞｶ ﾅﾂｷ",1,"茨城"]
[1152,"田中　杏梨","ﾀﾅｶ ｱﾝﾘ",1,"宮城"]
[1153,"八鍬　奈央","ﾔｸﾜ ﾅｵ",1,"山形"]
[1154,"多田　夏海","ﾀﾀﾞ ﾅﾂﾐ",4,"宮城"]
[1155,"佐藤絵理奈","ｻﾄｳ ｴﾘﾅ",4,"宮城"]
[1156,"佐々木香菜子","ｻｻｷ ｶﾅｺ",3,"宮城"]
[1157,"松川　美咲","ﾏﾂｶﾜ ﾐｻｷ",3,"宮城"]
[1158,"上野　文歌","ｳｴﾉ ｱﾔｶ",2,"山形"]
[1159,"小原　　杏","ｵﾊﾞﾗ ｱﾝ",2,"宮城"]
[1160,"黒田　奈那","ｸﾛﾀﾞ ﾅﾅ",2,"宮城"]
[1161,"門間　有里","ﾓﾝﾏ ﾕﾘ",2,"宮城"]
[1162,"渡部さやか","ﾜﾀﾅﾍﾞ ｻﾔｶ",2,"宮城"]
[1163,"渡邉　菜々","ﾜﾀﾅﾍﾞ ﾅﾅ",2,"宮城"]
[1164,"土井菜々子","ﾄﾞｲ ﾅﾅｺ",2,"宮城"]
[1165,"髙橋　春花","ﾀｶﾊｼ ﾊﾙﾅ","3","青森"]
[1166,"山中侑希奈","ﾔﾏﾅｶ ﾕｷﾅ",3,"青森"]
[1167,"星　　英里","ﾎｼ ｴﾘ",3,"青森"]
[1168,"菅野　　萌","ｶﾝﾉ ﾓｴ",4,"青森"]
[1169,"前山　優花","ﾏｴﾔﾏ ﾕｳｶ",2,"青森"]
[1170,"塩野　紗矢","ｼｵﾉ ｻﾔ","2","山形"]
[1171,"上圷千華子","ｶﾐｱｸﾂ ﾁｶｺ","4","福島"]
[1172,"八島すみれ","ﾔｼﾏ ｽﾐﾚ",4,"福島"]
[1173,"岩城　未紅","ｲﾜｷ ﾐｸ","4","宮城"]
[1174,"坂本　るみ","ｻｶﾓﾄ ﾙﾐ",1,"茨城"]
[1175,"杉山沙巴羅","ｽｷﾞﾔﾏ ｻﾊﾗ",1,"茨城"]
[1176,"高橋　瑞希","ﾀｶﾊｼ ﾐｽﾞｷ",1,"宮城"]
[1177,"中村　美宇","ﾅｶﾑﾗ ﾐｳ",1,"福島"]
[1178,"茂田井みさと","ﾓﾀｲ ﾐｻﾄ",1,"新潟"]
[1179,"佐藤　芹香","ｻﾄｳ ｾﾘｶ","1","宮城"]
[1180,"及川　朝賀","ｵｲｶﾜ ｱｻｶ","1","岩手"]
[1181,"山田　寧々","ﾔﾏﾀﾞ ﾈﾈ","1","宮城"]
[1182,"阿邉いつき","ｱﾍﾞ ｲﾂｷ","1","岩手"]
[1183,"石川　美珠","ｲｼｶﾜ ﾐｼﾞｭ","1","宮城"]
[1184,"大城　楓奈","ｵｵｷ ﾌｳﾅ",1,"山形"]
[1185,"佐藤　　和","ｻﾄｳ ﾉﾄﾞｶ",1,"山形"]
[1186,"齋藤はるか","ｻｲﾄｳ ﾊﾙｶ",1,"宮城"]
[1187,"武田　萌伽","ﾀｹﾀﾞ ﾓｶ",1,"山形"]
[1188,"須貝　美齢","ｽｶﾞｲ ﾐﾚｲ",1,"山形"]
[1189,"伊藤　　彩","ｲﾄｳ ｱﾔ","2","福島"]
[1190,"吉村　衣未","ﾖｼﾑﾗ ｴﾐ",1,"岐阜"]
[1191,"菅野　由真","ｶﾝﾉ ﾕﾏ",1,"岩手"]
[1192,"山上日登美","ﾔﾏｶﾞﾐ ﾋﾄﾐ",1,"青森"]
[1193,"寺田　有里","ﾃﾗﾀﾞ ﾕﾘ",1,"青森"]
[1194,"木村　日和","ｷﾑﾗ ﾋﾖﾘ",1,"青森"]
[1195,"瀬川　優花","ｾｶﾞﾜ ﾕｳｶ",1,"青森"]
[1196,"遠藤有佳子","ｴﾝﾄﾞｳ ﾕｶｺ","4","岩手"]
[1197,"小倉　優香","ｵｸﾞﾗ ﾕｶ","4","岩手"]
[1198,"福田　愛姫","ﾌｸﾀﾞ ｱｷ","4","岩手"]
[1199,"山形　真央","ﾔﾏｶﾞﾀ ﾏｵ",1,"宮城"]
[1200,"外川　　楓","ｿﾄｶﾜ ｶｴﾃﾞ",1,"青森"]
[1201,"前田野々香","ﾏｴﾀﾞ ﾉﾉｶ",1,"青森"]
[1202,"丸山　瀬奈","ﾏﾙﾔﾏ ｾﾅ",1,"青森"]
[1203,"森越　　裕","ﾓﾘｺｼ ﾋﾛ",1,"青森"]
[1204,"大賀 千聡","ｵｵｶﾞ ﾁｻﾄ","1","秋田県"]
[1205,"渡邉 結子","ﾜﾀﾅﾍﾞ ﾕｲｺ",1,"秋田県"]
[1206,"猪狩　光","ｲｶﾞﾘ ﾋｶﾙ","2","秋田県"]
[1207,"佐々木　翔渚","ｻｻｷ ｶﾅ",2,"秋田県"]
[1208,"白井　花","ｼﾗｲ ﾊﾅ",4,"宮城県"]
[1209,"栗原　唯","ｸﾘﾊﾗ ﾕｲ","M1","栃木県"]
[1210,"峯村　遥香","ﾐﾈﾑﾗ ﾊﾙｶ",1,"宮城県"]
[1211,"山﨑　香織","ﾔﾏｻｷ ｶｵﾘ",1,"大分県"]
[1212,"田中　紀香","ﾀﾅｶ ﾉﾘｶ",1,"宮城県"]
[1213,"青木　まひろ","ｱｵｷ ﾏﾋﾛ",1,"群馬県"]
[1214,"今野　萌香","ｲﾏﾉ ﾓｶ",1,"岩手県"]
[1215,"中島　明香","ﾅｶｼﾞﾏ ｱｽｶ",1,"栃木県"]
[1216,"萬　美結","ﾖﾛｽﾞ ﾐﾕｳ",1,"宮城県"]
[1217,"田中　奏衣","ﾀﾅｶ ｶﾅｴ",1,"青森県"]
[1218,"相沢　美月","ｱｲｻﾞﾜ ﾐﾂﾞｷ",1,"青森県"]
[1219,"鈴木　夏穂","ｽｽﾞｷ ﾅﾂﾎ",1,"青森県"]
[1220,"佐藤　佳奈","ｻﾄｳ ｶﾅ",1,"青森県"]
[1221,"宇都宮　あいり","ｳﾂﾉﾐﾔ ｱｲﾘ","1","宮城県"]
[1222,"後藤　ひろお","ｺﾞﾄｳ ﾋﾛｵ",1,"宮城県"]
[1223,"近藤　美月","ｺﾝﾄﾞｳ ﾐﾂﾞｷ",1,"福島県"]
[1224,"佐藤　美月","ｻﾄｳ ﾐﾂﾞｷ","1","福島県"]
[1225,"三本菅　愛実","ｻﾝﾎﾞﾝｽｹﾞ ﾏﾅﾐ",1,"福島県"]
[1226,"吉田　明星","ﾖｼﾀﾞ ｱｶﾘ","1","宮城県"]
[1227,"望月　晴菜","ﾓﾁﾂﾞｷ ﾊﾙﾅ",1,"宮城県"]
[1228,"草野　成美","ｸｻﾉ ﾅﾙﾐ","2","福島県"]
[1229,"斎藤　結友","ｻｲﾄｳ ﾕｳ","3","山形県"]
[1230,"武田　麻梨乃","ﾀｹﾀﾞ ﾏﾘﾉ",1,"山形県"]
[1231,"谷川　舞","ﾀﾆｶﾜ ﾏｲ",2,"山形県"]
[1232,"村井　里緒","ﾑﾗｲ ﾘｵ",1,"山形県"]
[1233,"海谷　麻尋","ｶｲﾔ ﾏﾋﾛ",1,"山形県"]
[1234,"高橋　麻衣子","ﾀｶﾊｼ ﾏｲｺ",4,"岩手県"]
[1235,"石井　陽菜","ｲｼｲ ﾋﾅ",3,"福島県"]
[1236,"佐藤　可奈子","ｻﾄｳ ｶﾅｺ",3,"福島県"]
[1237,"富樫　美和","ﾄｶﾞｼ ﾐﾜ",4,"山形県"]
[1238,"佐藤　有里子","ｻﾄｳ ﾕﾘｺ",2,"福島県"]
[1239,"鈴木　郁華","ｽｽﾞｷ ﾌﾐｶ",3,"福島県"]
[1240,"柴田　友理","ｼﾊﾞﾀ ﾕﾘ",2,"福島県"]
[1241,"佐藤　光彩帆","ｻﾄｳ ﾐｻﾎ","1","山形県"]
[1242,"近江谷　智里","ｵｳﾐﾔ ﾁｻﾄ","1","宮城県"]
[1243,"吉村　梢","ﾖｼﾑﾗ ｺｽﾞｴ","M1","宮城県"]
[1244,"古川　咲良","ﾌﾙｶﾜ ｻｸﾗ",1,"宮城県"]
[1245,"小川　明音","ｵｶﾞﾜ ｱｶﾈ",1,"新潟県"]
[1246,"村岡　希","ﾑﾗｵｶ ﾉｿﾞﾐ",1,"青森県"]
[1247,"佐藤　佑実佳","ｻﾄｳ ﾕﾐｶ",1,"秋田県"]
[1248,"佐々木　紀佳","ｻｻｷ ﾉﾘｶ","1","秋田県"]
[1249,"奥瀬　由南","ｵｸｾ ﾕｳﾅ",1,"山形県"]
[1250,"佐野　春奈","ｻﾉ ﾊﾙﾅ",1,"青森県"]
[1251,"阿部　ひかる","ｱﾍﾞ ﾋｶﾙ",1,"青森県"]
[1252,"卜部　仁美","ｳﾗﾍﾞ ﾋﾄﾐ","M2","東京都"]
[1253,"高島　夏子","ﾀｶｼﾏ ﾅﾂｺ",1,"宮城県"]
[1254,"塙　沙織","ﾊﾅﾜ ｻｵﾘ","4","宮城県"]

{"sheet":"エントリー種目確認","index":15,"n_rows":39,"n_cols":8,"rows_kept":39,"cut":false,"hidden":true,"merged":[[34,3,34,4],[2,1,3,5],[27,3,27,4],[8,3,8,4],[9,3,9,4],[10,3,10,4],[11,3,11,4],[18,3,18,4],[19,3,19,4],[20,3,20,4],[21,3,21,4],[22,3,22,4],[24,3,24,4],[25,3,25,4],[26,3,26,4],[32,3,32,4],[23,0,26,0],[0,0,1,7],[2,6,3,7],[12,3,12,4],[13,3,13,4],[33,3,33,4],[28,3,28,4],[29,3,29,4],[14,3,14,4],[15,3,15,4],[16,3,16,4],[23,3,23,4],[31,3,31,4],[17,3,17,4]]}
[{"$f":"東北総体!A1","v":"第69回東北地区大学体育大会陸上競技"}]
[]
[null,"    エントリー種目確認表",null,null,null,null,"（様式 Ⅳ）"]
[]
[]
[]
[null,"男子エントリー",null,null,null,"女子エントリー"]
[null,"競技種目","出場者数",null,null,"競技種目","出場者数"]
[null,"男子100m",null,null,null,"女子100m"]
[null,"男子200m",null,null,null,"女子200m"]
[null,"男子400m",null,null,null,"女子400m"]
[null,"男子800m",null,null,null,"女子800m"]
[null,"男子1500m",null,null,null,"女子1500m"]
[null,"男子5000m",null,null,null,"女子5000m"]
[null,"男子10000m",null,null,null,"女子100mH"]
[null,"男子110mH",null,null,null,"女子400mH"]
[null,"男子400mH",null,null,null,"女子走高跳"]
[null,"男子3000mSC",null,null,null,"女子走幅跳"]
[null,"男子走高跳",null,null,null,"女子三段跳"]
[null,"男子棒高跳",null,null,null,"女子砲丸投(4.000kg)"]
[null,"男子走幅跳",null,null,null,"女子円盤投(1.000kg)"]
[null,"男子三段跳",null,null,null,"女子やり投(600g)"]
[null,"男子砲丸投(7.260kg)",null,null,null,"女子4×100ｍＲ"]
[null,"男子円盤投(2.000kg)",null,null,null,"個人合計"]
[null,"男子ハンマー投(7.260kg)",null,null,null,"個人種目合計"]
[null,"男子やり投(800g)",null,null,null,"リレー合計"]
[null,"男子4×100ｍＲ"]
[null,"男子4×400ｍＲ"]
[]
[null,"個人合計",null,null,null,null,null,{"$f":"IF('リレー申込(男女)'!H26=\"\",\"\",'リレー申込(男女)'!I26)","v":""}]
[null,"個人種目合計"]
[null,"リレー合計"]
[]
[]
[null,null,null,null,null,null,{"$f":"東北総体!C25","v":0}]
[]
[null,null,null,"上記とエントリーシートに相違はありません"]
[]
[null,null,null,null,null,null,null,"㊞"]